BEGIN:VCALENDAR
VERSION:2.0
PRODID:-//Northern California Chapter of Sister Cities International - ECPv6.15.20//NONSGML v1.0//EN
CALSCALE:GREGORIAN
METHOD:PUBLISH
X-WR-CALNAME:Northern California Chapter of Sister Cities International
X-ORIGINAL-URL:https://norcalsistercities.org
X-WR-CALDESC:Events for Northern California Chapter of Sister Cities International
REFRESH-INTERVAL;VALUE=DURATION:PT1H
X-Robots-Tag:noindex
X-PUBLISHED-TTL:PT1H
BEGIN:VTIMEZONE
TZID:America/Los_Angeles
BEGIN:DAYLIGHT
TZOFFSETFROM:-0800
TZOFFSETTO:-0700
TZNAME:PDT
DTSTART:20230312T100000
END:DAYLIGHT
BEGIN:STANDARD
TZOFFSETFROM:-0700
TZOFFSETTO:-0800
TZNAME:PST
DTSTART:20231105T090000
END:STANDARD
BEGIN:DAYLIGHT
TZOFFSETFROM:-0800
TZOFFSETTO:-0700
TZNAME:PDT
DTSTART:20240310T100000
END:DAYLIGHT
BEGIN:STANDARD
TZOFFSETFROM:-0700
TZOFFSETTO:-0800
TZNAME:PST
DTSTART:20241103T090000
END:STANDARD
BEGIN:DAYLIGHT
TZOFFSETFROM:-0800
TZOFFSETTO:-0700
TZNAME:PDT
DTSTART:20250309T100000
END:DAYLIGHT
BEGIN:STANDARD
TZOFFSETFROM:-0700
TZOFFSETTO:-0800
TZNAME:PST
DTSTART:20251102T090000
END:STANDARD
END:VTIMEZONE
BEGIN:VEVENT
DTSTART;TZID=America/Los_Angeles:20240307T120000
DTEND;TZID=America/Los_Angeles:20240307T130000
DTSTAMP:20260424T175704
CREATED:20230725T222122Z
LAST-MODIFIED:20230725T222122Z
UID:10000256-1709812800-1709816400@norcalsistercities.org
SUMMARY:Stockton Sister Cities Association Board Meeting
DESCRIPTION:First Thursday of the Month
URL:https://norcalsistercities.org/events/stockton-sister-cities-association-board-meeting/2024-03-07/
LOCATION:Valley Brew\, 157 W Adams St.\, Stockton\, CA\, 95204\, United States
CATEGORIES:Meetings
ATTACH;FMTTYPE=image/jpeg:https://norcalsistercities.org/wp-content/uploads/2023/07/Stockton-Sister-Cities-Association.jpg
END:VEVENT
BEGIN:VEVENT
DTSTART;TZID=America/Los_Angeles:20240319T190000
DTEND;TZID=America/Los_Angeles:20240319T210000
DTSTAMP:20260424T175704
CREATED:20230729T014437Z
LAST-MODIFIED:20230729T014437Z
UID:10000328-1710874800-1710882000@norcalsistercities.org
SUMMARY:Oakland-Fukuoka Sister City Association general meeting
DESCRIPTION:General meetings are typically held on the third Tuesday of the month. All are welcome to attend! \nTo receive the Zoom meeting link\, email ofsca1962@gmail.com. \nThis is an open meeting using the free Zoom video/audio meeting platform. No subscription is required\, and Zoom is free to download for your desktop or mobile device\, can be used with your device’s built-in microphone/camera\, or can be joined via telephone call (audio only).
URL:https://norcalsistercities.org/events/oakland-fukuoka-sister-city-association-general-meeting/2024-03-19/
LOCATION:Zoom
CATEGORIES:Meetings
ATTACH;FMTTYPE=image/jpeg:https://norcalsistercities.org/wp-content/uploads/2023/07/Oakland-Fukuoka-Sister-City-Association-logo.jpg
ORGANIZER;CN="Oakland-Fukuoka Sister City Association":MAILTO:ofsca1962@gmail.com
END:VEVENT
BEGIN:VEVENT
DTSTART;TZID=America/Los_Angeles:20240321T183000
DTEND;TZID=America/Los_Angeles:20240321T193000
DTSTAMP:20260424T175704
CREATED:20230725T214258Z
LAST-MODIFIED:20230725T214258Z
UID:10000187-1711045800-1711049400@norcalsistercities.org
SUMMARY:Concord Ambassadors General Meeting
DESCRIPTION:
URL:https://norcalsistercities.org/events/concord-ambassadors-general-meeting/2024-03-21/
LOCATION:Concord City Hall – Garden Conference Room\, 1950 Parkside Drive\, Concord\, CA\, 94519\, United States
CATEGORIES:Meetings
ATTACH;FMTTYPE=image/jpeg:https://norcalsistercities.org/wp-content/uploads/2023/07/ConcordAmbassadors.jpg
ORGANIZER;CN="Concord Ambassadors":MAILTO:concordambassadors@gmail.com
END:VEVENT
BEGIN:VEVENT
DTSTART;TZID=America/Los_Angeles:20240328T190000
DTEND;TZID=America/Los_Angeles:20240328T200000
DTSTAMP:20260424T175704
CREATED:20241020T212144Z
LAST-MODIFIED:20241020T212144Z
UID:10000648-1711652400-1711656000@norcalsistercities.org
SUMMARY:Morgan Hill Sister Cities meeting
DESCRIPTION:Join us anytime! Meetings always welcome the general public. \nSister Cities is an all-volunteer\, membership organization formed in 2002. \nWe currently host relationships with six international cities in Italy\, Turkey\, Mexico\, Japan and Ireland.
URL:https://norcalsistercities.org/events/morgan-hill-sister-cities-meeting-3/2024-03-28/
LOCATION:Centennial Recreation Center – Senior Center\, 171 W Edmundson Avenue\, Morgan Hill\, CA\, 95037\, United States
CATEGORIES:Meetings
ATTACH;FMTTYPE=image/jpeg:https://norcalsistercities.org/wp-content/uploads/2023/09/Morgan-Hill-Sister-Cities.jpg
ORGANIZER;CN="Morgan Hill Sister Cities":MAILTO:johnkelley103@gmail.com
END:VEVENT
END:VCALENDAR