BEGIN:VCALENDAR
VERSION:2.0
PRODID:-//Northern California Chapter of Sister Cities International - ECPv6.15.20//NONSGML v1.0//EN
CALSCALE:GREGORIAN
METHOD:PUBLISH
X-WR-CALNAME:Northern California Chapter of Sister Cities International
X-ORIGINAL-URL:https://norcalsistercities.org
X-WR-CALDESC:Events for Northern California Chapter of Sister Cities International
REFRESH-INTERVAL;VALUE=DURATION:PT1H
X-Robots-Tag:noindex
X-PUBLISHED-TTL:PT1H
BEGIN:VTIMEZONE
TZID:America/Los_Angeles
BEGIN:DAYLIGHT
TZOFFSETFROM:-0800
TZOFFSETTO:-0700
TZNAME:PDT
DTSTART:20240310T100000
END:DAYLIGHT
BEGIN:STANDARD
TZOFFSETFROM:-0700
TZOFFSETTO:-0800
TZNAME:PST
DTSTART:20241103T090000
END:STANDARD
BEGIN:DAYLIGHT
TZOFFSETFROM:-0800
TZOFFSETTO:-0700
TZNAME:PDT
DTSTART:20250309T100000
END:DAYLIGHT
BEGIN:STANDARD
TZOFFSETFROM:-0700
TZOFFSETTO:-0800
TZNAME:PST
DTSTART:20251102T090000
END:STANDARD
BEGIN:DAYLIGHT
TZOFFSETFROM:-0800
TZOFFSETTO:-0700
TZNAME:PDT
DTSTART:20260308T100000
END:DAYLIGHT
BEGIN:STANDARD
TZOFFSETFROM:-0700
TZOFFSETTO:-0800
TZNAME:PST
DTSTART:20261101T090000
END:STANDARD
END:VTIMEZONE
BEGIN:VEVENT
DTSTART;TZID=America/Los_Angeles:20250403T120000
DTEND;TZID=America/Los_Angeles:20250403T130000
DTSTAMP:20260424T010806
CREATED:20230725T222122Z
LAST-MODIFIED:20230725T222122Z
UID:10000269-1743681600-1743685200@norcalsistercities.org
SUMMARY:Stockton Sister Cities Association Board Meeting
DESCRIPTION:First Thursday of the Month
URL:https://norcalsistercities.org/events/stockton-sister-cities-association-board-meeting/2025-04-03/
LOCATION:Valley Brew\, 157 W Adams St.\, Stockton\, CA\, 95204\, United States
CATEGORIES:Meetings
ATTACH;FMTTYPE=image/jpeg:https://norcalsistercities.org/wp-content/uploads/2023/07/Stockton-Sister-Cities-Association.jpg
END:VEVENT
BEGIN:VEVENT
DTSTART;TZID=America/Los_Angeles:20250407T110000
DTEND;TZID=America/Los_Angeles:20250407T123000
DTSTAMP:20260424T010806
CREATED:20230715T205717Z
LAST-MODIFIED:20230716T035322Z
UID:10000122-1744023600-1744029000@norcalsistercities.org
SUMMARY:Sonoma-Penglai Committee Meeting
DESCRIPTION:
URL:https://norcalsistercities.org/events/sonoma-penglai-committee-meeting-21/
LOCATION:Virtual
CATEGORIES:Meetings
ATTACH;FMTTYPE=image/jpeg:https://norcalsistercities.org/wp-content/uploads/2023/07/Sonoma-Penglai-Sister-City-Relationship-Symposium-banner.jpg
ORGANIZER;CN="Sonoma Sister Cities Association":MAILTO:info@sonomasistercitiesassociation.org
END:VEVENT
BEGIN:VEVENT
DTSTART;TZID=America/Los_Angeles:20250409T180000
DTEND;TZID=America/Los_Angeles:20250409T194500
DTSTAMP:20260424T010806
CREATED:20230715T205717Z
LAST-MODIFIED:20230716T034757Z
UID:10000123-1744221600-1744227900@norcalsistercities.org
SUMMARY:Sonoma-Kaniv Committee Meeting
DESCRIPTION:
URL:https://norcalsistercities.org/events/sonoma-kaniv-meeting/
LOCATION:Sonoma Library Meeting Room\, 755 West Napa\, Sonoma\, CA\, 95476\, United States
CATEGORIES:Meetings
ATTACH;FMTTYPE=image/jpeg:https://norcalsistercities.org/wp-content/uploads/2023/07/sonoma-kaniv-committee.jpg
ORGANIZER;CN="Sonoma Sister Cities Association":MAILTO:info@sonomasistercitiesassociation.org
END:VEVENT
BEGIN:VEVENT
DTSTART;TZID=America/Los_Angeles:20250415T190000
DTEND;TZID=America/Los_Angeles:20250415T210000
DTSTAMP:20260424T010806
CREATED:20230729T014437Z
LAST-MODIFIED:20230729T014437Z
UID:10000341-1744743600-1744750800@norcalsistercities.org
SUMMARY:Oakland-Fukuoka Sister City Association general meeting
DESCRIPTION:General meetings are typically held on the third Tuesday of the month. All are welcome to attend! \nTo receive the Zoom meeting link\, email ofsca1962@gmail.com. \nThis is an open meeting using the free Zoom video/audio meeting platform. No subscription is required\, and Zoom is free to download for your desktop or mobile device\, can be used with your device’s built-in microphone/camera\, or can be joined via telephone call (audio only).
URL:https://norcalsistercities.org/events/oakland-fukuoka-sister-city-association-general-meeting/2025-04-15/
LOCATION:Zoom
CATEGORIES:Meetings
ATTACH;FMTTYPE=image/jpeg:https://norcalsistercities.org/wp-content/uploads/2023/07/Oakland-Fukuoka-Sister-City-Association-logo.jpg
ORGANIZER;CN="Oakland-Fukuoka Sister City Association":MAILTO:ofsca1962@gmail.com
END:VEVENT
BEGIN:VEVENT
DTSTART;TZID=America/Los_Angeles:20250417T183000
DTEND;TZID=America/Los_Angeles:20250417T193000
DTSTAMP:20260424T010806
CREATED:20230725T214258Z
LAST-MODIFIED:20230725T214258Z
UID:10000200-1744914600-1744918200@norcalsistercities.org
SUMMARY:Concord Ambassadors General Meeting
DESCRIPTION:
URL:https://norcalsistercities.org/events/concord-ambassadors-general-meeting/2025-04-17/
LOCATION:Concord City Hall – Garden Conference Room\, 1950 Parkside Drive\, Concord\, CA\, 94519\, United States
CATEGORIES:Meetings
ATTACH;FMTTYPE=image/jpeg:https://norcalsistercities.org/wp-content/uploads/2023/07/ConcordAmbassadors.jpg
ORGANIZER;CN="Concord Ambassadors":MAILTO:concordambassadors@gmail.com
END:VEVENT
BEGIN:VEVENT
DTSTART;TZID=America/Los_Angeles:20250421T180000
DTEND;TZID=America/Los_Angeles:20250421T193000
DTSTAMP:20260424T010806
CREATED:20230715T205717Z
LAST-MODIFIED:20230716T040146Z
UID:10000124-1745258400-1745263800@norcalsistercities.org
SUMMARY:Sonoma Sister Cities Association Board of Directors Monthly Meeting
DESCRIPTION:
URL:https://norcalsistercities.org/events/sonoma-sister-cities-association-board-of-directors-monthly-meeting-21/
LOCATION:TBA
CATEGORIES:Meetings
ATTACH;FMTTYPE=image/jpeg:https://norcalsistercities.org/wp-content/uploads/2023/07/Sonoma-Sister-Cities-Association_logo.jpg
ORGANIZER;CN="Sonoma Sister Cities Association":MAILTO:info@sonomasistercitiesassociation.org
END:VEVENT
BEGIN:VEVENT
DTSTART;TZID=America/Los_Angeles:20250426T100000
DTEND;TZID=America/Los_Angeles:20250426T120000
DTSTAMP:20260424T010806
CREATED:20241020T193527Z
LAST-MODIFIED:20250125T202106Z
UID:10000571-1745661600-1745668800@norcalsistercities.org
SUMMARY:2025 2nd Quarter NorCal Chapter Board meeting
DESCRIPTION:
URL:https://norcalsistercities.org/events/2025-2nd-quarter-norcal-chapter-board-meeting-2/
LOCATION:TBD – Vallejo\, CA
CATEGORIES:Meetings
ATTACH;FMTTYPE=image/jpeg:https://norcalsistercities.org/wp-content/uploads/2022/03/Sister-Cities-International-logo.jpg
END:VEVENT
END:VCALENDAR