BEGIN:VCALENDAR
VERSION:2.0
PRODID:-//Northern California Chapter of Sister Cities International - ECPv6.15.20//NONSGML v1.0//EN
CALSCALE:GREGORIAN
METHOD:PUBLISH
X-ORIGINAL-URL:https://norcalsistercities.org
X-WR-CALDESC:Events for Northern California Chapter of Sister Cities International
REFRESH-INTERVAL;VALUE=DURATION:PT1H
X-Robots-Tag:noindex
X-PUBLISHED-TTL:PT1H
BEGIN:VTIMEZONE
TZID:America/Los_Angeles
BEGIN:DAYLIGHT
TZOFFSETFROM:-0800
TZOFFSETTO:-0700
TZNAME:PDT
DTSTART:20240310T100000
END:DAYLIGHT
BEGIN:STANDARD
TZOFFSETFROM:-0700
TZOFFSETTO:-0800
TZNAME:PST
DTSTART:20241103T090000
END:STANDARD
BEGIN:DAYLIGHT
TZOFFSETFROM:-0800
TZOFFSETTO:-0700
TZNAME:PDT
DTSTART:20250309T100000
END:DAYLIGHT
BEGIN:STANDARD
TZOFFSETFROM:-0700
TZOFFSETTO:-0800
TZNAME:PST
DTSTART:20251102T090000
END:STANDARD
BEGIN:DAYLIGHT
TZOFFSETFROM:-0800
TZOFFSETTO:-0700
TZNAME:PDT
DTSTART:20260308T100000
END:DAYLIGHT
BEGIN:STANDARD
TZOFFSETFROM:-0700
TZOFFSETTO:-0800
TZNAME:PST
DTSTART:20261101T090000
END:STANDARD
END:VTIMEZONE
BEGIN:VEVENT
DTSTART;TZID=America/Los_Angeles:20250904T120000
DTEND;TZID=America/Los_Angeles:20250904T130000
DTSTAMP:20260423T192651
CREATED:20230725T222122Z
LAST-MODIFIED:20230725T222122Z
UID:10000274-1756987200-1756990800@norcalsistercities.org
SUMMARY:Stockton Sister Cities Association Board Meeting
DESCRIPTION:First Thursday of the Month
URL:https://norcalsistercities.org/events/stockton-sister-cities-association-board-meeting/2025-09-04/
LOCATION:Valley Brew\, 157 W Adams St.\, Stockton\, CA\, 95204\, United States
CATEGORIES:Meetings
ATTACH;FMTTYPE=image/jpeg:https://norcalsistercities.org/wp-content/uploads/2023/07/Stockton-Sister-Cities-Association.jpg
END:VEVENT
BEGIN:VEVENT
DTSTART;TZID=America/Los_Angeles:20250908T180000
DTEND;TZID=America/Los_Angeles:20250908T200000
DTSTAMP:20260423T192651
CREATED:20250909T165134Z
LAST-MODIFIED:20250909T165134Z
UID:10000734-1757354400-1757361600@norcalsistercities.org
SUMMARY:Santa Cruz Sister Cities Committee meeting
DESCRIPTION:The purpose of the Committee is to encourage the people of Santa Cruz and its Sister Cities to understand one another as individuals\, as members of their community\, as citizens of their country\, and as part of the family of nations. \nAgendas and minutes
URL:https://norcalsistercities.org/events/santa-cruz-sister-cities-committee-meeting-10/
LOCATION:Santa Cruz City Council Chambers\, 809 Center Street\, Santa Cruz\, CA\, 95060\, United States
CATEGORIES:Meetings
ATTACH;FMTTYPE=image/jpeg:https://norcalsistercities.org/wp-content/uploads/2023/07/City-of-Santa-Cruz-Sister-Cities-Committee.jpg
ORGANIZER;CN="Santa Cruz Sister Cities Committee":MAILTO:sistercities@cityofsantacruz.com
END:VEVENT
BEGIN:VEVENT
DTSTART;TZID=America/Los_Angeles:20250916T180000
DTEND;TZID=America/Los_Angeles:20250916T193000
DTSTAMP:20260423T192651
CREATED:20250909T172127Z
LAST-MODIFIED:20250909T182937Z
UID:10000733-1758045600-1758051000@norcalsistercities.org
SUMMARY:Santa Cruz Sister Cities: Proposed New Sister City Conversation- Puerto Escondido\, Oaxaca\, Mexico
DESCRIPTION:This important first step toward a Sister City partnership can inspire cultural exchange\, youth initiatives\, and economic growth for Santa Cruz. Your ideas matter—come share them! \nJoin the Conversation! \nBuilding a Friendship City with Puerto Escondido\, Oaxaca\, Mexico. On September 16\, discover Puerto Escondido — our proposed friendship city. \nAgendas and minutes
URL:https://norcalsistercities.org/events/santa-cruz-sister-cities-proposed-new-sister-city-conversation-puerto-escondido-oaxaca-mexico/
LOCATION:London Nelson Community Center – Room 4\, 301 Center St\, Santa Cruz\, 95060\, United States
CATEGORIES:Meetings
ATTACH;FMTTYPE=image/jpeg:https://norcalsistercities.org/wp-content/uploads/2023/07/City-of-Santa-Cruz-Sister-Cities-Committee.jpg
ORGANIZER;CN="Santa Cruz Sister Cities Committee":MAILTO:sistercities@cityofsantacruz.com
END:VEVENT
BEGIN:VEVENT
DTSTART;TZID=America/Los_Angeles:20250916T190000
DTEND;TZID=America/Los_Angeles:20250916T210000
DTSTAMP:20260423T192651
CREATED:20230729T014437Z
LAST-MODIFIED:20230729T014437Z
UID:10000346-1758049200-1758056400@norcalsistercities.org
SUMMARY:Oakland-Fukuoka Sister City Association general meeting
DESCRIPTION:General meetings are typically held on the third Tuesday of the month. All are welcome to attend! \nTo receive the Zoom meeting link\, email ofsca1962@gmail.com. \nThis is an open meeting using the free Zoom video/audio meeting platform. No subscription is required\, and Zoom is free to download for your desktop or mobile device\, can be used with your device’s built-in microphone/camera\, or can be joined via telephone call (audio only).
URL:https://norcalsistercities.org/events/oakland-fukuoka-sister-city-association-general-meeting/2025-09-16/
LOCATION:Zoom
CATEGORIES:Meetings
ATTACH;FMTTYPE=image/jpeg:https://norcalsistercities.org/wp-content/uploads/2023/07/Oakland-Fukuoka-Sister-City-Association-logo.jpg
ORGANIZER;CN="Oakland-Fukuoka Sister City Association":MAILTO:ofsca1962@gmail.com
END:VEVENT
BEGIN:VEVENT
DTSTART;TZID=America/Los_Angeles:20250918T183000
DTEND;TZID=America/Los_Angeles:20250918T193000
DTSTAMP:20260423T192651
CREATED:20230725T214258Z
LAST-MODIFIED:20230725T214258Z
UID:10000205-1758220200-1758223800@norcalsistercities.org
SUMMARY:Concord Ambassadors General Meeting
DESCRIPTION:
URL:https://norcalsistercities.org/events/concord-ambassadors-general-meeting/2025-09-18/
LOCATION:Concord City Hall – Garden Conference Room\, 1950 Parkside Drive\, Concord\, CA\, 94519\, United States
CATEGORIES:Meetings
ATTACH;FMTTYPE=image/jpeg:https://norcalsistercities.org/wp-content/uploads/2023/07/ConcordAmbassadors.jpg
ORGANIZER;CN="Concord Ambassadors":MAILTO:concordambassadors@gmail.com
END:VEVENT
BEGIN:VEVENT
DTSTART;TZID=America/Los_Angeles:20250925T190000
DTEND;TZID=America/Los_Angeles:20250925T200000
DTSTAMP:20260423T192651
CREATED:20241020T220610Z
LAST-MODIFIED:20241020T220613Z
UID:10000657-1758826800-1758830400@norcalsistercities.org
SUMMARY:Morgan Hill Sister Cities meeting
DESCRIPTION:Join us anytime! Meetings always welcome the general public. \nSister Cities is an all-volunteer\, membership organization formed in 2002. \nWe currently host relationships with six international cities in Italy\, Turkey\, Mexico\, Japan and Ireland.
URL:https://norcalsistercities.org/events/morgan-hill-sister-cities-meeting-3-2/2025-09-25/
LOCATION:Centennial Recreation Center – Senior Center\, 171 W Edmundson Avenue\, Morgan Hill\, CA\, 95037\, United States
CATEGORIES:Meetings
ATTACH;FMTTYPE=image/jpeg:https://norcalsistercities.org/wp-content/uploads/2023/09/Morgan-Hill-Sister-Cities.jpg
ORGANIZER;CN="Morgan Hill Sister Cities":MAILTO:johnkelley103@gmail.com
END:VEVENT
END:VCALENDAR