BEGIN:VCALENDAR
VERSION:2.0
PRODID:-//Northern California Chapter of Sister Cities International - ECPv6.15.20//NONSGML v1.0//EN
CALSCALE:GREGORIAN
METHOD:PUBLISH
X-ORIGINAL-URL:https://norcalsistercities.org
X-WR-CALDESC:Events for Northern California Chapter of Sister Cities International
REFRESH-INTERVAL;VALUE=DURATION:PT1H
X-Robots-Tag:noindex
X-PUBLISHED-TTL:PT1H
BEGIN:VTIMEZONE
TZID:America/Los_Angeles
BEGIN:DAYLIGHT
TZOFFSETFROM:-0800
TZOFFSETTO:-0700
TZNAME:PDT
DTSTART:20250309T100000
END:DAYLIGHT
BEGIN:STANDARD
TZOFFSETFROM:-0700
TZOFFSETTO:-0800
TZNAME:PST
DTSTART:20251102T090000
END:STANDARD
BEGIN:DAYLIGHT
TZOFFSETFROM:-0800
TZOFFSETTO:-0700
TZNAME:PDT
DTSTART:20260308T100000
END:DAYLIGHT
BEGIN:STANDARD
TZOFFSETFROM:-0700
TZOFFSETTO:-0800
TZNAME:PST
DTSTART:20261101T090000
END:STANDARD
BEGIN:DAYLIGHT
TZOFFSETFROM:-0800
TZOFFSETTO:-0700
TZNAME:PDT
DTSTART:20270314T100000
END:DAYLIGHT
BEGIN:STANDARD
TZOFFSETFROM:-0700
TZOFFSETTO:-0800
TZNAME:PST
DTSTART:20271107T090000
END:STANDARD
END:VTIMEZONE
BEGIN:VEVENT
DTSTART;TZID=America/Los_Angeles:20260305T120000
DTEND;TZID=America/Los_Angeles:20260305T130000
DTSTAMP:20260423T111614
CREATED:20230725T222122Z
LAST-MODIFIED:20230725T222122Z
UID:10000280-1772712000-1772715600@norcalsistercities.org
SUMMARY:Stockton Sister Cities Association Board Meeting
DESCRIPTION:First Thursday of the Month
URL:https://norcalsistercities.org/events/stockton-sister-cities-association-board-meeting/2026-03-05/
LOCATION:Valley Brew\, 157 W Adams St.\, Stockton\, CA\, 95204\, United States
CATEGORIES:Meetings
ATTACH;FMTTYPE=image/jpeg:https://norcalsistercities.org/wp-content/uploads/2023/07/Stockton-Sister-Cities-Association.jpg
END:VEVENT
BEGIN:VEVENT
DTSTART;TZID=America/Los_Angeles:20260306T170000
DTEND;TZID=America/Los_Angeles:20260307T213000
DTSTAMP:20260423T111614
CREATED:20260113T212254Z
LAST-MODIFIED:20260213T194003Z
UID:10000739-1772816400-1772919000@norcalsistercities.org
SUMMARY:Sister Cities International: 2026 Spring Leadership Meeting - San Jose\, California
DESCRIPTION:Join Sister Cities International for the 2026 Spring Leadership Meetings in San Jose\, California! SCI Members and SCI Leadership Teams are invited to attend. \nMarch 6-7\, 2026\nSan Jose\, CA \nDeadline for a refund is Feb. 20 by 11:59 p.m. ET \nRegister online (special pricing for NorCal SCI)\nTentative Schedule\nAll times are Pacific Time \nFriday\, March 6\, 2026 \n\n5 p.m. – Honorary Board/1956 Society Happy Hour – Dutch treat\n6:30 p.m. – San Jose Mayor’s Welcome Reception and Tribute to Tim Quigley (heavy apps and cash bar)\nHosted by: The San Jose-Dublin Sister City group\n\nSaturday\, March 7\, 2026 \nBreakfast on your own \n\n9 a.m. – State/Region/Country Reps meeting\n11 a.m. – Special session with NorCal (NorCal is also welcome to come to the 9am meeting)\nNoon – Box lunch provided\n12:45 p.m. – Sports Diplomacy Panel\nHosted by: Past Olympian Tommy O’Hare (Super Bowl\, NCAA basketball championship\, FIFA\, LA28 Olympic Games)\nHear from Team San Jose\, Sports Authority on their marketing plans!\n2 p.m. – SCI Board Meeting
URL:https://norcalsistercities.org/events/sister-cities-international-2026-spring-leadership-meeting-san-jose-california/
LOCATION:Virtual
CATEGORIES:Meetings
ATTACH;FMTTYPE=image/jpeg:https://norcalsistercities.org/wp-content/uploads/2026/01/Greetings-from-San-Jose-Postcard-2.jpg
ORGANIZER;CN="Sister Cities International":MAILTO:info@sistercities.org
END:VEVENT
BEGIN:VEVENT
DTSTART;TZID=America/Los_Angeles:20260309T180000
DTEND;TZID=America/Los_Angeles:20260309T190000
DTSTAMP:20260423T111614
CREATED:20260420T002239Z
LAST-MODIFIED:20260420T002239Z
UID:10001254-1773079200-1773082800@norcalsistercities.org
SUMMARY:Sonoma Sister Cities Association Board Meeting
DESCRIPTION:
URL:https://norcalsistercities.org/events/sonoma-sister-cities-association-board-meeting/
LOCATION:TBD
CATEGORIES:Meetings
ORGANIZER;CN="Sonoma Sister Cities Association":MAILTO:info@sonomasistercitiesassociation.org
END:VEVENT
BEGIN:VEVENT
DTSTART;TZID=America/Los_Angeles:20260317T190000
DTEND;TZID=America/Los_Angeles:20260317T210000
DTSTAMP:20260423T111614
CREATED:20230729T014437Z
LAST-MODIFIED:20230729T014437Z
UID:10000352-1773774000-1773781200@norcalsistercities.org
SUMMARY:Oakland-Fukuoka Sister City Association general meeting
DESCRIPTION:General meetings are typically held on the third Tuesday of the month. All are welcome to attend! \nTo receive the Zoom meeting link\, email ofsca1962@gmail.com. \nThis is an open meeting using the free Zoom video/audio meeting platform. No subscription is required\, and Zoom is free to download for your desktop or mobile device\, can be used with your device’s built-in microphone/camera\, or can be joined via telephone call (audio only).
URL:https://norcalsistercities.org/events/oakland-fukuoka-sister-city-association-general-meeting/2026-03-17/
LOCATION:Zoom
CATEGORIES:Meetings
ATTACH;FMTTYPE=image/jpeg:https://norcalsistercities.org/wp-content/uploads/2023/07/Oakland-Fukuoka-Sister-City-Association-logo.jpg
ORGANIZER;CN="Oakland-Fukuoka Sister City Association":MAILTO:ofsca1962@gmail.com
END:VEVENT
BEGIN:VEVENT
DTSTART;TZID=America/Los_Angeles:20260319T183000
DTEND;TZID=America/Los_Angeles:20260319T193000
DTSTAMP:20260423T111614
CREATED:20230725T214258Z
LAST-MODIFIED:20230725T214258Z
UID:10000211-1773945000-1773948600@norcalsistercities.org
SUMMARY:Concord Ambassadors General Meeting
DESCRIPTION:
URL:https://norcalsistercities.org/events/concord-ambassadors-general-meeting/2026-03-19/
LOCATION:Concord City Hall – Garden Conference Room\, 1950 Parkside Drive\, Concord\, CA\, 94519\, United States
CATEGORIES:Meetings
ATTACH;FMTTYPE=image/jpeg:https://norcalsistercities.org/wp-content/uploads/2023/07/ConcordAmbassadors.jpg
ORGANIZER;CN="Concord Ambassadors":MAILTO:concordambassadors@gmail.com
END:VEVENT
BEGIN:VEVENT
DTSTART;TZID=America/Los_Angeles:20260326T190000
DTEND;TZID=America/Los_Angeles:20260326T200000
DTSTAMP:20260423T111614
CREATED:20241020T220610Z
LAST-MODIFIED:20241020T220613Z
UID:10000660-1774551600-1774555200@norcalsistercities.org
SUMMARY:Morgan Hill Sister Cities meeting
DESCRIPTION:Join us anytime! Meetings always welcome the general public. \nSister Cities is an all-volunteer\, membership organization formed in 2002. \nWe currently host relationships with six international cities in Italy\, Turkey\, Mexico\, Japan and Ireland.
URL:https://norcalsistercities.org/events/morgan-hill-sister-cities-meeting-3-2/2026-03-26/
LOCATION:Centennial Recreation Center – Senior Center\, 171 W Edmundson Avenue\, Morgan Hill\, CA\, 95037\, United States
CATEGORIES:Meetings
ATTACH;FMTTYPE=image/jpeg:https://norcalsistercities.org/wp-content/uploads/2023/09/Morgan-Hill-Sister-Cities.jpg
ORGANIZER;CN="Morgan Hill Sister Cities":MAILTO:johnkelley103@gmail.com
END:VEVENT
END:VCALENDAR