BEGIN:VCALENDAR
VERSION:2.0
PRODID:-//Northern California Chapter of Sister Cities International - ECPv6.15.20//NONSGML v1.0//EN
CALSCALE:GREGORIAN
METHOD:PUBLISH
X-ORIGINAL-URL:https://norcalsistercities.org
X-WR-CALDESC:Events for Northern California Chapter of Sister Cities International
REFRESH-INTERVAL;VALUE=DURATION:PT1H
X-Robots-Tag:noindex
X-PUBLISHED-TTL:PT1H
BEGIN:VTIMEZONE
TZID:America/Los_Angeles
BEGIN:DAYLIGHT
TZOFFSETFROM:-0800
TZOFFSETTO:-0700
TZNAME:PDT
DTSTART:20220313T100000
END:DAYLIGHT
BEGIN:STANDARD
TZOFFSETFROM:-0700
TZOFFSETTO:-0800
TZNAME:PST
DTSTART:20221106T090000
END:STANDARD
BEGIN:DAYLIGHT
TZOFFSETFROM:-0800
TZOFFSETTO:-0700
TZNAME:PDT
DTSTART:20230312T100000
END:DAYLIGHT
BEGIN:STANDARD
TZOFFSETFROM:-0700
TZOFFSETTO:-0800
TZNAME:PST
DTSTART:20231105T090000
END:STANDARD
BEGIN:DAYLIGHT
TZOFFSETFROM:-0800
TZOFFSETTO:-0700
TZNAME:PDT
DTSTART:20240310T100000
END:DAYLIGHT
BEGIN:STANDARD
TZOFFSETFROM:-0700
TZOFFSETTO:-0800
TZNAME:PST
DTSTART:20241103T090000
END:STANDARD
END:VTIMEZONE
BEGIN:VEVENT
DTSTART;TZID=America/Los_Angeles:20231121T190000
DTEND;TZID=America/Los_Angeles:20231121T210000
DTSTAMP:20260424T081416
CREATED:20230729T014437Z
LAST-MODIFIED:20230729T014437Z
UID:10000324-1700593200-1700600400@norcalsistercities.org
SUMMARY:Oakland-Fukuoka Sister City Association general meeting
DESCRIPTION:General meetings are typically held on the third Tuesday of the month. All are welcome to attend! \nTo receive the Zoom meeting link\, email ofsca1962@gmail.com. \nThis is an open meeting using the free Zoom video/audio meeting platform. No subscription is required\, and Zoom is free to download for your desktop or mobile device\, can be used with your device’s built-in microphone/camera\, or can be joined via telephone call (audio only).
URL:https://norcalsistercities.org/events/oakland-fukuoka-sister-city-association-general-meeting/2023-11-21/
LOCATION:Zoom
CATEGORIES:Meetings
ATTACH;FMTTYPE=image/jpeg:https://norcalsistercities.org/wp-content/uploads/2023/07/Oakland-Fukuoka-Sister-City-Association-logo.jpg
ORGANIZER;CN="Oakland-Fukuoka Sister City Association":MAILTO:ofsca1962@gmail.com
END:VEVENT
BEGIN:VEVENT
DTSTART;TZID=America/Los_Angeles:20231116T183000
DTEND;TZID=America/Los_Angeles:20231116T193000
DTSTAMP:20260424T081416
CREATED:20230725T214258Z
LAST-MODIFIED:20230725T214258Z
UID:10000183-1700159400-1700163000@norcalsistercities.org
SUMMARY:Concord Ambassadors General Meeting
DESCRIPTION:
URL:https://norcalsistercities.org/events/concord-ambassadors-general-meeting/2023-11-16/
LOCATION:Concord City Hall – Garden Conference Room\, 1950 Parkside Drive\, Concord\, CA\, 94519\, United States
CATEGORIES:Meetings
ATTACH;FMTTYPE=image/jpeg:https://norcalsistercities.org/wp-content/uploads/2023/07/ConcordAmbassadors.jpg
ORGANIZER;CN="Concord Ambassadors":MAILTO:concordambassadors@gmail.com
END:VEVENT
BEGIN:VEVENT
DTSTART;TZID=America/Los_Angeles:20231113T190000
DTEND;TZID=America/Los_Angeles:20231113T210000
DTSTAMP:20260424T081416
CREATED:20230720T081600Z
LAST-MODIFIED:20230720T081600Z
UID:10000153-1699902000-1699909200@norcalsistercities.org
SUMMARY:Santa Cruz Sister Cities Committee meeting
DESCRIPTION:The purpose of the Committee is to encourage the people of Santa Cruz and its Sister Cities to understand one another as individuals\, as members of their community\, as citizens of their country\, and as part of the family of nations. \nAgendas and minutes
URL:https://norcalsistercities.org/events/santa-cruz-sister-cities-committee-meeting-2/
LOCATION:Zoom
CATEGORIES:Meetings
ATTACH;FMTTYPE=image/jpeg:https://norcalsistercities.org/wp-content/uploads/2023/07/City-of-Santa-Cruz-Sister-Cities-Committee.jpg
ORGANIZER;CN="Santa Cruz Sister Cities Committee":MAILTO:sistercities@cityofsantacruz.com
END:VEVENT
BEGIN:VEVENT
DTSTART;TZID=America/Los_Angeles:20231106T190000
DTEND;TZID=America/Los_Angeles:20231106T200000
DTSTAMP:20260424T081416
CREATED:20230720T060020Z
LAST-MODIFIED:20230720T060020Z
UID:10000146-1699297200-1699300800@norcalsistercities.org
SUMMARY:Walnut Creek Sister Cities International Board Meeting
DESCRIPTION:
URL:https://norcalsistercities.org/events/walnut-creek-sister-cities-international-board-meeting-2/
LOCATION:TBA
CATEGORIES:Meetings
ATTACH;FMTTYPE=image/jpeg:https://norcalsistercities.org/wp-content/uploads/2023/07/Walnut-Creek-Sister-Cities-sign-in-Civic-Park.jpg
ORGANIZER;CN="Walnut Creek Sister Cities International":MAILTO:newsletter@wcsci.org
END:VEVENT
BEGIN:VEVENT
DTSTART;TZID=America/Los_Angeles:20231102T120000
DTEND;TZID=America/Los_Angeles:20231102T130000
DTSTAMP:20260424T081416
CREATED:20230725T222122Z
LAST-MODIFIED:20230725T222122Z
UID:10000252-1698926400-1698930000@norcalsistercities.org
SUMMARY:Stockton Sister Cities Association Board Meeting
DESCRIPTION:First Thursday of the Month
URL:https://norcalsistercities.org/events/stockton-sister-cities-association-board-meeting/2023-11-02/
LOCATION:Valley Brew\, 157 W Adams St.\, Stockton\, CA\, 95204\, United States
CATEGORIES:Meetings
ATTACH;FMTTYPE=image/jpeg:https://norcalsistercities.org/wp-content/uploads/2023/07/Stockton-Sister-Cities-Association.jpg
END:VEVENT
BEGIN:VEVENT
DTSTART;TZID=America/Los_Angeles:20231019T183000
DTEND;TZID=America/Los_Angeles:20231019T193000
DTSTAMP:20260424T081416
CREATED:20230725T214258Z
LAST-MODIFIED:20230725T214258Z
UID:10000182-1697740200-1697743800@norcalsistercities.org
SUMMARY:Concord Ambassadors General Meeting
DESCRIPTION:
URL:https://norcalsistercities.org/events/concord-ambassadors-general-meeting/2023-10-19/
LOCATION:Concord City Hall – Garden Conference Room\, 1950 Parkside Drive\, Concord\, CA\, 94519\, United States
CATEGORIES:Meetings
ATTACH;FMTTYPE=image/jpeg:https://norcalsistercities.org/wp-content/uploads/2023/07/ConcordAmbassadors.jpg
ORGANIZER;CN="Concord Ambassadors":MAILTO:concordambassadors@gmail.com
END:VEVENT
BEGIN:VEVENT
DTSTART;TZID=America/Los_Angeles:20231017T190000
DTEND;TZID=America/Los_Angeles:20231017T210000
DTSTAMP:20260424T081416
CREATED:20230729T014437Z
LAST-MODIFIED:20230729T014437Z
UID:10000323-1697569200-1697576400@norcalsistercities.org
SUMMARY:Oakland-Fukuoka Sister City Association general meeting
DESCRIPTION:General meetings are typically held on the third Tuesday of the month. All are welcome to attend! \nTo receive the Zoom meeting link\, email ofsca1962@gmail.com. \nThis is an open meeting using the free Zoom video/audio meeting platform. No subscription is required\, and Zoom is free to download for your desktop or mobile device\, can be used with your device’s built-in microphone/camera\, or can be joined via telephone call (audio only).
URL:https://norcalsistercities.org/events/oakland-fukuoka-sister-city-association-general-meeting/2023-10-17/
LOCATION:Zoom
CATEGORIES:Meetings
ATTACH;FMTTYPE=image/jpeg:https://norcalsistercities.org/wp-content/uploads/2023/07/Oakland-Fukuoka-Sister-City-Association-logo.jpg
ORGANIZER;CN="Oakland-Fukuoka Sister City Association":MAILTO:ofsca1962@gmail.com
END:VEVENT
BEGIN:VEVENT
DTSTART;TZID=America/Los_Angeles:20231017T180000
DTEND;TZID=America/Los_Angeles:20231017T200000
DTSTAMP:20260424T081416
CREATED:20230720T060323Z
LAST-MODIFIED:20230720T060323Z
UID:10000148-1697565600-1697572800@norcalsistercities.org
SUMMARY:Walnut Creek Sister Cities International City Council Presentation and Membership Meeting
DESCRIPTION:
URL:https://norcalsistercities.org/events/walnut-creek-sister-cities-international-city-council-presentation-and-membership-meeting/
LOCATION:TBA
CATEGORIES:Meetings
ATTACH;FMTTYPE=image/jpeg:https://norcalsistercities.org/wp-content/uploads/2023/07/Walnut-Creek-Sister-Cities-sign-in-Civic-Park.jpg
ORGANIZER;CN="Walnut Creek Sister Cities International":MAILTO:newsletter@wcsci.org
END:VEVENT
BEGIN:VEVENT
DTSTART;TZID=America/Los_Angeles:20231012T173000
DTEND;TZID=America/Los_Angeles:20231012T190000
DTSTAMP:20260424T081416
CREATED:20231010T221134Z
LAST-MODIFIED:20231010T221134Z
UID:10000446-1697131800-1697137200@norcalsistercities.org
SUMMARY:Sister Cities of Fresno General Board Meeting
DESCRIPTION:This is a general board meeting. Board meetings are open to the public.
URL:https://norcalsistercities.org/events/sister-cities-of-fresno-general-board-meeting/
LOCATION:Pacific Southwest Building\, 3rd Fl meeting room\, 1060 Fulton St\, Fresno\, CA\, 93721\, United States
CATEGORIES:Meetings
ATTACH;FMTTYPE=image/jpeg:https://norcalsistercities.org/wp-content/uploads/2023/10/Fresno-California.jpg
END:VEVENT
BEGIN:VEVENT
DTSTART;TZID=America/Los_Angeles:20231005T120000
DTEND;TZID=America/Los_Angeles:20231005T130000
DTSTAMP:20260424T081416
CREATED:20230725T222122Z
LAST-MODIFIED:20230725T222122Z
UID:10000251-1696507200-1696510800@norcalsistercities.org
SUMMARY:Stockton Sister Cities Association Board Meeting
DESCRIPTION:First Thursday of the Month
URL:https://norcalsistercities.org/events/stockton-sister-cities-association-board-meeting/2023-10-05/
LOCATION:Valley Brew\, 157 W Adams St.\, Stockton\, CA\, 95204\, United States
CATEGORIES:Meetings
ATTACH;FMTTYPE=image/jpeg:https://norcalsistercities.org/wp-content/uploads/2023/07/Stockton-Sister-Cities-Association.jpg
END:VEVENT
BEGIN:VEVENT
DTSTART;TZID=America/Los_Angeles:20230928T190000
DTEND;TZID=America/Los_Angeles:20230928T200000
DTSTAMP:20260424T081416
CREATED:20241020T220610Z
LAST-MODIFIED:20241020T220613Z
UID:10000682-1695927600-1695931200@norcalsistercities.org
SUMMARY:Morgan Hill Sister Cities meeting
DESCRIPTION:Join us anytime! Meetings always welcome the general public. \nSister Cities is an all-volunteer\, membership organization formed in 2002. \nWe currently host relationships with six international cities in Italy\, Turkey\, Mexico\, Japan and Ireland.
URL:https://norcalsistercities.org/events/morgan-hill-sister-cities-meeting-3-2/2023-09-28/
LOCATION:Centennial Recreation Center – Senior Center\, 171 W Edmundson Avenue\, Morgan Hill\, CA\, 95037\, United States
CATEGORIES:Meetings
ATTACH;FMTTYPE=image/jpeg:https://norcalsistercities.org/wp-content/uploads/2023/09/Morgan-Hill-Sister-Cities.jpg
ORGANIZER;CN="Morgan Hill Sister Cities":MAILTO:johnkelley103@gmail.com
END:VEVENT
BEGIN:VEVENT
DTSTART;VALUE=DATE:20230928
DTEND;VALUE=DATE:20231008
DTSTAMP:20260424T081416
CREATED:20230720T061215Z
LAST-MODIFIED:20230720T061215Z
UID:10000149-1695859200-1696723199@norcalsistercities.org
SUMMARY:Walnut Creek Sister Cities International Youth Ambassador Exchange to Italy
DESCRIPTION:We are look forward to re-starting the program after a 4 year hiatus due to COVID-19 and hope to send a cohort of 8th graders in the fall of 2023.\nSince 2012\, WCSCI has organized annual exchanges for 8th grade students to our two sister cities. The program is referred to Youth Ambassador Exchange or YAE!!\, the two exclamation marks representing our two sister cities. \nStudents residing in Walnut Creek travel on a 10 day home stay with a family in one of our sister cities\, Siófok\, Hungary or Noceto\, Italy. This is not a school organized program\, however we keep the schools informed of the program dates and activities\, and have been fortunate to work with supportive staff and administration. In addition to the student ambassadors\, parent chaperone(s) and a teacher chaperone accompany the kids on this adventure of a lifetime! \nThe students get an opportunity to experience life as a teenager in another country\, learn about a new culture\, and gain experience in travel and independence. The student ambassadors are matched up with a host student and family\, and become part of their family for a week. There are daily group activities organized by our hosts that provide our ambassadors with an opportunity to experience their culture. Examples of the actives include: visiting the school\, meeting with city officials\, learning about regional industries\, visiting nearby sites and cities\, and experiencing everyday life; such as bike riding with friends around town or going to the local market. \nThis is a 100% volunteer run program organized by current WCSCI members and participating students and families. All the families that participate are responsible for organizing host week for our friends that travel to Walnut Creek in the spring (typically in April). We have found that the participating families are always eager and excited to showcase our city to our friends\, and return the hospitality their child received in the host cities.
URL:https://norcalsistercities.org/events/walnut-creek-sister-cities-international-youth-ambassador-exchange-to-italy/
LOCATION:CA
CATEGORIES:Meetings
ATTACH;FMTTYPE=image/jpeg:https://norcalsistercities.org/wp-content/uploads/2023/07/Walnut-Creek-Sister-Cities-sign-in-Civic-Park.jpg
ORGANIZER;CN="Walnut Creek Sister Cities International":MAILTO:newsletter@wcsci.org
END:VEVENT
BEGIN:VEVENT
DTSTART;TZID=America/Los_Angeles:20230925T180000
DTEND;TZID=America/Los_Angeles:20230925T190000
DTSTAMP:20260424T081416
CREATED:20230723T003311Z
LAST-MODIFIED:20230723T003311Z
UID:10000156-1695664800-1695668400@norcalsistercities.org
SUMMARY:Lodi Sister City Committee meeting
DESCRIPTION:
URL:https://norcalsistercities.org/events/lodi-sister-city-committee-meeting/
LOCATION:Lodi Japanese Community Hall\, 210 E Elm St.\, Lodi\, CA\, 95240\, United States
CATEGORIES:Meetings
ATTACH;FMTTYPE=image/jpeg:https://norcalsistercities.org/wp-content/uploads/2023/07/Lodi-California-logo.jpg
ORGANIZER;CN="Lodi Sister CIty Committee":MAILTO:cityclerk@lodi.gov
END:VEVENT
BEGIN:VEVENT
DTSTART;TZID=America/Los_Angeles:20230921T183000
DTEND;TZID=America/Los_Angeles:20230921T193000
DTSTAMP:20260424T081416
CREATED:20230725T214258Z
LAST-MODIFIED:20230725T214258Z
UID:10000181-1695321000-1695324600@norcalsistercities.org
SUMMARY:Concord Ambassadors General Meeting
DESCRIPTION:
URL:https://norcalsistercities.org/events/concord-ambassadors-general-meeting/2023-09-21/
LOCATION:Concord City Hall – Garden Conference Room\, 1950 Parkside Drive\, Concord\, CA\, 94519\, United States
CATEGORIES:Meetings
ATTACH;FMTTYPE=image/jpeg:https://norcalsistercities.org/wp-content/uploads/2023/07/ConcordAmbassadors.jpg
ORGANIZER;CN="Concord Ambassadors":MAILTO:concordambassadors@gmail.com
END:VEVENT
BEGIN:VEVENT
DTSTART;TZID=America/Los_Angeles:20230919T190000
DTEND;TZID=America/Los_Angeles:20230919T210000
DTSTAMP:20260424T081416
CREATED:20230729T014437Z
LAST-MODIFIED:20230729T014437Z
UID:10000322-1695150000-1695157200@norcalsistercities.org
SUMMARY:Oakland-Fukuoka Sister City Association general meeting
DESCRIPTION:General meetings are typically held on the third Tuesday of the month. All are welcome to attend! \nTo receive the Zoom meeting link\, email ofsca1962@gmail.com. \nThis is an open meeting using the free Zoom video/audio meeting platform. No subscription is required\, and Zoom is free to download for your desktop or mobile device\, can be used with your device’s built-in microphone/camera\, or can be joined via telephone call (audio only).
URL:https://norcalsistercities.org/events/oakland-fukuoka-sister-city-association-general-meeting/2023-09-19/
LOCATION:Zoom
CATEGORIES:Meetings
ATTACH;FMTTYPE=image/jpeg:https://norcalsistercities.org/wp-content/uploads/2023/07/Oakland-Fukuoka-Sister-City-Association-logo.jpg
ORGANIZER;CN="Oakland-Fukuoka Sister City Association":MAILTO:ofsca1962@gmail.com
END:VEVENT
BEGIN:VEVENT
DTSTART;TZID=America/Los_Angeles:20230911T190000
DTEND;TZID=America/Los_Angeles:20230911T210000
DTSTAMP:20260424T081416
CREATED:20230720T081517Z
LAST-MODIFIED:20230720T081517Z
UID:10000152-1694458800-1694466000@norcalsistercities.org
SUMMARY:Santa Cruz Sister Cities Committee meeting
DESCRIPTION:The purpose of the Committee is to encourage the people of Santa Cruz and its Sister Cities to understand one another as individuals\, as members of their community\, as citizens of their country\, and as part of the family of nations. \nAgendas and minutes
URL:https://norcalsistercities.org/events/santa-cruz-sister-cities-committee-meeting/
LOCATION:Zoom
CATEGORIES:Meetings
ATTACH;FMTTYPE=image/jpeg:https://norcalsistercities.org/wp-content/uploads/2023/07/City-of-Santa-Cruz-Sister-Cities-Committee.jpg
ORGANIZER;CN="Santa Cruz Sister Cities Committee":MAILTO:sistercities@cityofsantacruz.com
END:VEVENT
BEGIN:VEVENT
DTSTART;TZID=America/Los_Angeles:20230911T190000
DTEND;TZID=America/Los_Angeles:20230911T200000
DTSTAMP:20260424T081416
CREATED:20230720T055816Z
LAST-MODIFIED:20230720T055816Z
UID:10000145-1694458800-1694462400@norcalsistercities.org
SUMMARY:Walnut Creek Sister Cities International Board Meeting
DESCRIPTION:
URL:https://norcalsistercities.org/events/walnut-creek-sister-cities-international-board-meeting/
LOCATION:TBA
CATEGORIES:Meetings
ATTACH;FMTTYPE=image/jpeg:https://norcalsistercities.org/wp-content/uploads/2023/07/Walnut-Creek-Sister-Cities-sign-in-Civic-Park.jpg
ORGANIZER;CN="Walnut Creek Sister Cities International":MAILTO:newsletter@wcsci.org
END:VEVENT
BEGIN:VEVENT
DTSTART;TZID=America/Los_Angeles:20230907T120000
DTEND;TZID=America/Los_Angeles:20230907T130000
DTSTAMP:20260424T081416
CREATED:20230725T222122Z
LAST-MODIFIED:20230725T222122Z
UID:10000250-1694088000-1694091600@norcalsistercities.org
SUMMARY:Stockton Sister Cities Association Board Meeting
DESCRIPTION:First Thursday of the Month
URL:https://norcalsistercities.org/events/stockton-sister-cities-association-board-meeting/2023-09-07/
LOCATION:Valley Brew\, 157 W Adams St.\, Stockton\, CA\, 95204\, United States
CATEGORIES:Meetings
ATTACH;FMTTYPE=image/jpeg:https://norcalsistercities.org/wp-content/uploads/2023/07/Stockton-Sister-Cities-Association.jpg
END:VEVENT
BEGIN:VEVENT
DTSTART;TZID=America/Los_Angeles:20230817T183000
DTEND;TZID=America/Los_Angeles:20230817T193000
DTSTAMP:20260424T081416
CREATED:20230725T214258Z
LAST-MODIFIED:20230725T214258Z
UID:10000180-1692297000-1692300600@norcalsistercities.org
SUMMARY:Concord Ambassadors General Meeting
DESCRIPTION:
URL:https://norcalsistercities.org/events/concord-ambassadors-general-meeting/2023-08-17/
LOCATION:Concord City Hall – Garden Conference Room\, 1950 Parkside Drive\, Concord\, CA\, 94519\, United States
CATEGORIES:Meetings
ATTACH;FMTTYPE=image/jpeg:https://norcalsistercities.org/wp-content/uploads/2023/07/ConcordAmbassadors.jpg
ORGANIZER;CN="Concord Ambassadors":MAILTO:concordambassadors@gmail.com
END:VEVENT
BEGIN:VEVENT
DTSTART;TZID=America/Los_Angeles:20230815T190000
DTEND;TZID=America/Los_Angeles:20230815T210000
DTSTAMP:20260424T081416
CREATED:20230729T014437Z
LAST-MODIFIED:20230729T014437Z
UID:10000321-1692126000-1692133200@norcalsistercities.org
SUMMARY:Oakland-Fukuoka Sister City Association general meeting
DESCRIPTION:General meetings are typically held on the third Tuesday of the month. All are welcome to attend! \nTo receive the Zoom meeting link\, email ofsca1962@gmail.com. \nThis is an open meeting using the free Zoom video/audio meeting platform. No subscription is required\, and Zoom is free to download for your desktop or mobile device\, can be used with your device’s built-in microphone/camera\, or can be joined via telephone call (audio only).
URL:https://norcalsistercities.org/events/oakland-fukuoka-sister-city-association-general-meeting/2023-08-15/
LOCATION:Zoom
CATEGORIES:Meetings
ATTACH;FMTTYPE=image/jpeg:https://norcalsistercities.org/wp-content/uploads/2023/07/Oakland-Fukuoka-Sister-City-Association-logo.jpg
ORGANIZER;CN="Oakland-Fukuoka Sister City Association":MAILTO:ofsca1962@gmail.com
END:VEVENT
BEGIN:VEVENT
DTSTART;TZID=America/Los_Angeles:20230803T120000
DTEND;TZID=America/Los_Angeles:20230803T130000
DTSTAMP:20260424T081416
CREATED:20230725T222122Z
LAST-MODIFIED:20230725T222122Z
UID:10000249-1691064000-1691067600@norcalsistercities.org
SUMMARY:Stockton Sister Cities Association Board Meeting
DESCRIPTION:First Thursday of the Month
URL:https://norcalsistercities.org/events/stockton-sister-cities-association-board-meeting/2023-08-03/
LOCATION:Valley Brew\, 157 W Adams St.\, Stockton\, CA\, 95204\, United States
CATEGORIES:Meetings
ATTACH;FMTTYPE=image/jpeg:https://norcalsistercities.org/wp-content/uploads/2023/07/Stockton-Sister-Cities-Association.jpg
END:VEVENT
BEGIN:VEVENT
DTSTART;TZID=America/Los_Angeles:20230728T100000
DTEND;TZID=America/Los_Angeles:20230728T120000
DTSTAMP:20260424T081416
CREATED:20230725T202339Z
LAST-MODIFIED:20230725T202339Z
UID:10000178-1690538400-1690545600@norcalsistercities.org
SUMMARY:Sister Cities International: Board of Directors Meeting
DESCRIPTION:SCI Members and SCI Leadership Teams are invited to attend various scheduled meetings on July 27-28 – in person or virtually. \nBoard of Directors Meeting\nFriday\, July 28\, 2023\n1 p.m. ET / 10 a.m. PT\nZoom link
URL:https://norcalsistercities.org/events/sister-cities-international-board-of-directors-meeting/
LOCATION:Virtual
CATEGORIES:Meetings
ATTACH;FMTTYPE=image/jpeg:https://norcalsistercities.org/wp-content/uploads/2022/03/Sister-Cities-International-logo.jpg
ORGANIZER;CN="Sister Cities International":MAILTO:info@sistercities.org
END:VEVENT
BEGIN:VEVENT
DTSTART;TZID=America/Los_Angeles:20230728T070000
DTEND;TZID=America/Los_Angeles:20230728T100000
DTSTAMP:20260424T081416
CREATED:20230725T201532Z
LAST-MODIFIED:20230726T021014Z
UID:10000175-1690527600-1690538400@norcalsistercities.org
SUMMARY:Sister Cities International Annual Business Meeting
DESCRIPTION:Be it virtually or in-person\, we are excited to invite you to the Sister Cities International Annual Business Meeting on Friday\, July 28\, 2023\, at 10 a.m. Eastern time! \nThe Annual Business Meeting is open to all SCI Members and SCI Leadership Teams. It will include reports from the Board Secretary\, Board Chair\, and President & CEO and will announce the 2023 Board of Directors election results and the 2023 Annual Awards winners. \nWe hope that you will join us for this important SCI Annual Business Meeting either in person in Durham or virtually through Zoom! \nAnnual Business Meeting Registration\n\nTo attend the Annual Business Meeting in person\, you must register. Online registration has ended for in-person attendance\, but registration will be available at our event venues in Durham.\nTo attend the Annual Business Meeting virtually\, you must register via Zoom. After registering\, you will receive a confirmation email with instructions to join the meeting at 10:00 a.m. Eastern time on Friday\, July 28\, 2023.\n\n\nOther meetings\nThe Zoom links for other meetings are shown below NOTE: the SCI Academy will only be available for in-person attendees and cannot be streamed virtually. \n  \nState Representatives and Country/Region Representatives Meeting\nThursday\, July 27\, 2023\n8 a.m. ET / 5 a.m. PT\nZoom link \n  \nBoard Meeting\nThursday\, July 27\, 2023\n1 p.m. ET / 10 a.m. PT\nZoom link \n  \nNOTE: The Zoom links for Thursday morning’s State/Region/Country Reps meeting AND the afternoon Board meeting are purposely the same link.
URL:https://norcalsistercities.org/events/sister-cities-international-annual-business-meeting/
LOCATION:Virtual
CATEGORIES:Meetings
ATTACH;FMTTYPE=image/jpeg:https://norcalsistercities.org/wp-content/uploads/2023/07/SCI-meeting-Durham-NC.jpg
ORGANIZER;CN="Sister Cities International":MAILTO:info@sistercities.org
END:VEVENT
BEGIN:VEVENT
DTSTART;TZID=America/Los_Angeles:20230727T190000
DTEND;TZID=America/Los_Angeles:20230727T200000
DTSTAMP:20260424T081416
CREATED:20241020T221218Z
LAST-MODIFIED:20241020T221218Z
UID:10000690-1690484400-1690488000@norcalsistercities.org
SUMMARY:Morgan Hill Sister Cities meeting
DESCRIPTION:Join us anytime! Meetings always welcome the general public. \nSister Cities is an all-volunteer\, membership organization formed in 2002. \nWe currently host relationships with six international cities in Italy\, Turkey\, Mexico\, Japan and Ireland.
URL:https://norcalsistercities.org/events/morgan-hill-sister-cities-meeting-2/
LOCATION:Centennial Recreation Center – Senior Center\, 171 W Edmundson Avenue\, Morgan Hill\, CA\, 95037\, United States
CATEGORIES:Meetings
ATTACH;FMTTYPE=image/jpeg:https://norcalsistercities.org/wp-content/uploads/2023/09/Morgan-Hill-Sister-Cities.jpg
ORGANIZER;CN="Morgan Hill Sister Cities":MAILTO:johnkelley103@gmail.com
END:VEVENT
BEGIN:VEVENT
DTSTART;TZID=America/Los_Angeles:20230727T100000
DTEND;TZID=America/Los_Angeles:20230727T120000
DTSTAMP:20260424T081416
CREATED:20230725T202126Z
LAST-MODIFIED:20230725T202126Z
UID:10000177-1690452000-1690459200@norcalsistercities.org
SUMMARY:Sister Cities International: Board Meeting
DESCRIPTION:SCI Members and SCI Leadership Teams are invited to attend various scheduled meetings on July 27-28 – in person or virtually. \nBoard Meeting\nThursday\, July 27\, 2023\n1 p.m. ET / 10 a.m. PT\nZoom link
URL:https://norcalsistercities.org/events/sister-cities-international-board-meeting/
LOCATION:Virtual
CATEGORIES:Meetings
ATTACH;FMTTYPE=image/jpeg:https://norcalsistercities.org/wp-content/uploads/2022/03/Sister-Cities-International-logo.jpg
ORGANIZER;CN="Sister Cities International":MAILTO:info@sistercities.org
END:VEVENT
BEGIN:VEVENT
DTSTART;TZID=America/Los_Angeles:20230727T050000
DTEND;TZID=America/Los_Angeles:20230727T070000
DTSTAMP:20260424T081416
CREATED:20230725T201951Z
LAST-MODIFIED:20230725T201951Z
UID:10000176-1690434000-1690441200@norcalsistercities.org
SUMMARY:Sister Cities International: State Representatives and Country/Region Representatives Meeting
DESCRIPTION:SCI Members and SCI Leadership Teams are invited to attend various scheduled meetings on July 27-28 – in person or virtually. \nState Representatives and Country/Region Representatives Meeting\nThursday\, July 27\, 2023\n8 a.m. ET / 5 a.m. PT\nZoom link
URL:https://norcalsistercities.org/events/sister-cities-international-state-representatives-and-country-region-representatives-meeting/
LOCATION:Virtual
CATEGORIES:Meetings
ATTACH;FMTTYPE=image/jpeg:https://norcalsistercities.org/wp-content/uploads/2022/03/Sister-Cities-International-logo.jpg
ORGANIZER;CN="Sister Cities International":MAILTO:info@sistercities.org
END:VEVENT
BEGIN:VEVENT
DTSTART;TZID=America/Los_Angeles:20230720T183000
DTEND;TZID=America/Los_Angeles:20230720T193000
DTSTAMP:20260424T081416
CREATED:20230725T214258Z
LAST-MODIFIED:20230725T214258Z
UID:10000179-1689877800-1689881400@norcalsistercities.org
SUMMARY:Concord Ambassadors General Meeting
DESCRIPTION:
URL:https://norcalsistercities.org/events/concord-ambassadors-general-meeting/2023-07-20/
LOCATION:Concord City Hall – Garden Conference Room\, 1950 Parkside Drive\, Concord\, CA\, 94519\, United States
CATEGORIES:Meetings
ATTACH;FMTTYPE=image/jpeg:https://norcalsistercities.org/wp-content/uploads/2023/07/ConcordAmbassadors.jpg
ORGANIZER;CN="Concord Ambassadors":MAILTO:concordambassadors@gmail.com
END:VEVENT
BEGIN:VEVENT
DTSTART;TZID=America/Los_Angeles:20230706T120000
DTEND;TZID=America/Los_Angeles:20230706T130000
DTSTAMP:20260424T081416
CREATED:20230725T222122Z
LAST-MODIFIED:20230725T222122Z
UID:10000248-1688644800-1688648400@norcalsistercities.org
SUMMARY:Stockton Sister Cities Association Board Meeting
DESCRIPTION:First Thursday of the Month
URL:https://norcalsistercities.org/events/stockton-sister-cities-association-board-meeting/2023-07-06/
LOCATION:Valley Brew\, 157 W Adams St.\, Stockton\, CA\, 95204\, United States
CATEGORIES:Meetings
ATTACH;FMTTYPE=image/jpeg:https://norcalsistercities.org/wp-content/uploads/2023/07/Stockton-Sister-Cities-Association.jpg
END:VEVENT
BEGIN:VEVENT
DTSTART;TZID=America/Los_Angeles:20230601T120000
DTEND;TZID=America/Los_Angeles:20230601T130000
DTSTAMP:20260424T081416
CREATED:20230725T222122Z
LAST-MODIFIED:20230725T222122Z
UID:10000247-1685620800-1685624400@norcalsistercities.org
SUMMARY:Stockton Sister Cities Association Board Meeting
DESCRIPTION:First Thursday of the Month
URL:https://norcalsistercities.org/events/stockton-sister-cities-association-board-meeting/2023-06-01/
LOCATION:Valley Brew\, 157 W Adams St.\, Stockton\, CA\, 95204\, United States
CATEGORIES:Meetings
ATTACH;FMTTYPE=image/jpeg:https://norcalsistercities.org/wp-content/uploads/2023/07/Stockton-Sister-Cities-Association.jpg
END:VEVENT
BEGIN:VEVENT
DTSTART;TZID=America/Los_Angeles:20230504T120000
DTEND;TZID=America/Los_Angeles:20230504T130000
DTSTAMP:20260424T081416
CREATED:20230725T222122Z
LAST-MODIFIED:20230725T222122Z
UID:10000246-1683201600-1683205200@norcalsistercities.org
SUMMARY:Stockton Sister Cities Association Board Meeting
DESCRIPTION:First Thursday of the Month
URL:https://norcalsistercities.org/events/stockton-sister-cities-association-board-meeting/2023-05-04/
LOCATION:Valley Brew\, 157 W Adams St.\, Stockton\, CA\, 95204\, United States
CATEGORIES:Meetings
ATTACH;FMTTYPE=image/jpeg:https://norcalsistercities.org/wp-content/uploads/2023/07/Stockton-Sister-Cities-Association.jpg
END:VEVENT
END:VCALENDAR