BEGIN:VCALENDAR
VERSION:2.0
PRODID:-//Northern California Chapter of Sister Cities International - ECPv6.15.20//NONSGML v1.0//EN
CALSCALE:GREGORIAN
METHOD:PUBLISH
X-ORIGINAL-URL:https://norcalsistercities.org
X-WR-CALDESC:Events for Northern California Chapter of Sister Cities International
REFRESH-INTERVAL;VALUE=DURATION:PT1H
X-Robots-Tag:noindex
X-PUBLISHED-TTL:PT1H
BEGIN:VTIMEZONE
TZID:America/Los_Angeles
BEGIN:DAYLIGHT
TZOFFSETFROM:-0800
TZOFFSETTO:-0700
TZNAME:PDT
DTSTART:20290311T100000
END:DAYLIGHT
BEGIN:STANDARD
TZOFFSETFROM:-0700
TZOFFSETTO:-0800
TZNAME:PST
DTSTART:20291104T090000
END:STANDARD
BEGIN:DAYLIGHT
TZOFFSETFROM:-0800
TZOFFSETTO:-0700
TZNAME:PDT
DTSTART:20300310T100000
END:DAYLIGHT
BEGIN:STANDARD
TZOFFSETFROM:-0700
TZOFFSETTO:-0800
TZNAME:PST
DTSTART:20301103T090000
END:STANDARD
BEGIN:DAYLIGHT
TZOFFSETFROM:-0800
TZOFFSETTO:-0700
TZNAME:PDT
DTSTART:20310309T100000
END:DAYLIGHT
BEGIN:STANDARD
TZOFFSETFROM:-0700
TZOFFSETTO:-0800
TZNAME:PST
DTSTART:20311102T090000
END:STANDARD
BEGIN:DAYLIGHT
TZOFFSETFROM:-0800
TZOFFSETTO:-0700
TZNAME:PDT
DTSTART:20320314T100000
END:DAYLIGHT
BEGIN:STANDARD
TZOFFSETFROM:-0700
TZOFFSETTO:-0800
TZNAME:PST
DTSTART:20321107T090000
END:STANDARD
END:VTIMEZONE
BEGIN:VEVENT
DTSTART;TZID=America/Los_Angeles:20301111T180000
DTEND;TZID=America/Los_Angeles:20301111T190000
DTSTAMP:20260425T053517
CREATED:20260419T161333Z
LAST-MODIFIED:20260419T161334Z
UID:10001119-1920650400-1920654000@norcalsistercities.org
SUMMARY:Cupertino-Hsinchu Sister City Association board meeting
DESCRIPTION:
URL:https://norcalsistercities.org/events/cupertino-hsinchu-sister-city-association-board-meeting-4-2-2/2030-11-11/
LOCATION:West Valley Elementary School\, 1635 Belleville Way\, Sunnyvale\, CA\, 94087\, United States
CATEGORIES:Meetings
ATTACH;FMTTYPE=image/jpeg:https://norcalsistercities.org/wp-content/uploads/2024/10/Cupertino-Hsinchu-Sister-City-Association.jpg
ORGANIZER;CN="Cupertino-Hsinchu Sister City Association":MAILTO:chiachinglin6@gmail.com
END:VEVENT
BEGIN:VEVENT
DTSTART;TZID=America/Los_Angeles:20301121T193000
DTEND;TZID=America/Los_Angeles:20301121T203000
DTSTAMP:20260425T053517
CREATED:20260419T234328Z
LAST-MODIFIED:20260419T234328Z
UID:10001245-1921519800-1921523400@norcalsistercities.org
SUMMARY:Santa Clara Sister Cities Association Board Meeting
DESCRIPTION:The SCSCA board meeting over Zoom. Email the board secretary if you are interested in attending.
URL:https://norcalsistercities.org/events/santa-clara-sister-cities-association-board-meeting/2030-11-21/
LOCATION:Virtual
CATEGORIES:Meetings
ORGANIZER;CN="Santa Clara Sister Cities Association":MAILTO:president@santaclarasistercities.org
END:VEVENT
BEGIN:VEVENT
DTSTART;TZID=America/Los_Angeles:20301205T120000
DTEND;TZID=America/Los_Angeles:20301205T130000
DTSTAMP:20260425T053517
CREATED:20230725T222122Z
LAST-MODIFIED:20230725T222122Z
UID:10000779-1922702400-1922706000@norcalsistercities.org
SUMMARY:Stockton Sister Cities Association Board Meeting
DESCRIPTION:First Thursday of the Month
URL:https://norcalsistercities.org/events/stockton-sister-cities-association-board-meeting/2030-12-05/
LOCATION:Valley Brew\, 157 W Adams St.\, Stockton\, CA\, 95204\, United States
CATEGORIES:Meetings
ATTACH;FMTTYPE=image/jpeg:https://norcalsistercities.org/wp-content/uploads/2023/07/Stockton-Sister-Cities-Association.jpg
END:VEVENT
BEGIN:VEVENT
DTSTART;TZID=America/Los_Angeles:20301209T180000
DTEND;TZID=America/Los_Angeles:20301209T190000
DTSTAMP:20260425T053517
CREATED:20260419T161333Z
LAST-MODIFIED:20260419T161334Z
UID:10001120-1923069600-1923073200@norcalsistercities.org
SUMMARY:Cupertino-Hsinchu Sister City Association board meeting
DESCRIPTION:
URL:https://norcalsistercities.org/events/cupertino-hsinchu-sister-city-association-board-meeting-4-2-2/2030-12-09/
LOCATION:West Valley Elementary School\, 1635 Belleville Way\, Sunnyvale\, CA\, 94087\, United States
CATEGORIES:Meetings
ATTACH;FMTTYPE=image/jpeg:https://norcalsistercities.org/wp-content/uploads/2024/10/Cupertino-Hsinchu-Sister-City-Association.jpg
ORGANIZER;CN="Cupertino-Hsinchu Sister City Association":MAILTO:chiachinglin6@gmail.com
END:VEVENT
BEGIN:VEVENT
DTSTART;TZID=America/Los_Angeles:20301219T193000
DTEND;TZID=America/Los_Angeles:20301219T203000
DTSTAMP:20260425T053517
CREATED:20260419T234328Z
LAST-MODIFIED:20260419T234328Z
UID:10001246-1923939000-1923942600@norcalsistercities.org
SUMMARY:Santa Clara Sister Cities Association Board Meeting
DESCRIPTION:The SCSCA board meeting over Zoom. Email the board secretary if you are interested in attending.
URL:https://norcalsistercities.org/events/santa-clara-sister-cities-association-board-meeting/2030-12-19/
LOCATION:Virtual
CATEGORIES:Meetings
ORGANIZER;CN="Santa Clara Sister Cities Association":MAILTO:president@santaclarasistercities.org
END:VEVENT
BEGIN:VEVENT
DTSTART;TZID=America/Los_Angeles:20310102T120000
DTEND;TZID=America/Los_Angeles:20310102T130000
DTSTAMP:20260425T053517
CREATED:20230725T222122Z
LAST-MODIFIED:20230725T222122Z
UID:10000780-1925121600-1925125200@norcalsistercities.org
SUMMARY:Stockton Sister Cities Association Board Meeting
DESCRIPTION:First Thursday of the Month
URL:https://norcalsistercities.org/events/stockton-sister-cities-association-board-meeting/2031-01-02/
LOCATION:Valley Brew\, 157 W Adams St.\, Stockton\, CA\, 95204\, United States
CATEGORIES:Meetings
ATTACH;FMTTYPE=image/jpeg:https://norcalsistercities.org/wp-content/uploads/2023/07/Stockton-Sister-Cities-Association.jpg
END:VEVENT
BEGIN:VEVENT
DTSTART;TZID=America/Los_Angeles:20310113T180000
DTEND;TZID=America/Los_Angeles:20310113T190000
DTSTAMP:20260425T053517
CREATED:20260419T161333Z
LAST-MODIFIED:20260419T161334Z
UID:10001121-1926093600-1926097200@norcalsistercities.org
SUMMARY:Cupertino-Hsinchu Sister City Association board meeting
DESCRIPTION:
URL:https://norcalsistercities.org/events/cupertino-hsinchu-sister-city-association-board-meeting-4-2-2/2031-01-13/
LOCATION:West Valley Elementary School\, 1635 Belleville Way\, Sunnyvale\, CA\, 94087\, United States
CATEGORIES:Meetings
ATTACH;FMTTYPE=image/jpeg:https://norcalsistercities.org/wp-content/uploads/2024/10/Cupertino-Hsinchu-Sister-City-Association.jpg
ORGANIZER;CN="Cupertino-Hsinchu Sister City Association":MAILTO:chiachinglin6@gmail.com
END:VEVENT
BEGIN:VEVENT
DTSTART;TZID=America/Los_Angeles:20310116T193000
DTEND;TZID=America/Los_Angeles:20310116T203000
DTSTAMP:20260425T053517
CREATED:20260419T234328Z
LAST-MODIFIED:20260419T234328Z
UID:10001247-1926358200-1926361800@norcalsistercities.org
SUMMARY:Santa Clara Sister Cities Association Board Meeting
DESCRIPTION:The SCSCA board meeting over Zoom. Email the board secretary if you are interested in attending.
URL:https://norcalsistercities.org/events/santa-clara-sister-cities-association-board-meeting/2031-01-16/
LOCATION:Virtual
CATEGORIES:Meetings
ORGANIZER;CN="Santa Clara Sister Cities Association":MAILTO:president@santaclarasistercities.org
END:VEVENT
BEGIN:VEVENT
DTSTART;TZID=America/Los_Angeles:20310206T120000
DTEND;TZID=America/Los_Angeles:20310206T130000
DTSTAMP:20260425T053517
CREATED:20230725T222122Z
LAST-MODIFIED:20230725T222122Z
UID:10000781-1928145600-1928149200@norcalsistercities.org
SUMMARY:Stockton Sister Cities Association Board Meeting
DESCRIPTION:First Thursday of the Month
URL:https://norcalsistercities.org/events/stockton-sister-cities-association-board-meeting/2031-02-06/
LOCATION:Valley Brew\, 157 W Adams St.\, Stockton\, CA\, 95204\, United States
CATEGORIES:Meetings
ATTACH;FMTTYPE=image/jpeg:https://norcalsistercities.org/wp-content/uploads/2023/07/Stockton-Sister-Cities-Association.jpg
END:VEVENT
BEGIN:VEVENT
DTSTART;TZID=America/Los_Angeles:20310210T180000
DTEND;TZID=America/Los_Angeles:20310210T190000
DTSTAMP:20260425T053517
CREATED:20260419T161333Z
LAST-MODIFIED:20260419T161334Z
UID:10001122-1928512800-1928516400@norcalsistercities.org
SUMMARY:Cupertino-Hsinchu Sister City Association board meeting
DESCRIPTION:
URL:https://norcalsistercities.org/events/cupertino-hsinchu-sister-city-association-board-meeting-4-2-2/2031-02-10/
LOCATION:West Valley Elementary School\, 1635 Belleville Way\, Sunnyvale\, CA\, 94087\, United States
CATEGORIES:Meetings
ATTACH;FMTTYPE=image/jpeg:https://norcalsistercities.org/wp-content/uploads/2024/10/Cupertino-Hsinchu-Sister-City-Association.jpg
ORGANIZER;CN="Cupertino-Hsinchu Sister City Association":MAILTO:chiachinglin6@gmail.com
END:VEVENT
BEGIN:VEVENT
DTSTART;TZID=America/Los_Angeles:20310220T193000
DTEND;TZID=America/Los_Angeles:20310220T203000
DTSTAMP:20260425T053517
CREATED:20260419T234328Z
LAST-MODIFIED:20260419T234328Z
UID:10001248-1929382200-1929385800@norcalsistercities.org
SUMMARY:Santa Clara Sister Cities Association Board Meeting
DESCRIPTION:The SCSCA board meeting over Zoom. Email the board secretary if you are interested in attending.
URL:https://norcalsistercities.org/events/santa-clara-sister-cities-association-board-meeting/2031-02-20/
LOCATION:Virtual
CATEGORIES:Meetings
ORGANIZER;CN="Santa Clara Sister Cities Association":MAILTO:president@santaclarasistercities.org
END:VEVENT
BEGIN:VEVENT
DTSTART;TZID=America/Los_Angeles:20310306T120000
DTEND;TZID=America/Los_Angeles:20310306T130000
DTSTAMP:20260425T053517
CREATED:20230725T222122Z
LAST-MODIFIED:20230725T222122Z
UID:10000785-1930564800-1930568400@norcalsistercities.org
SUMMARY:Stockton Sister Cities Association Board Meeting
DESCRIPTION:First Thursday of the Month
URL:https://norcalsistercities.org/events/stockton-sister-cities-association-board-meeting/2031-03-06/
LOCATION:Valley Brew\, 157 W Adams St.\, Stockton\, CA\, 95204\, United States
CATEGORIES:Meetings
ATTACH;FMTTYPE=image/jpeg:https://norcalsistercities.org/wp-content/uploads/2023/07/Stockton-Sister-Cities-Association.jpg
END:VEVENT
BEGIN:VEVENT
DTSTART;TZID=America/Los_Angeles:20310310T180000
DTEND;TZID=America/Los_Angeles:20310310T190000
DTSTAMP:20260425T053517
CREATED:20260419T161333Z
LAST-MODIFIED:20260419T161334Z
UID:10001123-1930932000-1930935600@norcalsistercities.org
SUMMARY:Cupertino-Hsinchu Sister City Association board meeting
DESCRIPTION:
URL:https://norcalsistercities.org/events/cupertino-hsinchu-sister-city-association-board-meeting-4-2-2/2031-03-10/
LOCATION:West Valley Elementary School\, 1635 Belleville Way\, Sunnyvale\, CA\, 94087\, United States
CATEGORIES:Meetings
ATTACH;FMTTYPE=image/jpeg:https://norcalsistercities.org/wp-content/uploads/2024/10/Cupertino-Hsinchu-Sister-City-Association.jpg
ORGANIZER;CN="Cupertino-Hsinchu Sister City Association":MAILTO:chiachinglin6@gmail.com
END:VEVENT
BEGIN:VEVENT
DTSTART;TZID=America/Los_Angeles:20310320T193000
DTEND;TZID=America/Los_Angeles:20310320T203000
DTSTAMP:20260425T053517
CREATED:20260419T234328Z
LAST-MODIFIED:20260419T234328Z
UID:10001249-1931801400-1931805000@norcalsistercities.org
SUMMARY:Santa Clara Sister Cities Association Board Meeting
DESCRIPTION:The SCSCA board meeting over Zoom. Email the board secretary if you are interested in attending.
URL:https://norcalsistercities.org/events/santa-clara-sister-cities-association-board-meeting/2031-03-20/
LOCATION:Virtual
CATEGORIES:Meetings
ORGANIZER;CN="Santa Clara Sister Cities Association":MAILTO:president@santaclarasistercities.org
END:VEVENT
BEGIN:VEVENT
DTSTART;TZID=America/Los_Angeles:20310403T120000
DTEND;TZID=America/Los_Angeles:20310403T130000
DTSTAMP:20260425T053517
CREATED:20230725T222122Z
LAST-MODIFIED:20230725T222122Z
UID:10000786-1932984000-1932987600@norcalsistercities.org
SUMMARY:Stockton Sister Cities Association Board Meeting
DESCRIPTION:First Thursday of the Month
URL:https://norcalsistercities.org/events/stockton-sister-cities-association-board-meeting/2031-04-03/
LOCATION:Valley Brew\, 157 W Adams St.\, Stockton\, CA\, 95204\, United States
CATEGORIES:Meetings
ATTACH;FMTTYPE=image/jpeg:https://norcalsistercities.org/wp-content/uploads/2023/07/Stockton-Sister-Cities-Association.jpg
END:VEVENT
BEGIN:VEVENT
DTSTART;TZID=America/Los_Angeles:20310414T180000
DTEND;TZID=America/Los_Angeles:20310414T190000
DTSTAMP:20260425T053517
CREATED:20260419T161333Z
LAST-MODIFIED:20260419T161334Z
UID:10001124-1933956000-1933959600@norcalsistercities.org
SUMMARY:Cupertino-Hsinchu Sister City Association board meeting
DESCRIPTION:
URL:https://norcalsistercities.org/events/cupertino-hsinchu-sister-city-association-board-meeting-4-2-2/2031-04-14/
LOCATION:West Valley Elementary School\, 1635 Belleville Way\, Sunnyvale\, CA\, 94087\, United States
CATEGORIES:Meetings
ATTACH;FMTTYPE=image/jpeg:https://norcalsistercities.org/wp-content/uploads/2024/10/Cupertino-Hsinchu-Sister-City-Association.jpg
ORGANIZER;CN="Cupertino-Hsinchu Sister City Association":MAILTO:chiachinglin6@gmail.com
END:VEVENT
BEGIN:VEVENT
DTSTART;TZID=America/Los_Angeles:20310417T193000
DTEND;TZID=America/Los_Angeles:20310417T203000
DTSTAMP:20260425T053517
CREATED:20260419T234328Z
LAST-MODIFIED:20260419T234328Z
UID:10001250-1934220600-1934224200@norcalsistercities.org
SUMMARY:Santa Clara Sister Cities Association Board Meeting
DESCRIPTION:The SCSCA board meeting over Zoom. Email the board secretary if you are interested in attending.
URL:https://norcalsistercities.org/events/santa-clara-sister-cities-association-board-meeting/2031-04-17/
LOCATION:Virtual
CATEGORIES:Meetings
ORGANIZER;CN="Santa Clara Sister Cities Association":MAILTO:president@santaclarasistercities.org
END:VEVENT
END:VCALENDAR