BEGIN:VCALENDAR
VERSION:2.0
PRODID:-//Northern California Chapter of Sister Cities International - ECPv6.15.20//NONSGML v1.0//EN
CALSCALE:GREGORIAN
METHOD:PUBLISH
X-WR-CALNAME:Northern California Chapter of Sister Cities International
X-ORIGINAL-URL:https://norcalsistercities.org
X-WR-CALDESC:Events for Northern California Chapter of Sister Cities International
REFRESH-INTERVAL;VALUE=DURATION:PT1H
X-Robots-Tag:noindex
X-PUBLISHED-TTL:PT1H
BEGIN:VTIMEZONE
TZID:America/Los_Angeles
BEGIN:DAYLIGHT
TZOFFSETFROM:-0800
TZOFFSETTO:-0700
TZNAME:PDT
DTSTART:20230312T100000
END:DAYLIGHT
BEGIN:STANDARD
TZOFFSETFROM:-0700
TZOFFSETTO:-0800
TZNAME:PST
DTSTART:20231105T090000
END:STANDARD
BEGIN:DAYLIGHT
TZOFFSETFROM:-0800
TZOFFSETTO:-0700
TZNAME:PDT
DTSTART:20240310T100000
END:DAYLIGHT
BEGIN:STANDARD
TZOFFSETFROM:-0700
TZOFFSETTO:-0800
TZNAME:PST
DTSTART:20241103T090000
END:STANDARD
BEGIN:DAYLIGHT
TZOFFSETFROM:-0800
TZOFFSETTO:-0700
TZNAME:PDT
DTSTART:20250309T100000
END:DAYLIGHT
BEGIN:STANDARD
TZOFFSETFROM:-0700
TZOFFSETTO:-0800
TZNAME:PST
DTSTART:20251102T090000
END:STANDARD
BEGIN:DAYLIGHT
TZOFFSETFROM:-0800
TZOFFSETTO:-0700
TZNAME:PDT
DTSTART:20260308T100000
END:DAYLIGHT
BEGIN:STANDARD
TZOFFSETFROM:-0700
TZOFFSETTO:-0800
TZNAME:PST
DTSTART:20261101T090000
END:STANDARD
END:VTIMEZONE
BEGIN:VEVENT
DTSTART;TZID=America/Los_Angeles:20250113T190000
DTEND;TZID=America/Los_Angeles:20250113T210000
DTSTAMP:20260424T093143
CREATED:20250111T165833Z
LAST-MODIFIED:20250111T165833Z
UID:10000708-1736794800-1736802000@norcalsistercities.org
SUMMARY:Santa Cruz Sister Cities Committee meeting
DESCRIPTION:The purpose of the Committee is to encourage the people of Santa Cruz and its Sister Cities to understand one another as individuals\, as members of their community\, as citizens of their country\, and as part of the family of nations. \nAgendas and minutes
URL:https://norcalsistercities.org/events/santa-cruz-sister-cities-committee-meeting-6/
LOCATION:Santa Cruz City Council Chambers\, 809 Center Street\, Santa Cruz\, CA\, 95060\, United States
CATEGORIES:Meetings
ATTACH;FMTTYPE=image/jpeg:https://norcalsistercities.org/wp-content/uploads/2023/07/City-of-Santa-Cruz-Sister-Cities-Committee.jpg
ORGANIZER;CN="Santa Cruz Sister Cities Committee":MAILTO:sistercities@cityofsantacruz.com
END:VEVENT
BEGIN:VEVENT
DTSTART;VALUE=DATE:20250111
DTEND;VALUE=DATE:20250112
DTSTAMP:20260424T093143
CREATED:20241020T183412Z
LAST-MODIFIED:20241020T193738Z
UID:10000563-1736553600-1736639999@norcalsistercities.org
SUMMARY:SCI's U.S. Presidential Inaugural Event
DESCRIPTION:More details to come
URL:https://norcalsistercities.org/events/u-s-presidential-inaugural-event/
LOCATION:German Embassy in Washington\, D.C.\, 4645 Reservoir Rd NW\, Washington\, DC\, 20007\, United States
ATTACH;FMTTYPE=image/jpeg:https://norcalsistercities.org/wp-content/uploads/2024/10/German-Embassy-in-Washington-DC.jpg
ORGANIZER;CN="Sister Cities International":MAILTO:info@sistercities.org
END:VEVENT
BEGIN:VEVENT
DTSTART;TZID=America/Los_Angeles:20250108T180000
DTEND;TZID=America/Los_Angeles:20250108T194500
DTSTAMP:20260424T093143
CREATED:20230715T205718Z
LAST-MODIFIED:20230716T034238Z
UID:10000114-1736359200-1736365500@norcalsistercities.org
SUMMARY:Sonoma-Kaniv Committee Meeting
DESCRIPTION:
URL:https://norcalsistercities.org/events/__trashed-19/
LOCATION:Sonoma Library Meeting Room\, 755 West Napa\, Sonoma\, CA\, 95476\, United States
CATEGORIES:Meetings
ATTACH;FMTTYPE=image/jpeg:https://norcalsistercities.org/wp-content/uploads/2023/07/sonoma-kaniv-committee.jpg
ORGANIZER;CN="Sonoma Sister Cities Association":MAILTO:info@sonomasistercitiesassociation.org
END:VEVENT
BEGIN:VEVENT
DTSTART;TZID=America/Los_Angeles:20250106T180000
DTEND;TZID=America/Los_Angeles:20250106T190000
DTSTAMP:20260424T093143
CREATED:20241020T210718Z
LAST-MODIFIED:20241020T210718Z
UID:10000586-1736186400-1736190000@norcalsistercities.org
SUMMARY:Cupertino-Hsinchu Sister City Association board meeting
DESCRIPTION:
URL:https://norcalsistercities.org/events/cupertino-hsinchu-sister-city-association-board-meeting/2025-01-06/
LOCATION:CA
ATTACH;FMTTYPE=image/jpeg:https://norcalsistercities.org/wp-content/uploads/2024/10/Cupertino-Hsinchu-Sister-City-Association.jpg
ORGANIZER;CN="Cupertino-Hsinchu Sister City Association":MAILTO:chiachinglin6@gmail.com
END:VEVENT
BEGIN:VEVENT
DTSTART;TZID=America/Los_Angeles:20250106T110000
DTEND;TZID=America/Los_Angeles:20250106T123000
DTSTAMP:20260424T093143
CREATED:20230715T205718Z
LAST-MODIFIED:20230716T035029Z
UID:10000113-1736161200-1736166600@norcalsistercities.org
SUMMARY:Sonoma-Penglai Committee Meeting
DESCRIPTION:
URL:https://norcalsistercities.org/events/sonoma-penglai-committee-meeting-18/
LOCATION:Virtual
CATEGORIES:Meetings
ATTACH;FMTTYPE=image/jpeg:https://norcalsistercities.org/wp-content/uploads/2023/07/Sonoma-Penglai-Sister-City-Relationship-Symposium-banner.jpg
ORGANIZER;CN="Sonoma Sister Cities Association":MAILTO:info@sonomasistercitiesassociation.org
END:VEVENT
BEGIN:VEVENT
DTSTART;TZID=America/Los_Angeles:20250102T120000
DTEND;TZID=America/Los_Angeles:20250102T130000
DTSTAMP:20260424T093143
CREATED:20230725T222122Z
LAST-MODIFIED:20230725T222122Z
UID:10000266-1735819200-1735822800@norcalsistercities.org
SUMMARY:Stockton Sister Cities Association Board Meeting
DESCRIPTION:First Thursday of the Month
URL:https://norcalsistercities.org/events/stockton-sister-cities-association-board-meeting/2025-01-02/
LOCATION:Valley Brew\, 157 W Adams St.\, Stockton\, CA\, 95204\, United States
CATEGORIES:Meetings
ATTACH;FMTTYPE=image/jpeg:https://norcalsistercities.org/wp-content/uploads/2023/07/Stockton-Sister-Cities-Association.jpg
END:VEVENT
BEGIN:VEVENT
DTSTART;TZID=America/Los_Angeles:20241219T183000
DTEND;TZID=America/Los_Angeles:20241219T193000
DTSTAMP:20260424T093143
CREATED:20230725T214258Z
LAST-MODIFIED:20230725T214258Z
UID:10000196-1734633000-1734636600@norcalsistercities.org
SUMMARY:Concord Ambassadors General Meeting
DESCRIPTION:
URL:https://norcalsistercities.org/events/concord-ambassadors-general-meeting/2024-12-19/
LOCATION:Concord City Hall – Garden Conference Room\, 1950 Parkside Drive\, Concord\, CA\, 94519\, United States
CATEGORIES:Meetings
ATTACH;FMTTYPE=image/jpeg:https://norcalsistercities.org/wp-content/uploads/2023/07/ConcordAmbassadors.jpg
ORGANIZER;CN="Concord Ambassadors":MAILTO:concordambassadors@gmail.com
END:VEVENT
BEGIN:VEVENT
DTSTART;TZID=America/Los_Angeles:20241217T190000
DTEND;TZID=America/Los_Angeles:20241217T210000
DTSTAMP:20260424T093143
CREATED:20230729T014437Z
LAST-MODIFIED:20230729T014437Z
UID:10000337-1734462000-1734469200@norcalsistercities.org
SUMMARY:Oakland-Fukuoka Sister City Association general meeting
DESCRIPTION:General meetings are typically held on the third Tuesday of the month. All are welcome to attend! \nTo receive the Zoom meeting link\, email ofsca1962@gmail.com. \nThis is an open meeting using the free Zoom video/audio meeting platform. No subscription is required\, and Zoom is free to download for your desktop or mobile device\, can be used with your device’s built-in microphone/camera\, or can be joined via telephone call (audio only).
URL:https://norcalsistercities.org/events/oakland-fukuoka-sister-city-association-general-meeting/2024-12-17/
LOCATION:Zoom
CATEGORIES:Meetings
ATTACH;FMTTYPE=image/jpeg:https://norcalsistercities.org/wp-content/uploads/2023/07/Oakland-Fukuoka-Sister-City-Association-logo.jpg
ORGANIZER;CN="Oakland-Fukuoka Sister City Association":MAILTO:ofsca1962@gmail.com
END:VEVENT
BEGIN:VEVENT
DTSTART;TZID=America/Los_Angeles:20241216T180000
DTEND;TZID=America/Los_Angeles:20241216T193000
DTSTAMP:20260424T093143
CREATED:20230715T205932Z
LAST-MODIFIED:20230715T220127Z
UID:10000112-1734372000-1734377400@norcalsistercities.org
SUMMARY:Sonoma Sister Cities Association Board of Directors Monthly Meeting
DESCRIPTION:
URL:https://norcalsistercities.org/events/ssca-board-of-directors-monthly-meeting/
LOCATION:TBA
ATTACH;FMTTYPE=image/jpeg:https://norcalsistercities.org/wp-content/uploads/2023/07/Sonoma-Sister-Cities-Association_logo.jpg
ORGANIZER;CN="Sonoma Sister Cities Association":MAILTO:info@sonomasistercitiesassociation.org
END:VEVENT
BEGIN:VEVENT
DTSTART;TZID=America/Los_Angeles:20241211T180000
DTEND;TZID=America/Los_Angeles:20241211T194500
DTSTAMP:20260424T093144
CREATED:20230715T210229Z
LAST-MODIFIED:20230715T211933Z
UID:10000111-1733940000-1733946300@norcalsistercities.org
SUMMARY:Sonoma-Kaniv Committee Meeting
DESCRIPTION:
URL:https://norcalsistercities.org/events/sonoma-kaniv-committee-meeting/
LOCATION:Sonoma Library Meeting Room\, 755 West Napa\, Sonoma\, CA\, 95476\, United States
ATTACH;FMTTYPE=image/jpeg:https://norcalsistercities.org/wp-content/uploads/2023/07/sonoma-kaniv-committee.jpg
ORGANIZER;CN="Sonoma Sister Cities Association":MAILTO:info@sonomasistercitiesassociation.org
END:VEVENT
BEGIN:VEVENT
DTSTART;TZID=America/Los_Angeles:20241205T120000
DTEND;TZID=America/Los_Angeles:20241205T130000
DTSTAMP:20260424T093144
CREATED:20230725T222122Z
LAST-MODIFIED:20230725T222122Z
UID:10000265-1733400000-1733403600@norcalsistercities.org
SUMMARY:Stockton Sister Cities Association Board Meeting
DESCRIPTION:First Thursday of the Month
URL:https://norcalsistercities.org/events/stockton-sister-cities-association-board-meeting/2024-12-05/
LOCATION:Valley Brew\, 157 W Adams St.\, Stockton\, CA\, 95204\, United States
CATEGORIES:Meetings
ATTACH;FMTTYPE=image/jpeg:https://norcalsistercities.org/wp-content/uploads/2023/07/Stockton-Sister-Cities-Association.jpg
END:VEVENT
BEGIN:VEVENT
DTSTART;TZID=America/Los_Angeles:20241202T180000
DTEND;TZID=America/Los_Angeles:20241202T190000
DTSTAMP:20260424T093144
CREATED:20241020T210957Z
LAST-MODIFIED:20241020T211000Z
UID:10000585-1733162400-1733166000@norcalsistercities.org
SUMMARY:Cupertino-Hsinchu Sister City Association board meeting
DESCRIPTION:
URL:https://norcalsistercities.org/events/cupertino-hsinchu-sister-city-association-board-meeting-2/
LOCATION:Quinlan Community Center\, 10185 N Stelling Road\, Cupertino\, CA\, 95014\, United States
ATTACH;FMTTYPE=image/jpeg:https://norcalsistercities.org/wp-content/uploads/2024/10/Cupertino-Hsinchu-Sister-City-Association.jpg
ORGANIZER;CN="Cupertino-Hsinchu Sister City Association":MAILTO:chiachinglin6@gmail.com
END:VEVENT
BEGIN:VEVENT
DTSTART;TZID=America/Los_Angeles:20241202T180000
DTEND;TZID=America/Los_Angeles:20241202T190000
DTSTAMP:20260424T093144
CREATED:20241020T210718Z
LAST-MODIFIED:20241020T210718Z
UID:10000920-1733162400-1733166000@norcalsistercities.org
SUMMARY:Cupertino-Hsinchu Sister City Association board meeting
DESCRIPTION:
URL:https://norcalsistercities.org/events/cupertino-hsinchu-sister-city-association-board-meeting/2024-12-02/
LOCATION:CA
ATTACH;FMTTYPE=image/jpeg:https://norcalsistercities.org/wp-content/uploads/2024/10/Cupertino-Hsinchu-Sister-City-Association.jpg
ORGANIZER;CN="Cupertino-Hsinchu Sister City Association":MAILTO:chiachinglin6@gmail.com
END:VEVENT
BEGIN:VEVENT
DTSTART;TZID=America/Los_Angeles:20241202T110000
DTEND;TZID=America/Los_Angeles:20241202T123000
DTSTAMP:20260424T093144
CREATED:20230715T211115Z
LAST-MODIFIED:20230715T224706Z
UID:10000110-1733137200-1733142600@norcalsistercities.org
SUMMARY:Sonoma-Penglai Committee Meeting
DESCRIPTION:
URL:https://norcalsistercities.org/events/sonoma-penglai-committee-meeting/
LOCATION:Virtual
ATTACH;FMTTYPE=image/jpeg:https://norcalsistercities.org/wp-content/uploads/2023/07/Sonoma-Penglai-Sister-City-Relationship-Symposium-banner.jpg
ORGANIZER;CN="Sonoma Sister Cities Association":MAILTO:info@sonomasistercitiesassociation.org
END:VEVENT
BEGIN:VEVENT
DTSTART;TZID=America/Los_Angeles:20241125T190000
DTEND;TZID=America/Los_Angeles:20241125T210000
DTSTAMP:20260424T093144
CREATED:20240715T133056Z
LAST-MODIFIED:20240715T133056Z
UID:10000546-1732561200-1732568400@norcalsistercities.org
SUMMARY:Santa Cruz Sister Cities Committee meeting
DESCRIPTION:The purpose of the Committee is to encourage the people of Santa Cruz and its Sister Cities to understand one another as individuals\, as members of their community\, as citizens of their country\, and as part of the family of nations. \nAgendas and minutes
URL:https://norcalsistercities.org/events/santa-cruz-sister-cities-committee-meeting-5/
LOCATION:Santa Cruz City Council Chambers\, 809 Center Street\, Santa Cruz\, CA\, 95060\, United States
CATEGORIES:Meetings
ATTACH;FMTTYPE=image/jpeg:https://norcalsistercities.org/wp-content/uploads/2023/07/City-of-Santa-Cruz-Sister-Cities-Committee.jpg
ORGANIZER;CN="Santa Cruz Sister Cities Committee":MAILTO:sistercities@cityofsantacruz.com
END:VEVENT
BEGIN:VEVENT
DTSTART;TZID=America/Los_Angeles:20241121T183000
DTEND;TZID=America/Los_Angeles:20241121T193000
DTSTAMP:20260424T093144
CREATED:20230725T214258Z
LAST-MODIFIED:20230725T214258Z
UID:10000195-1732213800-1732217400@norcalsistercities.org
SUMMARY:Concord Ambassadors General Meeting
DESCRIPTION:
URL:https://norcalsistercities.org/events/concord-ambassadors-general-meeting/2024-11-21/
LOCATION:Concord City Hall – Garden Conference Room\, 1950 Parkside Drive\, Concord\, CA\, 94519\, United States
CATEGORIES:Meetings
ATTACH;FMTTYPE=image/jpeg:https://norcalsistercities.org/wp-content/uploads/2023/07/ConcordAmbassadors.jpg
ORGANIZER;CN="Concord Ambassadors":MAILTO:concordambassadors@gmail.com
END:VEVENT
BEGIN:VEVENT
DTSTART;TZID=America/Los_Angeles:20241119T190000
DTEND;TZID=America/Los_Angeles:20241119T210000
DTSTAMP:20260424T093144
CREATED:20230729T014437Z
LAST-MODIFIED:20230729T014437Z
UID:10000336-1732042800-1732050000@norcalsistercities.org
SUMMARY:Oakland-Fukuoka Sister City Association general meeting
DESCRIPTION:General meetings are typically held on the third Tuesday of the month. All are welcome to attend! \nTo receive the Zoom meeting link\, email ofsca1962@gmail.com. \nThis is an open meeting using the free Zoom video/audio meeting platform. No subscription is required\, and Zoom is free to download for your desktop or mobile device\, can be used with your device’s built-in microphone/camera\, or can be joined via telephone call (audio only).
URL:https://norcalsistercities.org/events/oakland-fukuoka-sister-city-association-general-meeting/2024-11-19/
LOCATION:Zoom
CATEGORIES:Meetings
ATTACH;FMTTYPE=image/jpeg:https://norcalsistercities.org/wp-content/uploads/2023/07/Oakland-Fukuoka-Sister-City-Association-logo.jpg
ORGANIZER;CN="Oakland-Fukuoka Sister City Association":MAILTO:ofsca1962@gmail.com
END:VEVENT
BEGIN:VEVENT
DTSTART;TZID=America/Los_Angeles:20241118T180000
DTEND;TZID=America/Los_Angeles:20241118T193000
DTSTAMP:20260424T093144
CREATED:20230715T211504Z
LAST-MODIFIED:20230715T220219Z
UID:10000109-1731952800-1731958200@norcalsistercities.org
SUMMARY:Sonoma Sister Cities Association Board of Directors Monthly Meeting
DESCRIPTION:
URL:https://norcalsistercities.org/events/sonoma-sister-cities-association-board-of-directors-monthly-meeting/
LOCATION:TBA
ATTACH;FMTTYPE=image/jpeg:https://norcalsistercities.org/wp-content/uploads/2023/07/Sonoma-Sister-Cities-Association_logo.jpg
ORGANIZER;CN="Sonoma Sister Cities Association":MAILTO:info@sonomasistercitiesassociation.org
END:VEVENT
BEGIN:VEVENT
DTSTART;TZID=America/Los_Angeles:20241113T180000
DTEND;TZID=America/Los_Angeles:20241113T194500
DTSTAMP:20260424T093144
CREATED:20230715T210839Z
LAST-MODIFIED:20230715T212010Z
UID:10000108-1731520800-1731527100@norcalsistercities.org
SUMMARY:Sonoma-Kaniv Committee Meeting
DESCRIPTION:
URL:https://norcalsistercities.org/events/sonoma-kaniv-committee-meeting-2/
LOCATION:Sonoma Library Meeting Room\, 755 West Napa\, Sonoma\, CA\, 95476\, United States
ATTACH;FMTTYPE=image/jpeg:https://norcalsistercities.org/wp-content/uploads/2023/07/sonoma-kaniv-committee.jpg
ORGANIZER;CN="Sonoma Sister Cities Association":MAILTO:info@sonomasistercitiesassociation.org
END:VEVENT
BEGIN:VEVENT
DTSTART;TZID=America/Los_Angeles:20241107T120000
DTEND;TZID=America/Los_Angeles:20241107T130000
DTSTAMP:20260424T093144
CREATED:20230725T222122Z
LAST-MODIFIED:20230725T222122Z
UID:10000264-1730980800-1730984400@norcalsistercities.org
SUMMARY:Stockton Sister Cities Association Board Meeting
DESCRIPTION:First Thursday of the Month
URL:https://norcalsistercities.org/events/stockton-sister-cities-association-board-meeting/2024-11-07/
LOCATION:Valley Brew\, 157 W Adams St.\, Stockton\, CA\, 95204\, United States
CATEGORIES:Meetings
ATTACH;FMTTYPE=image/jpeg:https://norcalsistercities.org/wp-content/uploads/2023/07/Stockton-Sister-Cities-Association.jpg
END:VEVENT
BEGIN:VEVENT
DTSTART;TZID=America/Los_Angeles:20241104T180000
DTEND;TZID=America/Los_Angeles:20241104T190000
DTSTAMP:20260424T093144
CREATED:20241020T210718Z
LAST-MODIFIED:20241020T210718Z
UID:10000584-1730743200-1730746800@norcalsistercities.org
SUMMARY:Cupertino-Hsinchu Sister City Association board meeting
DESCRIPTION:
URL:https://norcalsistercities.org/events/cupertino-hsinchu-sister-city-association-board-meeting/2024-11-04/
LOCATION:CA
ATTACH;FMTTYPE=image/jpeg:https://norcalsistercities.org/wp-content/uploads/2024/10/Cupertino-Hsinchu-Sister-City-Association.jpg
ORGANIZER;CN="Cupertino-Hsinchu Sister City Association":MAILTO:chiachinglin6@gmail.com
END:VEVENT
BEGIN:VEVENT
DTSTART;TZID=America/Los_Angeles:20241104T110000
DTEND;TZID=America/Los_Angeles:20241104T123000
DTSTAMP:20260424T093144
CREATED:20230715T211149Z
LAST-MODIFIED:20230715T224625Z
UID:10000107-1730718000-1730723400@norcalsistercities.org
SUMMARY:Sonoma-Penglai Committee Meeting
DESCRIPTION:
URL:https://norcalsistercities.org/events/sonoma-penglai-committee-meeting-2/
LOCATION:Virtual
ATTACH;FMTTYPE=image/jpeg:https://norcalsistercities.org/wp-content/uploads/2023/07/Sonoma-Penglai-Sister-City-Relationship-Symposium-banner.jpg
ORGANIZER;CN="Sonoma Sister Cities Association":MAILTO:info@sonomasistercitiesassociation.org
END:VEVENT
BEGIN:VEVENT
DTSTART;TZID=America/Los_Angeles:20241102T180000
DTEND;TZID=America/Los_Angeles:20241102T210000
DTSTAMP:20260424T093144
CREATED:20241020T225848Z
LAST-MODIFIED:20241020T225848Z
UID:10000699-1730570400-1730581200@norcalsistercities.org
SUMMARY:Sonoma-Tokaj Sister Cities Biennial Fundraiser
DESCRIPTION:Get Your Tickets Now for the Sonoma-Tokaj Committee Fundraiser \nJoin us for a traditional Hungarian dinner with entertainment\, dancing\, and wines from Sonoma and Tokaj! \nThe proceeds from this program benefit the intern exchange program with our Sister City of Tokaj\, Hungary. Right now we have one intern from Sonoma who is working the harvest in Tokaj\, and two from Tokaj working here in Sonoma. \nCome and meet our interns\, enjoy a traditional three course Hungarian dinner featuring chicken paprikash\, homemade pastries\, and wines from Sonoma and Tokaj! Vegetarian option available. \nEnjoy dancing\, a raffle and live auction with great prizes.
URL:https://norcalsistercities.org/events/sonoma-tokaj-sister-cities-biennial-fundraiser/
LOCATION:Burlingame Hall\, 252 West Spain St.\, Sonoma\, CA\, 95476\, United States
ATTACH;FMTTYPE=image/jpeg:https://norcalsistercities.org/wp-content/uploads/2024/10/Sonoma-Tokaj-Committee-Fundraiser.jpg
ORGANIZER;CN="Sonoma-Tokaj Sister Cities Committee":MAILTO:sonomatokajsistercities@gmail.com
END:VEVENT
BEGIN:VEVENT
DTSTART;TZID=America/Los_Angeles:20241030T173000
DTEND;TZID=America/Los_Angeles:20241030T203000
DTSTAMP:20260424T093144
CREATED:20241031T043708Z
LAST-MODIFIED:20241031T043708Z
UID:10000701-1730309400-1730320200@norcalsistercities.org
SUMMARY:Vietnam Meetup
DESCRIPTION:Anita Huang is presently the Chief of Staff at the San Francisco Chamber of Commerce and will address the r ole of the Sister City Committee in the development of trade and commerce between the Bay Area and Vietnam\, as well as the advantages of being a member of the Chamber. Before this role\, she was focused within the Chamber’s Center for Economic Development. Anita earned her degrees in Community Environmental Development and Economics from Pennsylvania State University where she worked closely with the Centre Region Pennsylvania Board of Supervisors. \nShe also currently serves as an alumni advisor to her University College and is an active member of the George Washington High School Alumni Association\, Junior Achievement Advisory Board\, and the San Francisco Unified School District CTE Advisory Board. \nEnjoy Exquisite Vietnamese Cuisine with a special three course menu: \nAppetizers \n\nGreen Papaya Salad\nHoi An Scallops\nImperial Roll\n\nEntrée \n\nShaken Beef Filet Mignon with Potatoes\nCa Kho –Caramelized Fish\nStir Fried Lemongrass Shrimps\nGarlic Noodles\n\nDessert \n\nDeep Fried Banana Ice Cream\n\n$80.00 (Includes Tax and Gratuity!) \nWine and Beer Not Included \nRSVP to sfhcmcscc@aol.com – Include full name(s)
URL:https://norcalsistercities.org/events/20241030-vietnam-meetup/
LOCATION:Hoi An Vietnamese Restaurant\, 1608 Polk Street\, San Francisco\, CA\, 94109\, United States
ATTACH;FMTTYPE=image/jpeg:https://norcalsistercities.org/wp-content/uploads/2024/10/Anita-Huang-1.jpg
ORGANIZER;CN="San Francisco-Ho Chi Minh City Sister City Committee":MAILTO:sfhcmcscc@aol.com
END:VEVENT
BEGIN:VEVENT
DTSTART;TZID=America/Los_Angeles:20241024T190000
DTEND;TZID=America/Los_Angeles:20241024T200000
DTSTAMP:20260424T093144
CREATED:20241020T222716Z
LAST-MODIFIED:20241020T222719Z
UID:10000689-1729796400-1729800000@norcalsistercities.org
SUMMARY:Morgan Hill Sister Cities meeting
DESCRIPTION:Join us anytime! Meetings always welcome the general public. \nSister Cities is an all-volunteer\, membership organization formed in 2002. \nWe currently host relationships with six international cities in Italy\, Turkey\, Mexico\, Japan and Ireland.
URL:https://norcalsistercities.org/events/morgan-hill-sister-cities-meeting-3-2-2/
LOCATION:Centennial Recreation Center – Senior Center\, 171 W Edmundson Avenue\, Morgan Hill\, CA\, 95037\, United States
CATEGORIES:Meetings
ATTACH;FMTTYPE=image/jpeg:https://norcalsistercities.org/wp-content/uploads/2023/09/Morgan-Hill-Sister-Cities.jpg
ORGANIZER;CN="Morgan Hill Sister Cities":MAILTO:johnkelley103@gmail.com
END:VEVENT
BEGIN:VEVENT
DTSTART;TZID=America/Los_Angeles:20241024T110000
DTEND;TZID=America/Los_Angeles:20241024T120000
DTSTAMP:20260424T093144
CREATED:20241020T230741Z
LAST-MODIFIED:20241020T230813Z
UID:10000700-1729767600-1729771200@norcalsistercities.org
SUMMARY:Best Practices: Business\, Trade\, and Professional Exchange Virtual Roundtable
DESCRIPTION:This event will spotlight the 2023 Sister Cities International Innovation in Business\, Trade\, and Professional Exchange Award recipients\, showcasing the remarkable programs that earned them their awards. You’ll hear directly from San Antonio Sister Cities\, Birmingham Sister Cities\, Hot Springs Sister Cities\, and Aspen Sister Cities about their successes\, challenges\, and lessons learned. \nThe event will feature presentations from these award-winning programs\, followed by an interactive Q&A session. This is a great opportunity to gain practical insights and strengthen collaboration within the sister cities network. \nRegister online via Zoom
URL:https://norcalsistercities.org/events/best-practices-business-trade-and-professional-exchange-virtual-roundtable/
LOCATION:Zoom
ATTACH;FMTTYPE=image/jpeg:https://norcalsistercities.org/wp-content/uploads/2024/10/Best-Practices-exchange.jpg
ORGANIZER;CN="Sister Cities International":MAILTO:info@sistercities.org
END:VEVENT
BEGIN:VEVENT
DTSTART;TZID=America/Los_Angeles:20241021T180000
DTEND;TZID=America/Los_Angeles:20241021T193000
DTSTAMP:20260424T093144
CREATED:20230715T205625Z
LAST-MODIFIED:20230715T220240Z
UID:10000106-1729533600-1729539000@norcalsistercities.org
SUMMARY:Sonoma Sister Cities Association Board of Directors Monthly Meeting
DESCRIPTION:
URL:https://norcalsistercities.org/events/sonoma-sister-cities-association-board-of-directors-monthly-meeting-2/
LOCATION:TBA
ATTACH;FMTTYPE=image/jpeg:https://norcalsistercities.org/wp-content/uploads/2023/07/Sonoma-Sister-Cities-Association_logo.jpg
ORGANIZER;CN="Sonoma Sister Cities Association":MAILTO:info@sonomasistercitiesassociation.org
END:VEVENT
BEGIN:VEVENT
DTSTART;TZID=America/Los_Angeles:20241019T140000
DTEND;TZID=America/Los_Angeles:20241019T153000
DTSTAMP:20260424T093144
CREATED:20241020T193343Z
LAST-MODIFIED:20241020T193343Z
UID:10000569-1729346400-1729351800@norcalsistercities.org
SUMMARY:2024 4th Quarter NorCal Chapter Board meeting
DESCRIPTION:
URL:https://norcalsistercities.org/events/2024-4th-quarter-norcal-chapter-board-meeting-2/
LOCATION:Santa Clara Central Park Library\, 2635 Homestead Road\, Santa Clara\, 95051\, United States
CATEGORIES:Meetings
ATTACH;FMTTYPE=image/jpeg:https://norcalsistercities.org/wp-content/uploads/2022/03/Sister-Cities-International-logo.jpg
END:VEVENT
BEGIN:VEVENT
DTSTART;TZID=America/Los_Angeles:20241017T183000
DTEND;TZID=America/Los_Angeles:20241017T193000
DTSTAMP:20260424T093144
CREATED:20230725T214258Z
LAST-MODIFIED:20230725T214258Z
UID:10000194-1729189800-1729193400@norcalsistercities.org
SUMMARY:Concord Ambassadors General Meeting
DESCRIPTION:
URL:https://norcalsistercities.org/events/concord-ambassadors-general-meeting/2024-10-17/
LOCATION:Concord City Hall – Garden Conference Room\, 1950 Parkside Drive\, Concord\, CA\, 94519\, United States
CATEGORIES:Meetings
ATTACH;FMTTYPE=image/jpeg:https://norcalsistercities.org/wp-content/uploads/2023/07/ConcordAmbassadors.jpg
ORGANIZER;CN="Concord Ambassadors":MAILTO:concordambassadors@gmail.com
END:VEVENT
BEGIN:VEVENT
DTSTART;TZID=America/Los_Angeles:20241015T190000
DTEND;TZID=America/Los_Angeles:20241015T210000
DTSTAMP:20260424T093144
CREATED:20230729T014437Z
LAST-MODIFIED:20230729T014437Z
UID:10000335-1729018800-1729026000@norcalsistercities.org
SUMMARY:Oakland-Fukuoka Sister City Association general meeting
DESCRIPTION:General meetings are typically held on the third Tuesday of the month. All are welcome to attend! \nTo receive the Zoom meeting link\, email ofsca1962@gmail.com. \nThis is an open meeting using the free Zoom video/audio meeting platform. No subscription is required\, and Zoom is free to download for your desktop or mobile device\, can be used with your device’s built-in microphone/camera\, or can be joined via telephone call (audio only).
URL:https://norcalsistercities.org/events/oakland-fukuoka-sister-city-association-general-meeting/2024-10-15/
LOCATION:Zoom
CATEGORIES:Meetings
ATTACH;FMTTYPE=image/jpeg:https://norcalsistercities.org/wp-content/uploads/2023/07/Oakland-Fukuoka-Sister-City-Association-logo.jpg
ORGANIZER;CN="Oakland-Fukuoka Sister City Association":MAILTO:ofsca1962@gmail.com
END:VEVENT
END:VCALENDAR