BEGIN:VCALENDAR
VERSION:2.0
PRODID:-//Northern California Chapter of Sister Cities International - ECPv6.15.20//NONSGML v1.0//EN
CALSCALE:GREGORIAN
METHOD:PUBLISH
X-WR-CALNAME:Northern California Chapter of Sister Cities International
X-ORIGINAL-URL:https://norcalsistercities.org
X-WR-CALDESC:Events for Northern California Chapter of Sister Cities International
REFRESH-INTERVAL;VALUE=DURATION:PT1H
X-Robots-Tag:noindex
X-PUBLISHED-TTL:PT1H
BEGIN:VTIMEZONE
TZID:America/Los_Angeles
BEGIN:DAYLIGHT
TZOFFSETFROM:-0800
TZOFFSETTO:-0700
TZNAME:PDT
DTSTART:20230312T100000
END:DAYLIGHT
BEGIN:STANDARD
TZOFFSETFROM:-0700
TZOFFSETTO:-0800
TZNAME:PST
DTSTART:20231105T090000
END:STANDARD
BEGIN:DAYLIGHT
TZOFFSETFROM:-0800
TZOFFSETTO:-0700
TZNAME:PDT
DTSTART:20240310T100000
END:DAYLIGHT
BEGIN:STANDARD
TZOFFSETFROM:-0700
TZOFFSETTO:-0800
TZNAME:PST
DTSTART:20241103T090000
END:STANDARD
BEGIN:DAYLIGHT
TZOFFSETFROM:-0800
TZOFFSETTO:-0700
TZNAME:PDT
DTSTART:20250309T100000
END:DAYLIGHT
BEGIN:STANDARD
TZOFFSETFROM:-0700
TZOFFSETTO:-0800
TZNAME:PST
DTSTART:20251102T090000
END:STANDARD
END:VTIMEZONE
BEGIN:VEVENT
DTSTART;TZID=America/Los_Angeles:20241013T173000
DTEND;TZID=America/Los_Angeles:20241013T203000
DTSTAMP:20260425T053343
CREATED:20241020T223615Z
LAST-MODIFIED:20241020T223615Z
UID:10000697-1728840600-1728851400@norcalsistercities.org
SUMMARY:55th Annual Otsukimi Moon Viewing Festival
DESCRIPTION:Join Oaklanders under the moonlight for a traditional Japanese celebration of the Harvest Moon. \nThe Harvest moon is a symbol of blessing and abundance for many cultures. Similar to tea parties\, these moon viewing parties are occasions for sharing food and stories while enjoying what is considered the most beautiful moon of the year. \nAnnually\, several hundred people gather at Lake Merritt’s Lakeside Park Garden Center for the annual Otsukimi Moon Viewing Festival. After an indoor program that typically includes martial arts demonstrations and Japanese drums\, festival-goers walk to the lake to join astronomers and observe the powerful October new moon. \nThe Oakland Fukuoka Sister City Association\, whose mission is to promote “cultural awareness\, understanding\, and friendship” between Oakland and Fukuoka\, Japan\, organizes the annual festival. \nProgram \n5:30 p.m. Bonsai Garden & Bento Dinner \n\nOpen House by the Golden State Bonsai Collection North 5:30-6:30 p.m.\nJapanese “Bento” box dinners (sushi & skewered meats/fish) created by Musashi of Berkeley.\nVegetarian Bento available upon request*.\nCome see our 60th anniversary mosaic mural (dedicated in 2022)\, 10 Japanese stone lanterns dedicated in honor of our 50th anniversary in 2012\, and the magnificent Torii Gate (dedicated in 2002 in the Memory of the late Oakland Council Member Frank Ogawa 1917-1994).\n\n6:30 p.m. Entertainment \n\nAsian Pacific Children’s Convention Student Ambassadors\nLas Lomas High School Japanese language class\nDiablo Taiko (Japanese drums)\n\n7:30 p.m. Moon Viewing \n\nTelescopic Viewing of the Moon and other celestial points of interest provided by the Eastbay Astronomical Society\n\nThe Harvest moon is a symbol of blessing and abundance for many cultures. Similar to tea parties\, these moon viewing parties are occasions for sharing food and stories while enjoying what is considered the most beautiful moon of the year.
URL:https://norcalsistercities.org/events/55th-annual-otsukimi-moon-viewing-festival/
LOCATION:Lakeside Park Garden Center\, 666 Bellevue Ave.\, Oakland\, CA\, 94610\, United States
ATTACH;FMTTYPE=image/jpeg:https://norcalsistercities.org/wp-content/uploads/2024/10/Otsukimi_Moon_Viewing.jpg
ORGANIZER;CN="Oakland-Fukuoka Sister City Association":MAILTO:ofsca1962@gmail.com
END:VEVENT
BEGIN:VEVENT
DTSTART;TZID=America/Los_Angeles:20241012T170000
DTEND;TZID=America/Los_Angeles:20241012T200000
DTSTAMP:20260425T053343
CREATED:20241020T222614Z
LAST-MODIFIED:20241020T222614Z
UID:10000696-1728752400-1728763200@norcalsistercities.org
SUMMARY:Morgan Hill Sister Cities: Olive Oil Tasting
DESCRIPTION:Join us for a Premium Extra Virgin Olive Oil Tasting event! \nCost: $45\, proceeds benefit Morgan Hill Sister Cities \n\nHeavy hors d’oeuvres accompany the tasting\nTasting led by an expert – U.M.A.O. Certified for Olive Oil Taste Rating\nBYOB\, wine and beer glasses will be provided\nLimited seating; reserve your space early!\n\nContact: Amy Whelan to purchase tickets and receive event location details
URL:https://norcalsistercities.org/events/morgan-hill-sister-cities-olive-oil-tasting/
LOCATION:TBA
ATTACH;FMTTYPE=image/jpeg:https://norcalsistercities.org/wp-content/uploads/2024/10/Olive-Oil-Tasting.jpg
ORGANIZER;CN="Morgan Hill Sister Cities":MAILTO:johnkelley103@gmail.com
END:VEVENT
BEGIN:VEVENT
DTSTART;TZID=America/Los_Angeles:20241009T180000
DTEND;TZID=America/Los_Angeles:20241009T194500
DTSTAMP:20260425T053343
CREATED:20230715T212051Z
LAST-MODIFIED:20230715T212051Z
UID:10000105-1728496800-1728503100@norcalsistercities.org
SUMMARY:Sonoma-Kaniv Committee Meeting
DESCRIPTION:
URL:https://norcalsistercities.org/events/sonoma-kaniv-committee-meeting-3/
LOCATION:Sonoma Library Meeting Room\, 755 West Napa\, Sonoma\, CA\, 95476\, United States
ATTACH;FMTTYPE=image/jpeg:https://norcalsistercities.org/wp-content/uploads/2023/07/sonoma-kaniv-committee.jpg
ORGANIZER;CN="Sonoma Sister Cities Association":MAILTO:info@sonomasistercitiesassociation.org
END:VEVENT
BEGIN:VEVENT
DTSTART;TZID=America/Los_Angeles:20241007T180000
DTEND;TZID=America/Los_Angeles:20241007T190000
DTSTAMP:20260425T053343
CREATED:20241020T210718Z
LAST-MODIFIED:20241020T210718Z
UID:10000583-1728324000-1728327600@norcalsistercities.org
SUMMARY:Cupertino-Hsinchu Sister City Association board meeting
DESCRIPTION:
URL:https://norcalsistercities.org/events/cupertino-hsinchu-sister-city-association-board-meeting/2024-10-07/
LOCATION:CA
ATTACH;FMTTYPE=image/jpeg:https://norcalsistercities.org/wp-content/uploads/2024/10/Cupertino-Hsinchu-Sister-City-Association.jpg
ORGANIZER;CN="Cupertino-Hsinchu Sister City Association":MAILTO:chiachinglin6@gmail.com
END:VEVENT
BEGIN:VEVENT
DTSTART;TZID=America/Los_Angeles:20241007T110000
DTEND;TZID=America/Los_Angeles:20241007T123000
DTSTAMP:20260425T053343
CREATED:20230715T211218Z
LAST-MODIFIED:20230715T224556Z
UID:10000104-1728298800-1728304200@norcalsistercities.org
SUMMARY:Sonoma-Penglai Committee Meeting
DESCRIPTION:
URL:https://norcalsistercities.org/events/sonoma-penglai-committee-meeting-3/
LOCATION:Virtual
ATTACH;FMTTYPE=image/jpeg:https://norcalsistercities.org/wp-content/uploads/2023/07/Sonoma-Penglai-Sister-City-Relationship-Symposium-banner.jpg
ORGANIZER;CN="Sonoma Sister Cities Association":MAILTO:info@sonomasistercitiesassociation.org
END:VEVENT
BEGIN:VEVENT
DTSTART;TZID=America/Los_Angeles:20241003T120000
DTEND;TZID=America/Los_Angeles:20241003T130000
DTSTAMP:20260425T053343
CREATED:20230725T222122Z
LAST-MODIFIED:20230725T222122Z
UID:10000263-1727956800-1727960400@norcalsistercities.org
SUMMARY:Stockton Sister Cities Association Board Meeting
DESCRIPTION:First Thursday of the Month
URL:https://norcalsistercities.org/events/stockton-sister-cities-association-board-meeting/2024-10-03/
LOCATION:Valley Brew\, 157 W Adams St.\, Stockton\, CA\, 95204\, United States
CATEGORIES:Meetings
ATTACH;FMTTYPE=image/jpeg:https://norcalsistercities.org/wp-content/uploads/2023/07/Stockton-Sister-Cities-Association.jpg
END:VEVENT
BEGIN:VEVENT
DTSTART;TZID=America/Los_Angeles:20240919T183000
DTEND;TZID=America/Los_Angeles:20240919T193000
DTSTAMP:20260425T053343
CREATED:20230725T214258Z
LAST-MODIFIED:20230725T214258Z
UID:10000193-1726770600-1726774200@norcalsistercities.org
SUMMARY:Concord Ambassadors General Meeting
DESCRIPTION:
URL:https://norcalsistercities.org/events/concord-ambassadors-general-meeting/2024-09-19/
LOCATION:Concord City Hall – Garden Conference Room\, 1950 Parkside Drive\, Concord\, CA\, 94519\, United States
CATEGORIES:Meetings
ATTACH;FMTTYPE=image/jpeg:https://norcalsistercities.org/wp-content/uploads/2023/07/ConcordAmbassadors.jpg
ORGANIZER;CN="Concord Ambassadors":MAILTO:concordambassadors@gmail.com
END:VEVENT
BEGIN:VEVENT
DTSTART;TZID=America/Los_Angeles:20240917T190000
DTEND;TZID=America/Los_Angeles:20240917T210000
DTSTAMP:20260425T053343
CREATED:20230729T014437Z
LAST-MODIFIED:20230729T014437Z
UID:10000334-1726599600-1726606800@norcalsistercities.org
SUMMARY:Oakland-Fukuoka Sister City Association general meeting
DESCRIPTION:General meetings are typically held on the third Tuesday of the month. All are welcome to attend! \nTo receive the Zoom meeting link\, email ofsca1962@gmail.com. \nThis is an open meeting using the free Zoom video/audio meeting platform. No subscription is required\, and Zoom is free to download for your desktop or mobile device\, can be used with your device’s built-in microphone/camera\, or can be joined via telephone call (audio only).
URL:https://norcalsistercities.org/events/oakland-fukuoka-sister-city-association-general-meeting/2024-09-17/
LOCATION:Zoom
CATEGORIES:Meetings
ATTACH;FMTTYPE=image/jpeg:https://norcalsistercities.org/wp-content/uploads/2023/07/Oakland-Fukuoka-Sister-City-Association-logo.jpg
ORGANIZER;CN="Oakland-Fukuoka Sister City Association":MAILTO:ofsca1962@gmail.com
END:VEVENT
BEGIN:VEVENT
DTSTART;TZID=America/Los_Angeles:20240916T180000
DTEND;TZID=America/Los_Angeles:20240916T193000
DTSTAMP:20260425T053343
CREATED:20230715T220321Z
LAST-MODIFIED:20230715T220321Z
UID:10000103-1726509600-1726515000@norcalsistercities.org
SUMMARY:Sonoma Sister Cities Association Board of Directors Monthly Meeting
DESCRIPTION:
URL:https://norcalsistercities.org/events/sonoma-sister-cities-association-board-of-directors-monthly-meeting-3/
LOCATION:TBA
ATTACH;FMTTYPE=image/jpeg:https://norcalsistercities.org/wp-content/uploads/2023/07/Sonoma-Sister-Cities-Association_logo.jpg
ORGANIZER;CN="Sonoma Sister Cities Association":MAILTO:info@sonomasistercitiesassociation.org
END:VEVENT
BEGIN:VEVENT
DTSTART;TZID=America/Los_Angeles:20240911T180000
DTEND;TZID=America/Los_Angeles:20240911T194500
DTSTAMP:20260425T053343
CREATED:20230715T212749Z
LAST-MODIFIED:20230715T212749Z
UID:10000102-1726077600-1726083900@norcalsistercities.org
SUMMARY:Sonoma-Kaniv Committee Meeting
DESCRIPTION:
URL:https://norcalsistercities.org/events/sonoma-kaniv-committee-meeting-11/
LOCATION:Sonoma Library Meeting Room\, 755 West Napa\, Sonoma\, CA\, 95476\, United States
ATTACH;FMTTYPE=image/jpeg:https://norcalsistercities.org/wp-content/uploads/2023/07/sonoma-kaniv-committee.jpg
ORGANIZER;CN="Sonoma Sister Cities Association":MAILTO:info@sonomasistercitiesassociation.org
END:VEVENT
BEGIN:VEVENT
DTSTART;TZID=America/Los_Angeles:20240909T190000
DTEND;TZID=America/Los_Angeles:20240909T210000
DTSTAMP:20260425T053343
CREATED:20240715T133034Z
LAST-MODIFIED:20240715T133034Z
UID:10000545-1725908400-1725915600@norcalsistercities.org
SUMMARY:Santa Cruz Sister Cities Committee meeting
DESCRIPTION:The purpose of the Committee is to encourage the people of Santa Cruz and its Sister Cities to understand one another as individuals\, as members of their community\, as citizens of their country\, and as part of the family of nations. \nAgendas and minutes
URL:https://norcalsistercities.org/events/santa-cruz-sister-cities-committee-meeting-4/
LOCATION:Santa Cruz City Council Chambers\, 809 Center Street\, Santa Cruz\, CA\, 95060\, United States
CATEGORIES:Meetings
ATTACH;FMTTYPE=image/jpeg:https://norcalsistercities.org/wp-content/uploads/2023/07/City-of-Santa-Cruz-Sister-Cities-Committee.jpg
ORGANIZER;CN="Santa Cruz Sister Cities Committee":MAILTO:sistercities@cityofsantacruz.com
END:VEVENT
BEGIN:VEVENT
DTSTART;TZID=America/Los_Angeles:20240909T190000
DTEND;TZID=America/Los_Angeles:20240909T200000
DTSTAMP:20260425T053343
CREATED:20241020T210157Z
LAST-MODIFIED:20241020T210157Z
UID:10000582-1725908400-1725912000@norcalsistercities.org
SUMMARY:Cupertino-Hsinchu Student Exchange Information Meeting
DESCRIPTION:The City of Cupertino will be welcoming student delegates\,7th\, 8th\, 9th\, 10th\, 11th and 12th graders from Hsinchu\, Taiwan as a part of its annual student exchange program. The delegations\, along with 3 chaperons\, are scheduled to visit Cupertino from October 26th and November 3rd\, 2024.  These students will have the opportunity to experience American Culture\, explore our community and attend local schools. During Spring Break of April 2025 we will be sending our student delegation to Hsinchu so our students have the chance to explore and learn about Taiwanese culture and education system. \nTo enhance each student’s cultural experience\, the Cupertino-Hsinchu Sister City Association (CHSCA)\, with the support of the City of Cupertino\, Cupertino Union School District and Fremont Union High School District\, invites interested families to participate in this event as hosts to these students. One visiting student will be assigned to each home. While the exchange students will mostly attend organized activities during the week\, the host families will have opportunities to arrange activities with the students during the week and weekends. Cupertino Union School District and Fremont Union High School District students who host will also have the opportunity to travel to Hsinchu\, Taiwan during Spring Break of April 2025 as part of our student delegation. \nStudents who host Hsinchu students in October 2024 will be eligible to be an exchange student for our April 2025 trip to Hsinchu. Students who are not selected to host in October 2024 will be considered for the student exchange in April 2025 and if selected to go\, will host in October 2025. \nAll interested families whose child holds a valid US passport\, is in grades 7-12 in either CUSD or FUHSD\, and resides within those district boundaries\, are invited to join the 2024-2025 Host and Exchange Program Information Meeting to learn more about our student host and exchange  program for the year.     
URL:https://norcalsistercities.org/events/cupertino-hsinchu-student-exchange-information-meeting/
LOCATION:John Muir Elementary School\, 6560 Hanover Drive\, San Jose\, CA\, 95129\, United States
ATTACH;FMTTYPE=image/jpeg:https://norcalsistercities.org/wp-content/uploads/2024/10/Cupertino-Hsinchu-Sister-City-Association.jpg
ORGANIZER;CN="Cupertino-Hsinchu Sister City Association":MAILTO:chiachinglin6@gmail.com
END:VEVENT
BEGIN:VEVENT
DTSTART;TZID=America/Los_Angeles:20240905T120000
DTEND;TZID=America/Los_Angeles:20240905T130000
DTSTAMP:20260425T053343
CREATED:20230725T222122Z
LAST-MODIFIED:20230725T222122Z
UID:10000262-1725537600-1725541200@norcalsistercities.org
SUMMARY:Stockton Sister Cities Association Board Meeting
DESCRIPTION:First Thursday of the Month
URL:https://norcalsistercities.org/events/stockton-sister-cities-association-board-meeting/2024-09-05/
LOCATION:Valley Brew\, 157 W Adams St.\, Stockton\, CA\, 95204\, United States
CATEGORIES:Meetings
ATTACH;FMTTYPE=image/jpeg:https://norcalsistercities.org/wp-content/uploads/2023/07/Stockton-Sister-Cities-Association.jpg
END:VEVENT
BEGIN:VEVENT
DTSTART;TZID=America/Los_Angeles:20240902T110000
DTEND;TZID=America/Los_Angeles:20240902T123000
DTSTAMP:20260425T053343
CREATED:20230715T211248Z
LAST-MODIFIED:20230715T224520Z
UID:10000101-1725274800-1725280200@norcalsistercities.org
SUMMARY:Sonoma-Penglai Committee Meeting
DESCRIPTION:
URL:https://norcalsistercities.org/events/sonoma-penglai-committee-meeting-4/
LOCATION:Virtual
ATTACH;FMTTYPE=image/jpeg:https://norcalsistercities.org/wp-content/uploads/2023/07/Sonoma-Penglai-Sister-City-Relationship-Symposium-banner.jpg
ORGANIZER;CN="Sonoma Sister Cities Association":MAILTO:info@sonomasistercitiesassociation.org
END:VEVENT
BEGIN:VEVENT
DTSTART;TZID=America/Los_Angeles:20240820T190000
DTEND;TZID=America/Los_Angeles:20240820T210000
DTSTAMP:20260425T053343
CREATED:20230729T014437Z
LAST-MODIFIED:20230729T014437Z
UID:10000333-1724180400-1724187600@norcalsistercities.org
SUMMARY:Oakland-Fukuoka Sister City Association general meeting
DESCRIPTION:General meetings are typically held on the third Tuesday of the month. All are welcome to attend! \nTo receive the Zoom meeting link\, email ofsca1962@gmail.com. \nThis is an open meeting using the free Zoom video/audio meeting platform. No subscription is required\, and Zoom is free to download for your desktop or mobile device\, can be used with your device’s built-in microphone/camera\, or can be joined via telephone call (audio only).
URL:https://norcalsistercities.org/events/oakland-fukuoka-sister-city-association-general-meeting/2024-08-20/
LOCATION:Zoom
CATEGORIES:Meetings
ATTACH;FMTTYPE=image/jpeg:https://norcalsistercities.org/wp-content/uploads/2023/07/Oakland-Fukuoka-Sister-City-Association-logo.jpg
ORGANIZER;CN="Oakland-Fukuoka Sister City Association":MAILTO:ofsca1962@gmail.com
END:VEVENT
BEGIN:VEVENT
DTSTART;TZID=America/Los_Angeles:20240819T180000
DTEND;TZID=America/Los_Angeles:20240819T193000
DTSTAMP:20260425T053343
CREATED:20230715T220418Z
LAST-MODIFIED:20230715T220418Z
UID:10000100-1724090400-1724095800@norcalsistercities.org
SUMMARY:Sonoma Sister Cities Association Board of Directors Monthly Meeting
DESCRIPTION:
URL:https://norcalsistercities.org/events/sonoma-sister-cities-association-board-of-directors-monthly-meeting-4/
LOCATION:TBA
ATTACH;FMTTYPE=image/jpeg:https://norcalsistercities.org/wp-content/uploads/2023/07/Sonoma-Sister-Cities-Association_logo.jpg
ORGANIZER;CN="Sonoma Sister Cities Association":MAILTO:info@sonomasistercitiesassociation.org
END:VEVENT
BEGIN:VEVENT
DTSTART;TZID=America/Los_Angeles:20240815T183000
DTEND;TZID=America/Los_Angeles:20240815T193000
DTSTAMP:20260425T053343
CREATED:20230725T214258Z
LAST-MODIFIED:20230725T214258Z
UID:10000192-1723746600-1723750200@norcalsistercities.org
SUMMARY:Concord Ambassadors General Meeting
DESCRIPTION:
URL:https://norcalsistercities.org/events/concord-ambassadors-general-meeting/2024-08-15/
LOCATION:Concord City Hall – Garden Conference Room\, 1950 Parkside Drive\, Concord\, CA\, 94519\, United States
CATEGORIES:Meetings
ATTACH;FMTTYPE=image/jpeg:https://norcalsistercities.org/wp-content/uploads/2023/07/ConcordAmbassadors.jpg
ORGANIZER;CN="Concord Ambassadors":MAILTO:concordambassadors@gmail.com
END:VEVENT
BEGIN:VEVENT
DTSTART;TZID=America/Los_Angeles:20240814T180000
DTEND;TZID=America/Los_Angeles:20240814T194500
DTSTAMP:20260425T053343
CREATED:20230715T212830Z
LAST-MODIFIED:20230715T212830Z
UID:10000099-1723658400-1723664700@norcalsistercities.org
SUMMARY:Sonoma-Kaniv Committee Meeting
DESCRIPTION:
URL:https://norcalsistercities.org/events/sonoma-kaniv-committee-meeting-12/
LOCATION:Sonoma Library Meeting Room\, 755 West Napa\, Sonoma\, CA\, 95476\, United States
ATTACH;FMTTYPE=image/jpeg:https://norcalsistercities.org/wp-content/uploads/2023/07/sonoma-kaniv-committee.jpg
ORGANIZER;CN="Sonoma Sister Cities Association":MAILTO:info@sonomasistercitiesassociation.org
END:VEVENT
BEGIN:VEVENT
DTSTART;TZID=America/Los_Angeles:20240806T180000
DTEND;TZID=America/Los_Angeles:20240806T183000
DTSTAMP:20260425T053343
CREATED:20241020T211512Z
LAST-MODIFIED:20241020T211512Z
UID:10000644-1722967200-1722969000@norcalsistercities.org
SUMMARY:Cupertino-Toyokawa Sister Cities: Bell Ringing for World Peace
DESCRIPTION:Cupertino-Toyokawa Sister Cities Inc. is hosting its fifth annual Bell Ringing Ceremony to commemorate 79 years of peace since WWII. \nOn August 7\, 1945\, at 10:13 a.m.\, between the atomic bombing of Hiroshima and Nagasaki\, the Naval Armory in Toyokawa Japan was bombed. \nCupertino is sister cities with Toyokawa. \nCupertino-Toyokawa Sister Cities Inc. will hold a bell-ringing for World Peace event on August 6\, 2024\, at 6:13 p.m.\, to coincide with the time of the bombing in Japan. \nEveryone is welcomed and is encouraged to bring a bell to ring as we renew our sister city relationships and our wish for everlasting peace. \nPlease arrive a few minutes early for the prompt start of a short ceremony at 6 p.m. You will be able to easily spot us from the parking lot on Alves Drive\, behind the Quinlan Community Center. Please bring a small bell to ring\, if you have one. Casual attire.
URL:https://norcalsistercities.org/events/cupertino-toyokawa-sister-cities-bell-ringing-for-world-peace/
LOCATION:Cupertino Memorial Park\, 21121 Stevens Creek Boulevard\, Cupertino\, CA\, 95014\, United States
ATTACH;FMTTYPE=image/jpeg:https://norcalsistercities.org/wp-content/uploads/2023/07/Cupertino-bell-ringing.jpg
END:VEVENT
BEGIN:VEVENT
DTSTART;TZID=America/Los_Angeles:20240805T110000
DTEND;TZID=America/Los_Angeles:20240805T123000
DTSTAMP:20260425T053343
CREATED:20230715T211322Z
LAST-MODIFIED:20230715T224454Z
UID:10000098-1722855600-1722861000@norcalsistercities.org
SUMMARY:Sonoma-Penglai Committee Meeting
DESCRIPTION:
URL:https://norcalsistercities.org/events/sonoma-penglai-committee-meeting-5/
LOCATION:Virtual
ATTACH;FMTTYPE=image/jpeg:https://norcalsistercities.org/wp-content/uploads/2023/07/Sonoma-Penglai-Sister-City-Relationship-Symposium-banner.jpg
ORGANIZER;CN="Sonoma Sister Cities Association":MAILTO:info@sonomasistercitiesassociation.org
END:VEVENT
BEGIN:VEVENT
DTSTART;VALUE=DATE:20240804
DTEND;VALUE=DATE:20240811
DTSTAMP:20260425T053343
CREATED:20241020T180458Z
LAST-MODIFIED:20241020T180458Z
UID:10000561-1722729600-1723334399@norcalsistercities.org
SUMMARY:Youth Leadership Summit 2024
DESCRIPTION:The 2024 Youth Leadership Summit includes sessions and activities for youth\, ages 14-18\, from across the globe. The Summit is designed to engage future leaders and expose them to important global challenges inspiring a new generation of citizen diplomats and volunteers who become instrumental in promoting peace\, mutual respect\, and prosperity. The main goal of this summit is to prepare students with leadership and professional development skills to enable their successes and growth in the global community.
URL:https://norcalsistercities.org/events/youth-leadership-summit-2024/
LOCATION:Sister Cities International Headquarters\, 1012 14th Street\, N.W. Ste 1400\, Washington\, DC\, 20005\, United States
ATTACH;FMTTYPE=image/jpeg:https://norcalsistercities.org/wp-content/uploads/2024/10/YLS2-white-bg-300x193-1.jpg
ORGANIZER;CN="Sister Cities International":MAILTO:info@sistercities.org
END:VEVENT
BEGIN:VEVENT
DTSTART;TZID=America/Los_Angeles:20240801T120000
DTEND;TZID=America/Los_Angeles:20240801T130000
DTSTAMP:20260425T053343
CREATED:20230725T222122Z
LAST-MODIFIED:20230725T222122Z
UID:10000261-1722513600-1722517200@norcalsistercities.org
SUMMARY:Stockton Sister Cities Association Board Meeting
DESCRIPTION:First Thursday of the Month
URL:https://norcalsistercities.org/events/stockton-sister-cities-association-board-meeting/2024-08-01/
LOCATION:Valley Brew\, 157 W Adams St.\, Stockton\, CA\, 95204\, United States
CATEGORIES:Meetings
ATTACH;FMTTYPE=image/jpeg:https://norcalsistercities.org/wp-content/uploads/2023/07/Stockton-Sister-Cities-Association.jpg
END:VEVENT
BEGIN:VEVENT
DTSTART;TZID=America/Los_Angeles:20240727T100000
DTEND;TZID=America/Los_Angeles:20240727T120000
DTSTAMP:20260425T053343
CREATED:20241020T193237Z
LAST-MODIFIED:20241020T193237Z
UID:10000568-1722074400-1722081600@norcalsistercities.org
SUMMARY:2024 3rd Quarter NorCal Chapter Board meeting
DESCRIPTION:
URL:https://norcalsistercities.org/events/2024-3rd-quarter-norcal-chapter-board-meeting/
LOCATION:Mark Green Sports Center\, 31224 Union City Boulevard\, Union City\, CA\, 94587\, United States
CATEGORIES:Meetings
ATTACH;FMTTYPE=image/jpeg:https://norcalsistercities.org/wp-content/uploads/2022/03/Sister-Cities-International-logo.jpg
END:VEVENT
BEGIN:VEVENT
DTSTART;TZID=America/Los_Angeles:20240718T183000
DTEND;TZID=America/Los_Angeles:20240718T193000
DTSTAMP:20260425T053343
CREATED:20230725T214258Z
LAST-MODIFIED:20230725T214258Z
UID:10000191-1721327400-1721331000@norcalsistercities.org
SUMMARY:Concord Ambassadors General Meeting
DESCRIPTION:
URL:https://norcalsistercities.org/events/concord-ambassadors-general-meeting/2024-07-18/
LOCATION:Concord City Hall – Garden Conference Room\, 1950 Parkside Drive\, Concord\, CA\, 94519\, United States
CATEGORIES:Meetings
ATTACH;FMTTYPE=image/jpeg:https://norcalsistercities.org/wp-content/uploads/2023/07/ConcordAmbassadors.jpg
ORGANIZER;CN="Concord Ambassadors":MAILTO:concordambassadors@gmail.com
END:VEVENT
BEGIN:VEVENT
DTSTART;TZID=America/Los_Angeles:20240716T190000
DTEND;TZID=America/Los_Angeles:20240716T210000
DTSTAMP:20260425T053343
CREATED:20230729T014437Z
LAST-MODIFIED:20230729T014437Z
UID:10000332-1721156400-1721163600@norcalsistercities.org
SUMMARY:Oakland-Fukuoka Sister City Association general meeting
DESCRIPTION:General meetings are typically held on the third Tuesday of the month. All are welcome to attend! \nTo receive the Zoom meeting link\, email ofsca1962@gmail.com. \nThis is an open meeting using the free Zoom video/audio meeting platform. No subscription is required\, and Zoom is free to download for your desktop or mobile device\, can be used with your device’s built-in microphone/camera\, or can be joined via telephone call (audio only).
URL:https://norcalsistercities.org/events/oakland-fukuoka-sister-city-association-general-meeting/2024-07-16/
LOCATION:Zoom
CATEGORIES:Meetings
ATTACH;FMTTYPE=image/jpeg:https://norcalsistercities.org/wp-content/uploads/2023/07/Oakland-Fukuoka-Sister-City-Association-logo.jpg
ORGANIZER;CN="Oakland-Fukuoka Sister City Association":MAILTO:ofsca1962@gmail.com
END:VEVENT
BEGIN:VEVENT
DTSTART;TZID=America/Los_Angeles:20240715T180000
DTEND;TZID=America/Los_Angeles:20240715T193000
DTSTAMP:20260425T053343
CREATED:20230715T220454Z
LAST-MODIFIED:20230715T220454Z
UID:10000097-1721066400-1721071800@norcalsistercities.org
SUMMARY:Sonoma Sister Cities Association Board of Directors Monthly Meeting
DESCRIPTION:
URL:https://norcalsistercities.org/events/sonoma-sister-cities-association-board-of-directors-monthly-meeting-5/
LOCATION:TBA
ATTACH;FMTTYPE=image/jpeg:https://norcalsistercities.org/wp-content/uploads/2023/07/Sonoma-Sister-Cities-Association_logo.jpg
ORGANIZER;CN="Sonoma Sister Cities Association":MAILTO:info@sonomasistercitiesassociation.org
END:VEVENT
BEGIN:VEVENT
DTSTART;TZID=America/Los_Angeles:20240710T180000
DTEND;TZID=America/Los_Angeles:20240710T194500
DTSTAMP:20260425T053343
CREATED:20230715T212907Z
LAST-MODIFIED:20230715T212907Z
UID:10000096-1720634400-1720640700@norcalsistercities.org
SUMMARY:Sonoma-Kaniv Committee Meeting
DESCRIPTION:
URL:https://norcalsistercities.org/events/sonoma-kaniv-committee-meeting-13/
LOCATION:Sonoma Library Meeting Room\, 755 West Napa\, Sonoma\, CA\, 95476\, United States
ATTACH;FMTTYPE=image/jpeg:https://norcalsistercities.org/wp-content/uploads/2023/07/sonoma-kaniv-committee.jpg
ORGANIZER;CN="Sonoma Sister Cities Association":MAILTO:info@sonomasistercitiesassociation.org
END:VEVENT
BEGIN:VEVENT
DTSTART;TZID=America/Los_Angeles:20240708T190000
DTEND;TZID=America/Los_Angeles:20240708T210000
DTSTAMP:20260425T053343
CREATED:20240715T132944Z
LAST-MODIFIED:20240715T132944Z
UID:10000544-1720465200-1720472400@norcalsistercities.org
SUMMARY:Santa Cruz Sister Cities Committee meeting
DESCRIPTION:The purpose of the Committee is to encourage the people of Santa Cruz and its Sister Cities to understand one another as individuals\, as members of their community\, as citizens of their country\, and as part of the family of nations. \nAgendas and minutes
URL:https://norcalsistercities.org/events/santa-cruz-sister-cities-committee-meeting-3/
LOCATION:Santa Cruz City Council Chambers\, 809 Center Street\, Santa Cruz\, CA\, 95060\, United States
CATEGORIES:Meetings
ATTACH;FMTTYPE=image/jpeg:https://norcalsistercities.org/wp-content/uploads/2023/07/City-of-Santa-Cruz-Sister-Cities-Committee.jpg
ORGANIZER;CN="Santa Cruz Sister Cities Committee":MAILTO:sistercities@cityofsantacruz.com
END:VEVENT
BEGIN:VEVENT
DTSTART;TZID=America/Los_Angeles:20240704T120000
DTEND;TZID=America/Los_Angeles:20240704T130000
DTSTAMP:20260425T053343
CREATED:20230725T222122Z
LAST-MODIFIED:20230725T222122Z
UID:10000260-1720094400-1720098000@norcalsistercities.org
SUMMARY:Stockton Sister Cities Association Board Meeting
DESCRIPTION:First Thursday of the Month
URL:https://norcalsistercities.org/events/stockton-sister-cities-association-board-meeting/2024-07-04/
LOCATION:Valley Brew\, 157 W Adams St.\, Stockton\, CA\, 95204\, United States
CATEGORIES:Meetings
ATTACH;FMTTYPE=image/jpeg:https://norcalsistercities.org/wp-content/uploads/2023/07/Stockton-Sister-Cities-Association.jpg
END:VEVENT
BEGIN:VEVENT
DTSTART;TZID=America/Los_Angeles:20240701T110000
DTEND;TZID=America/Los_Angeles:20240701T123000
DTSTAMP:20260425T053343
CREATED:20230715T211422Z
LAST-MODIFIED:20230715T224429Z
UID:10000095-1719831600-1719837000@norcalsistercities.org
SUMMARY:Sonoma-Penglai Committee Meeting
DESCRIPTION:
URL:https://norcalsistercities.org/events/sonoma-penglai-committee-meeting-6/
LOCATION:Virtual
ATTACH;FMTTYPE=image/jpeg:https://norcalsistercities.org/wp-content/uploads/2023/07/Sonoma-Penglai-Sister-City-Relationship-Symposium-banner.jpg
ORGANIZER;CN="Sonoma Sister Cities Association":MAILTO:info@sonomasistercitiesassociation.org
END:VEVENT
END:VCALENDAR