BEGIN:VCALENDAR
VERSION:2.0
PRODID:-//Northern California Chapter of Sister Cities International - ECPv6.15.20//NONSGML v1.0//EN
CALSCALE:GREGORIAN
METHOD:PUBLISH
X-WR-CALNAME:Northern California Chapter of Sister Cities International
X-ORIGINAL-URL:https://norcalsistercities.org
X-WR-CALDESC:Events for Northern California Chapter of Sister Cities International
REFRESH-INTERVAL;VALUE=DURATION:PT1H
X-Robots-Tag:noindex
X-PUBLISHED-TTL:PT1H
BEGIN:VTIMEZONE
TZID:America/Los_Angeles
BEGIN:DAYLIGHT
TZOFFSETFROM:-0800
TZOFFSETTO:-0700
TZNAME:PDT
DTSTART:20230312T100000
END:DAYLIGHT
BEGIN:STANDARD
TZOFFSETFROM:-0700
TZOFFSETTO:-0800
TZNAME:PST
DTSTART:20231105T090000
END:STANDARD
BEGIN:DAYLIGHT
TZOFFSETFROM:-0800
TZOFFSETTO:-0700
TZNAME:PDT
DTSTART:20240310T100000
END:DAYLIGHT
BEGIN:STANDARD
TZOFFSETFROM:-0700
TZOFFSETTO:-0800
TZNAME:PST
DTSTART:20241103T090000
END:STANDARD
BEGIN:DAYLIGHT
TZOFFSETFROM:-0800
TZOFFSETTO:-0700
TZNAME:PDT
DTSTART:20250309T100000
END:DAYLIGHT
BEGIN:STANDARD
TZOFFSETFROM:-0700
TZOFFSETTO:-0800
TZNAME:PST
DTSTART:20251102T090000
END:STANDARD
END:VTIMEZONE
BEGIN:VEVENT
DTSTART;TZID=America/Los_Angeles:20240420T150000
DTEND;TZID=America/Los_Angeles:20240420T170000
DTSTAMP:20260425T064719
CREATED:20240120T190254Z
LAST-MODIFIED:20241213T161143Z
UID:10000492-1713625200-1713632400@norcalsistercities.org
SUMMARY:Friendship Celebration – Where Sushi Meets Borshch
DESCRIPTION:Please join us at our Sebastopol Word Friend Friendship Celebration – Where Sushi Meets Borshch! \nThis is our annual tradition where friends and supporters gather and celebrate our community\, our sister cities and their cultures\, and our work for world peace. \nEnjoy the harmony of sushi and borsch from Japan and Ukraine\, where Sebastopol has our two sister cities: Takeo and Chyhyryn. Food service from 3 p.m. with program starting at 3:30 p.m. featuring cultural entertainment by Sonoma County Taiko’s drumming and Eleanor and Angeline Bezhenar AKA “The Bezhenar Sisters “\, local singers of Ukrainian songs. \nPre-registration is suggested. Ticket donation amounts are $25 for adults and $15 for children and seniors. \nFor more information about the Friendship Celebration and Sebastopol World Friends\, visit www.sebastopolwf.org or contact info@sebastopolwf.org.
URL:https://norcalsistercities.org/events/friendship-celebration-where-sushi-meets-borsch-2/
LOCATION:Enmanji Buddhist Temple\, 1200 Gravenstein Hwy S\, Sebastopol\, 95472\, United States
ATTACH;FMTTYPE=image/jpeg:https://norcalsistercities.org/wp-content/uploads/2023/10/Sebastopol-World-Friends-Where-Sushi-Meets-Borsch.jpg
END:VEVENT
BEGIN:VEVENT
DTSTART;TZID=America/Los_Angeles:20240420T120000
DTEND;TZID=America/Los_Angeles:20240420T140000
DTSTAMP:20260425T064719
CREATED:20241020T193049Z
LAST-MODIFIED:20241020T193049Z
UID:10000567-1713614400-1713621600@norcalsistercities.org
SUMMARY:2024 2nd Quarter NorCal Chapter Board meeting
DESCRIPTION:
URL:https://norcalsistercities.org/events/2024-2nd-quarter-norcal-chapter-board-meeting-2/
LOCATION:Sonoma County Japanese American Citizens League Office\, 515 Petaluma Ave.\, Sebastopol\, CA\, 95472\, United States
CATEGORIES:Meetings
ATTACH;FMTTYPE=image/jpeg:https://norcalsistercities.org/wp-content/uploads/2022/03/Sister-Cities-International-logo.jpg
END:VEVENT
BEGIN:VEVENT
DTSTART;TZID=America/Los_Angeles:20240418T183000
DTEND;TZID=America/Los_Angeles:20240418T193000
DTSTAMP:20260425T064719
CREATED:20230725T214258Z
LAST-MODIFIED:20230725T214258Z
UID:10000188-1713465000-1713468600@norcalsistercities.org
SUMMARY:Concord Ambassadors General Meeting
DESCRIPTION:
URL:https://norcalsistercities.org/events/concord-ambassadors-general-meeting/2024-04-18/
LOCATION:Concord City Hall – Garden Conference Room\, 1950 Parkside Drive\, Concord\, CA\, 94519\, United States
CATEGORIES:Meetings
ATTACH;FMTTYPE=image/jpeg:https://norcalsistercities.org/wp-content/uploads/2023/07/ConcordAmbassadors.jpg
ORGANIZER;CN="Concord Ambassadors":MAILTO:concordambassadors@gmail.com
END:VEVENT
BEGIN:VEVENT
DTSTART;TZID=America/Los_Angeles:20240416T190000
DTEND;TZID=America/Los_Angeles:20240416T210000
DTSTAMP:20260425T064719
CREATED:20230729T014437Z
LAST-MODIFIED:20230729T014437Z
UID:10000329-1713294000-1713301200@norcalsistercities.org
SUMMARY:Oakland-Fukuoka Sister City Association general meeting
DESCRIPTION:General meetings are typically held on the third Tuesday of the month. All are welcome to attend! \nTo receive the Zoom meeting link\, email ofsca1962@gmail.com. \nThis is an open meeting using the free Zoom video/audio meeting platform. No subscription is required\, and Zoom is free to download for your desktop or mobile device\, can be used with your device’s built-in microphone/camera\, or can be joined via telephone call (audio only).
URL:https://norcalsistercities.org/events/oakland-fukuoka-sister-city-association-general-meeting/2024-04-16/
LOCATION:Zoom
CATEGORIES:Meetings
ATTACH;FMTTYPE=image/jpeg:https://norcalsistercities.org/wp-content/uploads/2023/07/Oakland-Fukuoka-Sister-City-Association-logo.jpg
ORGANIZER;CN="Oakland-Fukuoka Sister City Association":MAILTO:ofsca1962@gmail.com
END:VEVENT
BEGIN:VEVENT
DTSTART;TZID=America/Los_Angeles:20240415T180000
DTEND;TZID=America/Los_Angeles:20240415T193000
DTSTAMP:20260425T064719
CREATED:20230715T220636Z
LAST-MODIFIED:20230715T220636Z
UID:10000088-1713204000-1713209400@norcalsistercities.org
SUMMARY:Sonoma Sister Cities Association Board of Directors Monthly Meeting
DESCRIPTION:
URL:https://norcalsistercities.org/events/sonoma-sister-cities-association-board-of-directors-monthly-meeting-8/
LOCATION:TBA
ATTACH;FMTTYPE=image/jpeg:https://norcalsistercities.org/wp-content/uploads/2023/07/Sonoma-Sister-Cities-Association_logo.jpg
ORGANIZER;CN="Sonoma Sister Cities Association":MAILTO:info@sonomasistercitiesassociation.org
END:VEVENT
BEGIN:VEVENT
DTSTART;TZID=America/Los_Angeles:20240410T180000
DTEND;TZID=America/Los_Angeles:20240410T194500
DTSTAMP:20260425T064719
CREATED:20230715T213010Z
LAST-MODIFIED:20230715T213010Z
UID:10000087-1712772000-1712778300@norcalsistercities.org
SUMMARY:Sonoma-Kaniv Committee Meeting
DESCRIPTION:
URL:https://norcalsistercities.org/events/sonoma-kaniv-committee-meeting-15/
LOCATION:Sonoma Library Meeting Room\, 755 West Napa\, Sonoma\, CA\, 95476\, United States
ATTACH;FMTTYPE=image/jpeg:https://norcalsistercities.org/wp-content/uploads/2023/07/sonoma-kaniv-committee.jpg
ORGANIZER;CN="Sonoma Sister Cities Association":MAILTO:info@sonomasistercitiesassociation.org
END:VEVENT
BEGIN:VEVENT
DTSTART;TZID=America/Los_Angeles:20240407T140000
DTEND;TZID=America/Los_Angeles:20240407T160000
DTSTAMP:20260425T064719
CREATED:20240402T040943Z
LAST-MODIFIED:20240402T041344Z
UID:10000521-1712498400-1712505600@norcalsistercities.org
SUMMARY:Annual Tea Gathering
DESCRIPTION:The Vallejo Sister City Association and the Vallejo Sister City Commission invites you to join us for a traditional Japanese event in celebration of our 56th year relationship with sister city\, Akashi\, Japan. \nOur mission is to promote peace through mutual respect\, understanding\, and cooperation – one individual\, one community at a time.
URL:https://norcalsistercities.org/events/annual-tea-gathering/
LOCATION:JFK Library – Joseph Room\, 505 Santa Clara St.\, Vallejo\, 94590\, United States
ATTACH;FMTTYPE=image/jpeg:https://norcalsistercities.org/wp-content/uploads/2024/04/Vallejo-Tea-Gathering.jpg
END:VEVENT
BEGIN:VEVENT
DTSTART;TZID=America/Los_Angeles:20240404T120000
DTEND;TZID=America/Los_Angeles:20240404T130000
DTSTAMP:20260425T064719
CREATED:20230725T222122Z
LAST-MODIFIED:20230725T222122Z
UID:10000257-1712232000-1712235600@norcalsistercities.org
SUMMARY:Stockton Sister Cities Association Board Meeting
DESCRIPTION:First Thursday of the Month
URL:https://norcalsistercities.org/events/stockton-sister-cities-association-board-meeting/2024-04-04/
LOCATION:Valley Brew\, 157 W Adams St.\, Stockton\, CA\, 95204\, United States
CATEGORIES:Meetings
ATTACH;FMTTYPE=image/jpeg:https://norcalsistercities.org/wp-content/uploads/2023/07/Stockton-Sister-Cities-Association.jpg
END:VEVENT
BEGIN:VEVENT
DTSTART;TZID=America/Los_Angeles:20240401T110000
DTEND;TZID=America/Los_Angeles:20240401T123000
DTSTAMP:20260425T064719
CREATED:20230715T224857Z
LAST-MODIFIED:20230715T224857Z
UID:10000086-1711969200-1711974600@norcalsistercities.org
SUMMARY:Sonoma-Penglai Committee Meeting
DESCRIPTION:
URL:https://norcalsistercities.org/events/sonoma-penglai-committee-meeting-9/
LOCATION:Virtual
ATTACH;FMTTYPE=image/jpeg:https://norcalsistercities.org/wp-content/uploads/2023/07/Sonoma-Penglai-Sister-City-Relationship-Symposium-banner.jpg
ORGANIZER;CN="Sonoma Sister Cities Association":MAILTO:info@sonomasistercitiesassociation.org
END:VEVENT
BEGIN:VEVENT
DTSTART;TZID=America/Los_Angeles:20240328T190000
DTEND;TZID=America/Los_Angeles:20240328T200000
DTSTAMP:20260425T064719
CREATED:20241020T212144Z
LAST-MODIFIED:20241020T212144Z
UID:10000648-1711652400-1711656000@norcalsistercities.org
SUMMARY:Morgan Hill Sister Cities meeting
DESCRIPTION:Join us anytime! Meetings always welcome the general public. \nSister Cities is an all-volunteer\, membership organization formed in 2002. \nWe currently host relationships with six international cities in Italy\, Turkey\, Mexico\, Japan and Ireland.
URL:https://norcalsistercities.org/events/morgan-hill-sister-cities-meeting-3/2024-03-28/
LOCATION:Centennial Recreation Center – Senior Center\, 171 W Edmundson Avenue\, Morgan Hill\, CA\, 95037\, United States
CATEGORIES:Meetings
ATTACH;FMTTYPE=image/jpeg:https://norcalsistercities.org/wp-content/uploads/2023/09/Morgan-Hill-Sister-Cities.jpg
ORGANIZER;CN="Morgan Hill Sister Cities":MAILTO:johnkelley103@gmail.com
END:VEVENT
BEGIN:VEVENT
DTSTART;TZID=America/Los_Angeles:20240321T183000
DTEND;TZID=America/Los_Angeles:20240321T193000
DTSTAMP:20260425T064719
CREATED:20230725T214258Z
LAST-MODIFIED:20230725T214258Z
UID:10000187-1711045800-1711049400@norcalsistercities.org
SUMMARY:Concord Ambassadors General Meeting
DESCRIPTION:
URL:https://norcalsistercities.org/events/concord-ambassadors-general-meeting/2024-03-21/
LOCATION:Concord City Hall – Garden Conference Room\, 1950 Parkside Drive\, Concord\, CA\, 94519\, United States
CATEGORIES:Meetings
ATTACH;FMTTYPE=image/jpeg:https://norcalsistercities.org/wp-content/uploads/2023/07/ConcordAmbassadors.jpg
ORGANIZER;CN="Concord Ambassadors":MAILTO:concordambassadors@gmail.com
END:VEVENT
BEGIN:VEVENT
DTSTART;TZID=America/Los_Angeles:20240319T190000
DTEND;TZID=America/Los_Angeles:20240319T210000
DTSTAMP:20260425T064719
CREATED:20230729T014437Z
LAST-MODIFIED:20230729T014437Z
UID:10000328-1710874800-1710882000@norcalsistercities.org
SUMMARY:Oakland-Fukuoka Sister City Association general meeting
DESCRIPTION:General meetings are typically held on the third Tuesday of the month. All are welcome to attend! \nTo receive the Zoom meeting link\, email ofsca1962@gmail.com. \nThis is an open meeting using the free Zoom video/audio meeting platform. No subscription is required\, and Zoom is free to download for your desktop or mobile device\, can be used with your device’s built-in microphone/camera\, or can be joined via telephone call (audio only).
URL:https://norcalsistercities.org/events/oakland-fukuoka-sister-city-association-general-meeting/2024-03-19/
LOCATION:Zoom
CATEGORIES:Meetings
ATTACH;FMTTYPE=image/jpeg:https://norcalsistercities.org/wp-content/uploads/2023/07/Oakland-Fukuoka-Sister-City-Association-logo.jpg
ORGANIZER;CN="Oakland-Fukuoka Sister City Association":MAILTO:ofsca1962@gmail.com
END:VEVENT
BEGIN:VEVENT
DTSTART;TZID=America/Los_Angeles:20240318T180000
DTEND;TZID=America/Los_Angeles:20240318T193000
DTSTAMP:20260425T064719
CREATED:20230715T220709Z
LAST-MODIFIED:20230715T220709Z
UID:10000085-1710784800-1710790200@norcalsistercities.org
SUMMARY:Sonoma Sister Cities Association Board of Directors Monthly Meeting
DESCRIPTION:
URL:https://norcalsistercities.org/events/sonoma-sister-cities-association-board-of-directors-monthly-meeting-9/
LOCATION:TBA
ATTACH;FMTTYPE=image/jpeg:https://norcalsistercities.org/wp-content/uploads/2023/07/Sonoma-Sister-Cities-Association_logo.jpg
ORGANIZER;CN="Sonoma Sister Cities Association":MAILTO:info@sonomasistercitiesassociation.org
END:VEVENT
BEGIN:VEVENT
DTSTART;TZID=America/Los_Angeles:20240313T180000
DTEND;TZID=America/Los_Angeles:20240313T194500
DTSTAMP:20260425T064719
CREATED:20230715T212938Z
LAST-MODIFIED:20230715T212938Z
UID:10000084-1710352800-1710359100@norcalsistercities.org
SUMMARY:Sonoma-Kaniv Committee Meeting
DESCRIPTION:
URL:https://norcalsistercities.org/events/sonoma-kaniv-committee-meeting-14/
LOCATION:Sonoma Library Meeting Room\, 755 West Napa\, Sonoma\, CA\, 95476\, United States
ATTACH;FMTTYPE=image/jpeg:https://norcalsistercities.org/wp-content/uploads/2023/07/sonoma-kaniv-committee.jpg
ORGANIZER;CN="Sonoma Sister Cities Association":MAILTO:info@sonomasistercitiesassociation.org
END:VEVENT
BEGIN:VEVENT
DTSTART;TZID=America/Los_Angeles:20240307T120000
DTEND;TZID=America/Los_Angeles:20240307T130000
DTSTAMP:20260425T064719
CREATED:20230725T222122Z
LAST-MODIFIED:20230725T222122Z
UID:10000256-1709812800-1709816400@norcalsistercities.org
SUMMARY:Stockton Sister Cities Association Board Meeting
DESCRIPTION:First Thursday of the Month
URL:https://norcalsistercities.org/events/stockton-sister-cities-association-board-meeting/2024-03-07/
LOCATION:Valley Brew\, 157 W Adams St.\, Stockton\, CA\, 95204\, United States
CATEGORIES:Meetings
ATTACH;FMTTYPE=image/jpeg:https://norcalsistercities.org/wp-content/uploads/2023/07/Stockton-Sister-Cities-Association.jpg
END:VEVENT
BEGIN:VEVENT
DTSTART;TZID=America/Los_Angeles:20240304T110000
DTEND;TZID=America/Los_Angeles:20240304T123000
DTSTAMP:20260425T064719
CREATED:20230715T224942Z
LAST-MODIFIED:20230715T224942Z
UID:10000083-1709550000-1709555400@norcalsistercities.org
SUMMARY:Sonoma-Penglai Committee Meeting
DESCRIPTION:
URL:https://norcalsistercities.org/events/sonoma-penglai-committee-meeting-10/
LOCATION:Virtual
ATTACH;FMTTYPE=image/jpeg:https://norcalsistercities.org/wp-content/uploads/2023/07/Sonoma-Penglai-Sister-City-Relationship-Symposium-banner.jpg
ORGANIZER;CN="Sonoma Sister Cities Association":MAILTO:info@sonomasistercitiesassociation.org
END:VEVENT
BEGIN:VEVENT
DTSTART;TZID=America/Los_Angeles:20240220T190000
DTEND;TZID=America/Los_Angeles:20240220T210000
DTSTAMP:20260425T064719
CREATED:20230729T014437Z
LAST-MODIFIED:20230729T014437Z
UID:10000327-1708455600-1708462800@norcalsistercities.org
SUMMARY:Oakland-Fukuoka Sister City Association general meeting
DESCRIPTION:General meetings are typically held on the third Tuesday of the month. All are welcome to attend! \nTo receive the Zoom meeting link\, email ofsca1962@gmail.com. \nThis is an open meeting using the free Zoom video/audio meeting platform. No subscription is required\, and Zoom is free to download for your desktop or mobile device\, can be used with your device’s built-in microphone/camera\, or can be joined via telephone call (audio only).
URL:https://norcalsistercities.org/events/oakland-fukuoka-sister-city-association-general-meeting/2024-02-20/
LOCATION:Zoom
CATEGORIES:Meetings
ATTACH;FMTTYPE=image/jpeg:https://norcalsistercities.org/wp-content/uploads/2023/07/Oakland-Fukuoka-Sister-City-Association-logo.jpg
ORGANIZER;CN="Oakland-Fukuoka Sister City Association":MAILTO:ofsca1962@gmail.com
END:VEVENT
BEGIN:VEVENT
DTSTART;TZID=America/Los_Angeles:20240219T180000
DTEND;TZID=America/Los_Angeles:20240219T193000
DTSTAMP:20260425T064719
CREATED:20230715T221414Z
LAST-MODIFIED:20230715T221414Z
UID:10000082-1708365600-1708371000@norcalsistercities.org
SUMMARY:Sonoma Sister Cities Association Board of Directors Monthly Meeting
DESCRIPTION:
URL:https://norcalsistercities.org/events/sonoma-sister-cities-association-board-of-directors-monthly-meeting-16/
LOCATION:TBA
ATTACH;FMTTYPE=image/jpeg:https://norcalsistercities.org/wp-content/uploads/2023/07/Sonoma-Sister-Cities-Association_logo.jpg
ORGANIZER;CN="Sonoma Sister Cities Association":MAILTO:info@sonomasistercitiesassociation.org
END:VEVENT
BEGIN:VEVENT
DTSTART;TZID=America/Los_Angeles:20240215T183000
DTEND;TZID=America/Los_Angeles:20240215T193000
DTSTAMP:20260425T064719
CREATED:20230725T214258Z
LAST-MODIFIED:20230725T214258Z
UID:10000186-1708021800-1708025400@norcalsistercities.org
SUMMARY:Concord Ambassadors General Meeting
DESCRIPTION:
URL:https://norcalsistercities.org/events/concord-ambassadors-general-meeting/2024-02-15/
LOCATION:Concord City Hall – Garden Conference Room\, 1950 Parkside Drive\, Concord\, CA\, 94519\, United States
CATEGORIES:Meetings
ATTACH;FMTTYPE=image/jpeg:https://norcalsistercities.org/wp-content/uploads/2023/07/ConcordAmbassadors.jpg
ORGANIZER;CN="Concord Ambassadors":MAILTO:concordambassadors@gmail.com
END:VEVENT
BEGIN:VEVENT
DTSTART;TZID=America/Los_Angeles:20240214T180000
DTEND;TZID=America/Los_Angeles:20240214T194500
DTSTAMP:20260425T064719
CREATED:20230715T212701Z
LAST-MODIFIED:20230715T212701Z
UID:10000081-1707933600-1707939900@norcalsistercities.org
SUMMARY:Sonoma-Kaniv Committee Meeting
DESCRIPTION:
URL:https://norcalsistercities.org/events/sonoma-kaniv-committee-meeting-10/
LOCATION:Sonoma Library Meeting Room\, 755 West Napa\, Sonoma\, CA\, 95476\, United States
ATTACH;FMTTYPE=image/jpeg:https://norcalsistercities.org/wp-content/uploads/2023/07/sonoma-kaniv-committee.jpg
ORGANIZER;CN="Sonoma Sister Cities Association":MAILTO:info@sonomasistercitiesassociation.org
END:VEVENT
BEGIN:VEVENT
DTSTART;TZID=America/Los_Angeles:20240205T110000
DTEND;TZID=America/Los_Angeles:20240205T123000
DTSTAMP:20260425T064719
CREATED:20230715T225020Z
LAST-MODIFIED:20230715T225020Z
UID:10000080-1707130800-1707136200@norcalsistercities.org
SUMMARY:Sonoma-Penglai Committee Meeting
DESCRIPTION:
URL:https://norcalsistercities.org/events/sonoma-penglai-committee-meeting-11/
LOCATION:Virtual
ATTACH;FMTTYPE=image/jpeg:https://norcalsistercities.org/wp-content/uploads/2023/07/Sonoma-Penglai-Sister-City-Relationship-Symposium-banner.jpg
ORGANIZER;CN="Sonoma Sister Cities Association":MAILTO:info@sonomasistercitiesassociation.org
END:VEVENT
BEGIN:VEVENT
DTSTART;TZID=America/Los_Angeles:20240202T190000
DTEND;TZID=America/Los_Angeles:20240202T210000
DTSTAMP:20260425T064719
CREATED:20240120T185909Z
LAST-MODIFIED:20240122T035845Z
UID:10000491-1706900400-1706907600@norcalsistercities.org
SUMMARY:Community Presentation by Open World Delegation from Ukraine
DESCRIPTION:Please join us and meet the delegation of six professionals from Ukraine\, visiting Sebastopol through the Open World Program. \nOpen World is a congressionally sponsored program that brings professionals from post-Soviet and developing countries to the U.S. to experience open government and study a variety of topics pertinent to their countries. Since 2008\, Sebastopol World Friends has hosted seven Open World delegations from Ukraine. \nThis group will stay in Sebastopol for two weeks focusing on the topic “Developing Child and Family Counseling Networks.” One of the highlights of their stay is the community presentation\, which will showcase their professional experience in Ukraine and their initial impression of their stay in Sebastopol and the U.S. \nDon’t miss this unique opportunity! It is open to the public and admission is free. Light refreshments will be served. \n  \nOver $60\,000 in support has been generously provided by the Sebastopol community thus far to our sister city. \nThis fall\, we aim to help purchase solid fuel heaters for a large dormitory building to house families displaced by the war in Chyhyryn. The total needed for this purchase is over $13\,000. Already\, Sebastopol Rotary and Rotary members have generously donated over $7\,000 to make this project happen. We are reaching out to our community to help fund the remainder.\nPlease consider a donation to the Stand With Ukraine Fund at Sebastopol World Friends to make this purchase happen before winter really starts.
URL:https://norcalsistercities.org/events/community-presentation-by-open-world-delegation-from-ukraine/
LOCATION:The Sebastopol Grange\, 6000 Sebastopol Avenue\, Sebastopol\, CA\, 95472\, United States
ATTACH;FMTTYPE=image/jpeg:https://norcalsistercities.org/wp-content/uploads/2024/01/Community-Presentation-by-Open-World-Delegation-from-Ukraine.jpg
END:VEVENT
BEGIN:VEVENT
DTSTART;TZID=America/Los_Angeles:20240201T120000
DTEND;TZID=America/Los_Angeles:20240201T130000
DTSTAMP:20260425T064719
CREATED:20230725T222122Z
LAST-MODIFIED:20230725T222122Z
UID:10000255-1706788800-1706792400@norcalsistercities.org
SUMMARY:Stockton Sister Cities Association Board Meeting
DESCRIPTION:First Thursday of the Month
URL:https://norcalsistercities.org/events/stockton-sister-cities-association-board-meeting/2024-02-01/
LOCATION:Valley Brew\, 157 W Adams St.\, Stockton\, CA\, 95204\, United States
CATEGORIES:Meetings
ATTACH;FMTTYPE=image/jpeg:https://norcalsistercities.org/wp-content/uploads/2023/07/Stockton-Sister-Cities-Association.jpg
END:VEVENT
BEGIN:VEVENT
DTSTART;TZID=America/Los_Angeles:20240125T190000
DTEND;TZID=America/Los_Angeles:20240125T200000
DTSTAMP:20260425T064719
CREATED:20241020T212144Z
LAST-MODIFIED:20241020T212144Z
UID:10000647-1706209200-1706212800@norcalsistercities.org
SUMMARY:Morgan Hill Sister Cities meeting
DESCRIPTION:Join us anytime! Meetings always welcome the general public. \nSister Cities is an all-volunteer\, membership organization formed in 2002. \nWe currently host relationships with six international cities in Italy\, Turkey\, Mexico\, Japan and Ireland.
URL:https://norcalsistercities.org/events/morgan-hill-sister-cities-meeting-3/2024-01-25/
LOCATION:Centennial Recreation Center – Senior Center\, 171 W Edmundson Avenue\, Morgan Hill\, CA\, 95037\, United States
CATEGORIES:Meetings
ATTACH;FMTTYPE=image/jpeg:https://norcalsistercities.org/wp-content/uploads/2023/09/Morgan-Hill-Sister-Cities.jpg
ORGANIZER;CN="Morgan Hill Sister Cities":MAILTO:johnkelley103@gmail.com
END:VEVENT
BEGIN:VEVENT
DTSTART;TZID=America/Los_Angeles:20240125T173000
DTEND;TZID=America/Los_Angeles:20240125T203000
DTSTAMP:20260425T064719
CREATED:20240122T035233Z
LAST-MODIFIED:20240122T035233Z
UID:10000493-1706203800-1706214600@norcalsistercities.org
SUMMARY:Tet - Celebrate the Lunar New Year
DESCRIPTION:CHUC MUNG NAM MOI! \nTET will begin on the eve of January 24 and we will celebrate it on Thursday\, the 25th! \nJoin members of the Committee\, friends\, and neighbors\, and learn more about the traditions of TET and what it means to the Vietnamese community. Enjoy your favorite libation and food at the Le Colonial Restaurant and meet and greet new and old friends who share your interest in all things Vietnamese. \nEarly arrivals will get a traditional gift \nBusiness Card Drawing \nNo Host Bar and Dinner Available \nRSVP: sfhcmcscc@aol.com or 415-240-1551
URL:https://norcalsistercities.org/events/tet-celebrate-the-lunar-new-year/
LOCATION:Le Colonial Restaurant\, 20 Cosmo Place\, San Francisco\, CA\, 94109\, United States
ATTACH;FMTTYPE=image/jpeg:https://norcalsistercities.org/wp-content/uploads/2024/01/Tet-Flower-Festival-2012-Dragon.jpg
ORGANIZER;CN="San Francisco-Ho Chi Minh City Sister City Committee":MAILTO:sfhcmcscc@aol.com
END:VEVENT
BEGIN:VEVENT
DTSTART;TZID=America/Los_Angeles:20240122T180000
DTEND;TZID=America/Los_Angeles:20240122T190000
DTSTAMP:20260425T064719
CREATED:20230723T004432Z
LAST-MODIFIED:20230723T004432Z
UID:10000173-1705946400-1705950000@norcalsistercities.org
SUMMARY:Lodi Sister City Committee meeting
DESCRIPTION:
URL:https://norcalsistercities.org/events/lodi-sister-city-committee-meeting-3/
LOCATION:Lodi Japanese Community Hall\, 210 E Elm St.\, Lodi\, CA\, 95240\, United States
CATEGORIES:Meetings
ATTACH;FMTTYPE=image/jpeg:https://norcalsistercities.org/wp-content/uploads/2023/07/Lodi-California-logo.jpg
ORGANIZER;CN="Lodi Sister CIty Committee":MAILTO:cityclerk@lodi.gov
END:VEVENT
BEGIN:VEVENT
DTSTART;TZID=America/Los_Angeles:20240120T100000
DTEND;TZID=America/Los_Angeles:20240120T113000
DTSTAMP:20260425T064719
CREATED:20241020T192650Z
LAST-MODIFIED:20241020T192758Z
UID:10000566-1705744800-1705750200@norcalsistercities.org
SUMMARY:2024 1st Quarter NorCal Chapter Board meeting
DESCRIPTION:
URL:https://norcalsistercities.org/events/2024-1st-quarter-norcal-chapter-board-meeting/
LOCATION:Orinda Community Center\, 28 Orinda Way\, Orinda\, 94563\, United States
ATTACH;FMTTYPE=image/jpeg:https://norcalsistercities.org/wp-content/uploads/2022/03/Sister-Cities-International-logo.jpg
END:VEVENT
BEGIN:VEVENT
DTSTART;TZID=America/Los_Angeles:20240118T183000
DTEND;TZID=America/Los_Angeles:20240118T193000
DTSTAMP:20260425T064719
CREATED:20230725T214258Z
LAST-MODIFIED:20230725T214258Z
UID:10000185-1705602600-1705606200@norcalsistercities.org
SUMMARY:Concord Ambassadors General Meeting
DESCRIPTION:
URL:https://norcalsistercities.org/events/concord-ambassadors-general-meeting/2024-01-18/
LOCATION:Concord City Hall – Garden Conference Room\, 1950 Parkside Drive\, Concord\, CA\, 94519\, United States
CATEGORIES:Meetings
ATTACH;FMTTYPE=image/jpeg:https://norcalsistercities.org/wp-content/uploads/2023/07/ConcordAmbassadors.jpg
ORGANIZER;CN="Concord Ambassadors":MAILTO:concordambassadors@gmail.com
END:VEVENT
BEGIN:VEVENT
DTSTART;TZID=America/Los_Angeles:20240116T190000
DTEND;TZID=America/Los_Angeles:20240116T210000
DTSTAMP:20260425T064719
CREATED:20230729T014437Z
LAST-MODIFIED:20230729T014437Z
UID:10000326-1705431600-1705438800@norcalsistercities.org
SUMMARY:Oakland-Fukuoka Sister City Association general meeting
DESCRIPTION:General meetings are typically held on the third Tuesday of the month. All are welcome to attend! \nTo receive the Zoom meeting link\, email ofsca1962@gmail.com. \nThis is an open meeting using the free Zoom video/audio meeting platform. No subscription is required\, and Zoom is free to download for your desktop or mobile device\, can be used with your device’s built-in microphone/camera\, or can be joined via telephone call (audio only).
URL:https://norcalsistercities.org/events/oakland-fukuoka-sister-city-association-general-meeting/2024-01-16/
LOCATION:Zoom
CATEGORIES:Meetings
ATTACH;FMTTYPE=image/jpeg:https://norcalsistercities.org/wp-content/uploads/2023/07/Oakland-Fukuoka-Sister-City-Association-logo.jpg
ORGANIZER;CN="Oakland-Fukuoka Sister City Association":MAILTO:ofsca1962@gmail.com
END:VEVENT
BEGIN:VEVENT
DTSTART;TZID=America/Los_Angeles:20240115T180000
DTEND;TZID=America/Los_Angeles:20240115T193000
DTSTAMP:20260425T064719
CREATED:20230715T221305Z
LAST-MODIFIED:20230715T221305Z
UID:10000079-1705341600-1705347000@norcalsistercities.org
SUMMARY:Sonoma Sister Cities Association Board of Directors Monthly Meeting
DESCRIPTION:
URL:https://norcalsistercities.org/events/sonoma-sister-cities-association-board-of-directors-monthly-meeting-15/
LOCATION:TBA
ATTACH;FMTTYPE=image/jpeg:https://norcalsistercities.org/wp-content/uploads/2023/07/Sonoma-Sister-Cities-Association_logo.jpg
ORGANIZER;CN="Sonoma Sister Cities Association":MAILTO:info@sonomasistercitiesassociation.org
END:VEVENT
END:VCALENDAR