BEGIN:VCALENDAR
VERSION:2.0
PRODID:-//Northern California Chapter of Sister Cities International - ECPv6.15.20//NONSGML v1.0//EN
CALSCALE:GREGORIAN
METHOD:PUBLISH
X-WR-CALNAME:Northern California Chapter of Sister Cities International
X-ORIGINAL-URL:https://norcalsistercities.org
X-WR-CALDESC:Events for Northern California Chapter of Sister Cities International
REFRESH-INTERVAL;VALUE=DURATION:PT1H
X-Robots-Tag:noindex
X-PUBLISHED-TTL:PT1H
BEGIN:VTIMEZONE
TZID:America/Los_Angeles
BEGIN:DAYLIGHT
TZOFFSETFROM:-0800
TZOFFSETTO:-0700
TZNAME:PDT
DTSTART:20240310T100000
END:DAYLIGHT
BEGIN:STANDARD
TZOFFSETFROM:-0700
TZOFFSETTO:-0800
TZNAME:PST
DTSTART:20241103T090000
END:STANDARD
BEGIN:DAYLIGHT
TZOFFSETFROM:-0800
TZOFFSETTO:-0700
TZNAME:PDT
DTSTART:20250309T100000
END:DAYLIGHT
BEGIN:STANDARD
TZOFFSETFROM:-0700
TZOFFSETTO:-0800
TZNAME:PST
DTSTART:20251102T090000
END:STANDARD
BEGIN:DAYLIGHT
TZOFFSETFROM:-0800
TZOFFSETTO:-0700
TZNAME:PDT
DTSTART:20260308T100000
END:DAYLIGHT
BEGIN:STANDARD
TZOFFSETFROM:-0700
TZOFFSETTO:-0800
TZNAME:PST
DTSTART:20261101T090000
END:STANDARD
END:VTIMEZONE
BEGIN:VEVENT
DTSTART;TZID=America/Los_Angeles:20250916T190000
DTEND;TZID=America/Los_Angeles:20250916T210000
DTSTAMP:20260423T165456
CREATED:20230729T014437Z
LAST-MODIFIED:20230729T014437Z
UID:10000346-1758049200-1758056400@norcalsistercities.org
SUMMARY:Oakland-Fukuoka Sister City Association general meeting
DESCRIPTION:General meetings are typically held on the third Tuesday of the month. All are welcome to attend! \nTo receive the Zoom meeting link\, email ofsca1962@gmail.com. \nThis is an open meeting using the free Zoom video/audio meeting platform. No subscription is required\, and Zoom is free to download for your desktop or mobile device\, can be used with your device’s built-in microphone/camera\, or can be joined via telephone call (audio only).
URL:https://norcalsistercities.org/events/oakland-fukuoka-sister-city-association-general-meeting/2025-09-16/
LOCATION:Zoom
CATEGORIES:Meetings
ATTACH;FMTTYPE=image/jpeg:https://norcalsistercities.org/wp-content/uploads/2023/07/Oakland-Fukuoka-Sister-City-Association-logo.jpg
ORGANIZER;CN="Oakland-Fukuoka Sister City Association":MAILTO:ofsca1962@gmail.com
END:VEVENT
BEGIN:VEVENT
DTSTART;TZID=America/Los_Angeles:20250916T180000
DTEND;TZID=America/Los_Angeles:20250916T193000
DTSTAMP:20260423T165456
CREATED:20250909T172127Z
LAST-MODIFIED:20250909T182937Z
UID:10000733-1758045600-1758051000@norcalsistercities.org
SUMMARY:Santa Cruz Sister Cities: Proposed New Sister City Conversation- Puerto Escondido\, Oaxaca\, Mexico
DESCRIPTION:This important first step toward a Sister City partnership can inspire cultural exchange\, youth initiatives\, and economic growth for Santa Cruz. Your ideas matter—come share them! \nJoin the Conversation! \nBuilding a Friendship City with Puerto Escondido\, Oaxaca\, Mexico. On September 16\, discover Puerto Escondido — our proposed friendship city. \nAgendas and minutes
URL:https://norcalsistercities.org/events/santa-cruz-sister-cities-proposed-new-sister-city-conversation-puerto-escondido-oaxaca-mexico/
LOCATION:London Nelson Community Center – Room 4\, 301 Center St\, Santa Cruz\, 95060\, United States
CATEGORIES:Meetings
ATTACH;FMTTYPE=image/jpeg:https://norcalsistercities.org/wp-content/uploads/2023/07/City-of-Santa-Cruz-Sister-Cities-Committee.jpg
ORGANIZER;CN="Santa Cruz Sister Cities Committee":MAILTO:sistercities@cityofsantacruz.com
END:VEVENT
BEGIN:VEVENT
DTSTART;VALUE=DATE:20250916
DTEND;VALUE=DATE:20250920
DTSTAMP:20260423T165456
CREATED:20241020T191418Z
LAST-MODIFIED:20241020T191418Z
UID:10000565-1757980800-1758326399@norcalsistercities.org
SUMMARY:U.S.-Japan Sister Cities Summit
DESCRIPTION:The year 2024 will mark the 170th anniversary of diplomatic relations between Japan and U.S.\, the 70th anniversary of Sister Cities International\, followed by the 80th anniversary of bilateral relations since the end of World War II in 2025. According to the U.S. Department of State\, the U.S.-Japan Alliance is “the cornerstone of U.S. security interests in Asia and fundamental to regional stability and prosperity.” \nTo commemorate these milestones\, Sister Cities International (SCI) will hold a U.S.-Japan Sister Cities Summit September 16-19\, 2025\, in Izumisano City\, Osaka. All 460 U.S.-Japan Sister City partners\, government entities\, NGOs\, elected officials\, and key stakeholders will be invited to: \n\nMemorialize and reaffirm the S.-Japan friendship “for the next 170 years”\nStrengthen current bilateral partnerships and develop new relationships\nRejuvenate dormant S.-Japan sister city relationships still on pause from COVID\nHonor citizen diplomats who have been key to S.-Japan relations\nCultivate the next generation of leaders and cultural bridge builders\nExplore opportunities for economic development between countries\nParticipate in programming at the Osaka World Expo\n\nTheme:\n“Celebrating Our Legacies\, Empowering Our Future レガシー、そして未来へ” \nPrograms and speakers for each day of the summit will focus on the following words/concepts: \n\nDay 1 (Tuesday 9/16) Honor 〜感謝を込めて\nDay 2 (Wednesday 9/17) Bridge 〜つなげよう\nDay 3 (Thursday 9/18) Reimagine 〜新しいビジョン\nDay 4 (Friday 9/19) Empower 〜そして未来へ\n\nTarget attendance for this summit is 800 participants primarily from the U.S. and Japan. The summit will be conducted in both English and Japanese and simultaneous interpretation will be available to all participants. \nThrough the U.S.-Japan Sister Cities Summit\, we intend to advance the shared missions of SCI\, the U.S. State Department’s Bureau of Educational and Cultural Affairs\, and the Ministry of Foreign Affairs of Japan: cultivating people-to-people ties to foster mutual understanding and peace with other countries. \nMore details to come
URL:https://norcalsistercities.org/events/u-s-japan-sister-cities-summit/
LOCATION:Star Gate Hotel\, 1 Rinkuoraikita\, Izumisano\, Osaka Prefecture\, 598-8511\, Japan
ATTACH;FMTTYPE=image/jpeg:https://norcalsistercities.org/wp-content/uploads/2024/10/2025-US-Japan-Sister-Cities-Summit.jpg
ORGANIZER;CN="Sister Cities International":MAILTO:info@sistercities.org
END:VEVENT
BEGIN:VEVENT
DTSTART;TZID=America/Los_Angeles:20250908T180000
DTEND;TZID=America/Los_Angeles:20250908T200000
DTSTAMP:20260423T165456
CREATED:20250909T165134Z
LAST-MODIFIED:20250909T165134Z
UID:10000734-1757354400-1757361600@norcalsistercities.org
SUMMARY:Santa Cruz Sister Cities Committee meeting
DESCRIPTION:The purpose of the Committee is to encourage the people of Santa Cruz and its Sister Cities to understand one another as individuals\, as members of their community\, as citizens of their country\, and as part of the family of nations. \nAgendas and minutes
URL:https://norcalsistercities.org/events/santa-cruz-sister-cities-committee-meeting-10/
LOCATION:Santa Cruz City Council Chambers\, 809 Center Street\, Santa Cruz\, CA\, 95060\, United States
CATEGORIES:Meetings
ATTACH;FMTTYPE=image/jpeg:https://norcalsistercities.org/wp-content/uploads/2023/07/City-of-Santa-Cruz-Sister-Cities-Committee.jpg
ORGANIZER;CN="Santa Cruz Sister Cities Committee":MAILTO:sistercities@cityofsantacruz.com
END:VEVENT
BEGIN:VEVENT
DTSTART;TZID=America/Los_Angeles:20250904T120000
DTEND;TZID=America/Los_Angeles:20250904T130000
DTSTAMP:20260423T165456
CREATED:20230725T222122Z
LAST-MODIFIED:20230725T222122Z
UID:10000274-1756987200-1756990800@norcalsistercities.org
SUMMARY:Stockton Sister Cities Association Board Meeting
DESCRIPTION:First Thursday of the Month
URL:https://norcalsistercities.org/events/stockton-sister-cities-association-board-meeting/2025-09-04/
LOCATION:Valley Brew\, 157 W Adams St.\, Stockton\, CA\, 95204\, United States
CATEGORIES:Meetings
ATTACH;FMTTYPE=image/jpeg:https://norcalsistercities.org/wp-content/uploads/2023/07/Stockton-Sister-Cities-Association.jpg
END:VEVENT
BEGIN:VEVENT
DTSTART;TZID=America/Los_Angeles:20250901T180000
DTEND;TZID=America/Los_Angeles:20250901T190000
DTSTAMP:20260423T165456
CREATED:20241020T210718Z
LAST-MODIFIED:20241020T210718Z
UID:10000594-1756749600-1756753200@norcalsistercities.org
SUMMARY:Cupertino-Hsinchu Sister City Association board meeting
DESCRIPTION:
URL:https://norcalsistercities.org/events/cupertino-hsinchu-sister-city-association-board-meeting/2025-09-01/
ATTACH;FMTTYPE=image/jpeg:https://norcalsistercities.org/wp-content/uploads/2024/10/Cupertino-Hsinchu-Sister-City-Association.jpg
ORGANIZER;CN="Cupertino-Hsinchu Sister City Association":MAILTO:chiachinglin6@gmail.com
END:VEVENT
BEGIN:VEVENT
DTSTART;TZID=America/Los_Angeles:20250821T183000
DTEND;TZID=America/Los_Angeles:20250821T193000
DTSTAMP:20260423T165456
CREATED:20230725T214258Z
LAST-MODIFIED:20230725T214258Z
UID:10000204-1755801000-1755804600@norcalsistercities.org
SUMMARY:Concord Ambassadors General Meeting
DESCRIPTION:
URL:https://norcalsistercities.org/events/concord-ambassadors-general-meeting/2025-08-21/
LOCATION:Concord City Hall – Garden Conference Room\, 1950 Parkside Drive\, Concord\, CA\, 94519\, United States
CATEGORIES:Meetings
ATTACH;FMTTYPE=image/jpeg:https://norcalsistercities.org/wp-content/uploads/2023/07/ConcordAmbassadors.jpg
ORGANIZER;CN="Concord Ambassadors":MAILTO:concordambassadors@gmail.com
END:VEVENT
BEGIN:VEVENT
DTSTART;TZID=America/Los_Angeles:20250819T190000
DTEND;TZID=America/Los_Angeles:20250819T210000
DTSTAMP:20260423T165456
CREATED:20230729T014437Z
LAST-MODIFIED:20230729T014437Z
UID:10000345-1755630000-1755637200@norcalsistercities.org
SUMMARY:Oakland-Fukuoka Sister City Association general meeting
DESCRIPTION:General meetings are typically held on the third Tuesday of the month. All are welcome to attend! \nTo receive the Zoom meeting link\, email ofsca1962@gmail.com. \nThis is an open meeting using the free Zoom video/audio meeting platform. No subscription is required\, and Zoom is free to download for your desktop or mobile device\, can be used with your device’s built-in microphone/camera\, or can be joined via telephone call (audio only).
URL:https://norcalsistercities.org/events/oakland-fukuoka-sister-city-association-general-meeting/2025-08-19/
LOCATION:Zoom
CATEGORIES:Meetings
ATTACH;FMTTYPE=image/jpeg:https://norcalsistercities.org/wp-content/uploads/2023/07/Oakland-Fukuoka-Sister-City-Association-logo.jpg
ORGANIZER;CN="Oakland-Fukuoka Sister City Association":MAILTO:ofsca1962@gmail.com
END:VEVENT
BEGIN:VEVENT
DTSTART;TZID=America/Los_Angeles:20250817T120000
DTEND;TZID=America/Los_Angeles:20250817T150000
DTSTAMP:20260423T165456
CREATED:20250726T173001Z
LAST-MODIFIED:20250726T173001Z
UID:10000723-1755432000-1755442800@norcalsistercities.org
SUMMARY:20th Annual Union City Sister City Festival
DESCRIPTION:Please join our local and international guests enjoy our cultural performances and foods provided by Union City’s 10 sister cities. \nPlease join us promote peace through friendship. \nAgenda: \n\nDoors open at 12 p.m.\nLunch at 1 p.m.\nProgram at 2 p.m.\n\nThis multicultural event includes lunch\, raffle and cultural presentations showcasing the best of each sister city’s culture. \nParticipating sister cities: \n\nPasay City\, Philippines\nSanta Rosalia\, Mexico\nChiang Rai\, Thailand\nJalandhar\, India\nLiyang\, China\nAsadabad\, Afghanistan\nBaybay City\, Philippines\nMushin Lagos\, Nigeria\nGuro\, South Korea\nKhushab\, Pakistan\n\nDon’t miss this great Union City event! \nTickets are $25 for admission and lunch. Contact 510-918-7555\, 408-888-8413\, or 510-362-4862 to purchase tickets.
URL:https://norcalsistercities.org/events/20th-annual-union-city-sister-city-festival/
LOCATION:Mark Green Sports Center\, 31224 Union City Boulevard\, Union City\, CA\, 94587\, United States
ATTACH;FMTTYPE=image/jpeg:https://norcalsistercities.org/wp-content/uploads/2023/07/Union-City-Sister-City-Festival.jpg
END:VEVENT
BEGIN:VEVENT
DTSTART;TZID=America/Los_Angeles:20250807T120000
DTEND;TZID=America/Los_Angeles:20250807T130000
DTSTAMP:20260423T165456
CREATED:20230725T222122Z
LAST-MODIFIED:20230725T222122Z
UID:10000273-1754568000-1754571600@norcalsistercities.org
SUMMARY:Stockton Sister Cities Association Board Meeting
DESCRIPTION:First Thursday of the Month
URL:https://norcalsistercities.org/events/stockton-sister-cities-association-board-meeting/2025-08-07/
LOCATION:Valley Brew\, 157 W Adams St.\, Stockton\, CA\, 95204\, United States
CATEGORIES:Meetings
ATTACH;FMTTYPE=image/jpeg:https://norcalsistercities.org/wp-content/uploads/2023/07/Stockton-Sister-Cities-Association.jpg
END:VEVENT
BEGIN:VEVENT
DTSTART;TZID=America/Los_Angeles:20250806T180000
DTEND;TZID=America/Los_Angeles:20250806T183000
DTSTAMP:20260423T165456
CREATED:20241020T211556Z
LAST-MODIFIED:20241020T211556Z
UID:10000645-1754503200-1754505000@norcalsistercities.org
SUMMARY:Cupertino-Toyokawa Sister Cities: Bell Ringing for World Peace
DESCRIPTION:Cupertino-Toyokawa Sister Cities Inc. is hosting its sixth annual Bell Ringing Ceremony to commemorate 80 years of peace since WWII. \nOn August 7\, 1945\, at 10:13 a.m.\, between the atomic bombing of Hiroshima and Nagasaki\, the Naval Armory in Toyokawa Japan was bombed. \nCupertino is sister cities with Toyokawa. \nCupertino-Toyokawa Sister Cities Inc. will hold a bell-ringing for World Peace event on August 6\, 2025\, at 6:13 p.m.\, to coincide with the time of the bombing in Japan. \nEveryone is welcomed and is encouraged to bring a bell to ring as we renew our sister city relationships and our wish for everlasting peace. \nPlease arrive a few minutes early for the prompt start of a short ceremony at 6 p.m. You will be able to easily spot us from the parking lot on Alves Drive\, behind the Quinlan Community Center. Please bring a small bell to ring\, if you have one. Casual attire.
URL:https://norcalsistercities.org/events/cupertino-toyokawa-sister-cities-bell-ringing-for-world-peace-2/
LOCATION:Cupertino Memorial Park\, 21121 Stevens Creek Boulevard\, Cupertino\, CA\, 95014\, United States
ATTACH;FMTTYPE=image/jpeg:https://norcalsistercities.org/wp-content/uploads/2023/07/Cupertino-bell-ringing.jpg
END:VEVENT
BEGIN:VEVENT
DTSTART;TZID=America/Los_Angeles:20250804T180000
DTEND;TZID=America/Los_Angeles:20250804T190000
DTSTAMP:20260423T165456
CREATED:20241020T210718Z
LAST-MODIFIED:20241020T210718Z
UID:10000593-1754330400-1754334000@norcalsistercities.org
SUMMARY:Cupertino-Hsinchu Sister City Association board meeting
DESCRIPTION:
URL:https://norcalsistercities.org/events/cupertino-hsinchu-sister-city-association-board-meeting/2025-08-04/
ATTACH;FMTTYPE=image/jpeg:https://norcalsistercities.org/wp-content/uploads/2024/10/Cupertino-Hsinchu-Sister-City-Association.jpg
ORGANIZER;CN="Cupertino-Hsinchu Sister City Association":MAILTO:chiachinglin6@gmail.com
END:VEVENT
BEGIN:VEVENT
DTSTART;TZID=America/Los_Angeles:20250726T100000
DTEND;TZID=America/Los_Angeles:20250726T120000
DTSTAMP:20260423T165456
CREATED:20241020T193606Z
LAST-MODIFIED:20250125T202420Z
UID:10000572-1753524000-1753531200@norcalsistercities.org
SUMMARY:2025 3rd Quarter NorCal Chapter Board meeting
DESCRIPTION:
URL:https://norcalsistercities.org/events/2025-3rd-quarter-norcal-chapter-board-meeting/
LOCATION:TBD – Orinda\, CA
CATEGORIES:Meetings
ATTACH;FMTTYPE=image/jpeg:https://norcalsistercities.org/wp-content/uploads/2022/03/Sister-Cities-International-logo.jpg
END:VEVENT
BEGIN:VEVENT
DTSTART;TZID=America/Los_Angeles:20250724T190000
DTEND;TZID=America/Los_Angeles:20250724T200000
DTSTAMP:20260423T165456
CREATED:20241020T220610Z
LAST-MODIFIED:20241020T220613Z
UID:10000656-1753383600-1753387200@norcalsistercities.org
SUMMARY:Morgan Hill Sister Cities meeting
DESCRIPTION:Join us anytime! Meetings always welcome the general public. \nSister Cities is an all-volunteer\, membership organization formed in 2002. \nWe currently host relationships with six international cities in Italy\, Turkey\, Mexico\, Japan and Ireland.
URL:https://norcalsistercities.org/events/morgan-hill-sister-cities-meeting-3-2/2025-07-24/
LOCATION:Centennial Recreation Center – Senior Center\, 171 W Edmundson Avenue\, Morgan Hill\, CA\, 95037\, United States
CATEGORIES:Meetings
ATTACH;FMTTYPE=image/jpeg:https://norcalsistercities.org/wp-content/uploads/2023/09/Morgan-Hill-Sister-Cities.jpg
ORGANIZER;CN="Morgan Hill Sister Cities":MAILTO:johnkelley103@gmail.com
END:VEVENT
BEGIN:VEVENT
DTSTART;VALUE=DATE:20250723
DTEND;VALUE=DATE:20250726
DTSTAMP:20260423T165456
CREATED:20241020T194821Z
LAST-MODIFIED:20241020T194821Z
UID:10000575-1753228800-1753487999@norcalsistercities.org
SUMMARY:SCI's 2025 Annual Meeting
DESCRIPTION:More details to come
URL:https://norcalsistercities.org/events/scis-2025-annual-meeting/
LOCATION:TBD – Fort Worth\, TX\, Fort Worth\, TX\, United States
CATEGORIES:Meetings
ATTACH;FMTTYPE=image/jpeg:https://norcalsistercities.org/wp-content/uploads/2022/03/Sister-Cities-International-logo.jpg
ORGANIZER;CN="Sister Cities International":MAILTO:info@sistercities.org
END:VEVENT
BEGIN:VEVENT
DTSTART;TZID=America/Los_Angeles:20250717T183000
DTEND;TZID=America/Los_Angeles:20250717T193000
DTSTAMP:20260423T165456
CREATED:20230725T214258Z
LAST-MODIFIED:20230725T214258Z
UID:10000203-1752777000-1752780600@norcalsistercities.org
SUMMARY:Concord Ambassadors General Meeting
DESCRIPTION:
URL:https://norcalsistercities.org/events/concord-ambassadors-general-meeting/2025-07-17/
LOCATION:Concord City Hall – Garden Conference Room\, 1950 Parkside Drive\, Concord\, CA\, 94519\, United States
CATEGORIES:Meetings
ATTACH;FMTTYPE=image/jpeg:https://norcalsistercities.org/wp-content/uploads/2023/07/ConcordAmbassadors.jpg
ORGANIZER;CN="Concord Ambassadors":MAILTO:concordambassadors@gmail.com
END:VEVENT
BEGIN:VEVENT
DTSTART;TZID=America/Los_Angeles:20250715T190000
DTEND;TZID=America/Los_Angeles:20250715T210000
DTSTAMP:20260423T165456
CREATED:20230729T014437Z
LAST-MODIFIED:20230729T014437Z
UID:10000344-1752606000-1752613200@norcalsistercities.org
SUMMARY:Oakland-Fukuoka Sister City Association general meeting
DESCRIPTION:General meetings are typically held on the third Tuesday of the month. All are welcome to attend! \nTo receive the Zoom meeting link\, email ofsca1962@gmail.com. \nThis is an open meeting using the free Zoom video/audio meeting platform. No subscription is required\, and Zoom is free to download for your desktop or mobile device\, can be used with your device’s built-in microphone/camera\, or can be joined via telephone call (audio only).
URL:https://norcalsistercities.org/events/oakland-fukuoka-sister-city-association-general-meeting/2025-07-15/
LOCATION:Zoom
CATEGORIES:Meetings
ATTACH;FMTTYPE=image/jpeg:https://norcalsistercities.org/wp-content/uploads/2023/07/Oakland-Fukuoka-Sister-City-Association-logo.jpg
ORGANIZER;CN="Oakland-Fukuoka Sister City Association":MAILTO:ofsca1962@gmail.com
END:VEVENT
BEGIN:VEVENT
DTSTART;TZID=America/Los_Angeles:20250714T180000
DTEND;TZID=America/Los_Angeles:20250714T200000
DTSTAMP:20260423T165456
CREATED:20250909T163104Z
LAST-MODIFIED:20250909T163104Z
UID:10000730-1752516000-1752523200@norcalsistercities.org
SUMMARY:Santa Cruz Sister Cities Committee meeting
DESCRIPTION:The purpose of the Committee is to encourage the people of Santa Cruz and its Sister Cities to understand one another as individuals\, as members of their community\, as citizens of their country\, and as part of the family of nations. \nAgendas and minutes
URL:https://norcalsistercities.org/events/santa-cruz-sister-cities-committee-meeting-9/
LOCATION:Santa Cruz City Council Chambers\, 809 Center Street\, Santa Cruz\, CA\, 95060\, United States
CATEGORIES:Meetings
ATTACH;FMTTYPE=image/jpeg:https://norcalsistercities.org/wp-content/uploads/2023/07/City-of-Santa-Cruz-Sister-Cities-Committee.jpg
ORGANIZER;CN="Santa Cruz Sister Cities Committee":MAILTO:sistercities@cityofsantacruz.com
END:VEVENT
BEGIN:VEVENT
DTSTART;TZID=America/Los_Angeles:20250709T180000
DTEND;TZID=America/Los_Angeles:20250709T194500
DTSTAMP:20260423T165456
CREATED:20230715T205716Z
LAST-MODIFIED:20230716T034132Z
UID:10000132-1752084000-1752090300@norcalsistercities.org
SUMMARY:Sonoma-Kaniv Committee Meeting
DESCRIPTION:
URL:https://norcalsistercities.org/events/sonoma-kaniv-committee-meeting-18/
LOCATION:Sonoma Library Meeting Room\, 755 West Napa\, Sonoma\, CA\, 95476\, United States
CATEGORIES:Meetings
ATTACH;FMTTYPE=image/jpeg:https://norcalsistercities.org/wp-content/uploads/2023/07/sonoma-kaniv-committee.jpg
ORGANIZER;CN="Sonoma Sister Cities Association":MAILTO:info@sonomasistercitiesassociation.org
END:VEVENT
BEGIN:VEVENT
DTSTART;TZID=America/Los_Angeles:20250707T180000
DTEND;TZID=America/Los_Angeles:20250707T190000
DTSTAMP:20260423T165456
CREATED:20241020T210718Z
LAST-MODIFIED:20241020T210718Z
UID:10000592-1751911200-1751914800@norcalsistercities.org
SUMMARY:Cupertino-Hsinchu Sister City Association board meeting
DESCRIPTION:
URL:https://norcalsistercities.org/events/cupertino-hsinchu-sister-city-association-board-meeting/2025-07-07/
ATTACH;FMTTYPE=image/jpeg:https://norcalsistercities.org/wp-content/uploads/2024/10/Cupertino-Hsinchu-Sister-City-Association.jpg
ORGANIZER;CN="Cupertino-Hsinchu Sister City Association":MAILTO:chiachinglin6@gmail.com
END:VEVENT
BEGIN:VEVENT
DTSTART;TZID=America/Los_Angeles:20250707T110000
DTEND;TZID=America/Los_Angeles:20250707T123000
DTSTAMP:20260423T165456
CREATED:20230715T205717Z
LAST-MODIFIED:20230716T035616Z
UID:10000131-1751886000-1751891400@norcalsistercities.org
SUMMARY:Sonoma-Penglai Committee Meeting
DESCRIPTION:
URL:https://norcalsistercities.org/events/sonoma-penglai-committee-meeting-24/
LOCATION:Virtual
CATEGORIES:Meetings
ATTACH;FMTTYPE=image/jpeg:https://norcalsistercities.org/wp-content/uploads/2023/07/Sonoma-Penglai-Sister-City-Relationship-Symposium-banner.jpg
ORGANIZER;CN="Sonoma Sister Cities Association":MAILTO:info@sonomasistercitiesassociation.org
END:VEVENT
BEGIN:VEVENT
DTSTART;TZID=America/Los_Angeles:20250703T120000
DTEND;TZID=America/Los_Angeles:20250703T130000
DTSTAMP:20260423T165456
CREATED:20230725T222122Z
LAST-MODIFIED:20230725T222122Z
UID:10000272-1751544000-1751547600@norcalsistercities.org
SUMMARY:Stockton Sister Cities Association Board Meeting
DESCRIPTION:First Thursday of the Month
URL:https://norcalsistercities.org/events/stockton-sister-cities-association-board-meeting/2025-07-03/
LOCATION:Valley Brew\, 157 W Adams St.\, Stockton\, CA\, 95204\, United States
CATEGORIES:Meetings
ATTACH;FMTTYPE=image/jpeg:https://norcalsistercities.org/wp-content/uploads/2023/07/Stockton-Sister-Cities-Association.jpg
END:VEVENT
BEGIN:VEVENT
DTSTART;TZID=America/Los_Angeles:20250619T183000
DTEND;TZID=America/Los_Angeles:20250619T193000
DTSTAMP:20260423T165456
CREATED:20230725T214258Z
LAST-MODIFIED:20230725T214258Z
UID:10000202-1750357800-1750361400@norcalsistercities.org
SUMMARY:Concord Ambassadors General Meeting
DESCRIPTION:
URL:https://norcalsistercities.org/events/concord-ambassadors-general-meeting/2025-06-19/
LOCATION:Concord City Hall – Garden Conference Room\, 1950 Parkside Drive\, Concord\, CA\, 94519\, United States
CATEGORIES:Meetings
ATTACH;FMTTYPE=image/jpeg:https://norcalsistercities.org/wp-content/uploads/2023/07/ConcordAmbassadors.jpg
ORGANIZER;CN="Concord Ambassadors":MAILTO:concordambassadors@gmail.com
END:VEVENT
BEGIN:VEVENT
DTSTART;TZID=America/Los_Angeles:20250617T190000
DTEND;TZID=America/Los_Angeles:20250617T210000
DTSTAMP:20260423T165456
CREATED:20230729T014437Z
LAST-MODIFIED:20230729T014437Z
UID:10000343-1750186800-1750194000@norcalsistercities.org
SUMMARY:Oakland-Fukuoka Sister City Association general meeting
DESCRIPTION:General meetings are typically held on the third Tuesday of the month. All are welcome to attend! \nTo receive the Zoom meeting link\, email ofsca1962@gmail.com. \nThis is an open meeting using the free Zoom video/audio meeting platform. No subscription is required\, and Zoom is free to download for your desktop or mobile device\, can be used with your device’s built-in microphone/camera\, or can be joined via telephone call (audio only).
URL:https://norcalsistercities.org/events/oakland-fukuoka-sister-city-association-general-meeting/2025-06-17/
LOCATION:Zoom
CATEGORIES:Meetings
ATTACH;FMTTYPE=image/jpeg:https://norcalsistercities.org/wp-content/uploads/2023/07/Oakland-Fukuoka-Sister-City-Association-logo.jpg
ORGANIZER;CN="Oakland-Fukuoka Sister City Association":MAILTO:ofsca1962@gmail.com
END:VEVENT
BEGIN:VEVENT
DTSTART;TZID=America/Los_Angeles:20250616T180000
DTEND;TZID=America/Los_Angeles:20250616T193000
DTSTAMP:20260423T165456
CREATED:20230715T205717Z
LAST-MODIFIED:20230716T040024Z
UID:10000130-1750096800-1750102200@norcalsistercities.org
SUMMARY:Sonoma Sister Cities Association Board of Directors Monthly Meeting
DESCRIPTION:
URL:https://norcalsistercities.org/events/sonoma-sister-cities-association-board-of-directors-monthly-meeting-19/
LOCATION:TBA
CATEGORIES:Meetings
ATTACH;FMTTYPE=image/jpeg:https://norcalsistercities.org/wp-content/uploads/2023/07/Sonoma-Sister-Cities-Association_logo.jpg
ORGANIZER;CN="Sonoma Sister Cities Association":MAILTO:info@sonomasistercitiesassociation.org
END:VEVENT
BEGIN:VEVENT
DTSTART;TZID=America/Los_Angeles:20250611T180000
DTEND;TZID=America/Los_Angeles:20250611T194500
DTSTAMP:20260423T165456
CREATED:20230715T205717Z
LAST-MODIFIED:20230716T034443Z
UID:10000129-1749664800-1749671100@norcalsistercities.org
SUMMARY:Sonoma-Kaniv Committee Meeting
DESCRIPTION:
URL:https://norcalsistercities.org/events/sonoma-kaniv-committee-meeting-20/
LOCATION:Sonoma Library Meeting Room\, 755 West Napa\, Sonoma\, CA\, 95476\, United States
CATEGORIES:Meetings
ATTACH;FMTTYPE=image/jpeg:https://norcalsistercities.org/wp-content/uploads/2023/07/sonoma-kaniv-committee.jpg
ORGANIZER;CN="Sonoma Sister Cities Association":MAILTO:info@sonomasistercitiesassociation.org
END:VEVENT
BEGIN:VEVENT
DTSTART;TZID=America/Los_Angeles:20250605T120000
DTEND;TZID=America/Los_Angeles:20250605T130000
DTSTAMP:20260423T165456
CREATED:20230725T222122Z
LAST-MODIFIED:20230725T222122Z
UID:10000271-1749124800-1749128400@norcalsistercities.org
SUMMARY:Stockton Sister Cities Association Board Meeting
DESCRIPTION:First Thursday of the Month
URL:https://norcalsistercities.org/events/stockton-sister-cities-association-board-meeting/2025-06-05/
LOCATION:Valley Brew\, 157 W Adams St.\, Stockton\, CA\, 95204\, United States
CATEGORIES:Meetings
ATTACH;FMTTYPE=image/jpeg:https://norcalsistercities.org/wp-content/uploads/2023/07/Stockton-Sister-Cities-Association.jpg
END:VEVENT
BEGIN:VEVENT
DTSTART;TZID=America/Los_Angeles:20250602T180000
DTEND;TZID=America/Los_Angeles:20250602T190000
DTSTAMP:20260423T165456
CREATED:20241020T210718Z
LAST-MODIFIED:20241020T210718Z
UID:10000591-1748887200-1748890800@norcalsistercities.org
SUMMARY:Cupertino-Hsinchu Sister City Association board meeting
DESCRIPTION:
URL:https://norcalsistercities.org/events/cupertino-hsinchu-sister-city-association-board-meeting/2025-06-02/
ATTACH;FMTTYPE=image/jpeg:https://norcalsistercities.org/wp-content/uploads/2024/10/Cupertino-Hsinchu-Sister-City-Association.jpg
ORGANIZER;CN="Cupertino-Hsinchu Sister City Association":MAILTO:chiachinglin6@gmail.com
END:VEVENT
BEGIN:VEVENT
DTSTART;TZID=America/Los_Angeles:20250602T110000
DTEND;TZID=America/Los_Angeles:20250602T123000
DTSTAMP:20260423T165456
CREATED:20230715T205717Z
LAST-MODIFIED:20230716T035517Z
UID:10000128-1748862000-1748867400@norcalsistercities.org
SUMMARY:Sonoma-Penglai Committee Meeting
DESCRIPTION:
URL:https://norcalsistercities.org/events/sonoma-penglai-committee-meeting-23/
LOCATION:Virtual
CATEGORIES:Meetings
ATTACH;FMTTYPE=image/jpeg:https://norcalsistercities.org/wp-content/uploads/2023/07/Sonoma-Penglai-Sister-City-Relationship-Symposium-banner.jpg
ORGANIZER;CN="Sonoma Sister Cities Association":MAILTO:info@sonomasistercitiesassociation.org
END:VEVENT
BEGIN:VEVENT
DTSTART;TZID=America/Los_Angeles:20250522T190000
DTEND;TZID=America/Los_Angeles:20250522T200000
DTSTAMP:20260423T165456
CREATED:20241020T220610Z
LAST-MODIFIED:20241020T220613Z
UID:10000655-1747940400-1747944000@norcalsistercities.org
SUMMARY:Morgan Hill Sister Cities meeting
DESCRIPTION:Join us anytime! Meetings always welcome the general public. \nSister Cities is an all-volunteer\, membership organization formed in 2002. \nWe currently host relationships with six international cities in Italy\, Turkey\, Mexico\, Japan and Ireland.
URL:https://norcalsistercities.org/events/morgan-hill-sister-cities-meeting-3-2/2025-05-22/
LOCATION:Centennial Recreation Center – Senior Center\, 171 W Edmundson Avenue\, Morgan Hill\, CA\, 95037\, United States
CATEGORIES:Meetings
ATTACH;FMTTYPE=image/jpeg:https://norcalsistercities.org/wp-content/uploads/2023/09/Morgan-Hill-Sister-Cities.jpg
ORGANIZER;CN="Morgan Hill Sister Cities":MAILTO:johnkelley103@gmail.com
END:VEVENT
END:VCALENDAR