BEGIN:VCALENDAR
VERSION:2.0
PRODID:-//Northern California Chapter of Sister Cities International - ECPv6.15.20//NONSGML v1.0//EN
CALSCALE:GREGORIAN
METHOD:PUBLISH
X-WR-CALNAME:Northern California Chapter of Sister Cities International
X-ORIGINAL-URL:https://norcalsistercities.org
X-WR-CALDESC:Events for Northern California Chapter of Sister Cities International
REFRESH-INTERVAL;VALUE=DURATION:PT1H
X-Robots-Tag:noindex
X-PUBLISHED-TTL:PT1H
BEGIN:VTIMEZONE
TZID:America/Los_Angeles
BEGIN:DAYLIGHT
TZOFFSETFROM:-0800
TZOFFSETTO:-0700
TZNAME:PDT
DTSTART:20260308T100000
END:DAYLIGHT
BEGIN:STANDARD
TZOFFSETFROM:-0700
TZOFFSETTO:-0800
TZNAME:PST
DTSTART:20261101T090000
END:STANDARD
BEGIN:DAYLIGHT
TZOFFSETFROM:-0800
TZOFFSETTO:-0700
TZNAME:PDT
DTSTART:20270314T100000
END:DAYLIGHT
BEGIN:STANDARD
TZOFFSETFROM:-0700
TZOFFSETTO:-0800
TZNAME:PST
DTSTART:20271107T090000
END:STANDARD
BEGIN:DAYLIGHT
TZOFFSETFROM:-0800
TZOFFSETTO:-0700
TZNAME:PDT
DTSTART:20280312T100000
END:DAYLIGHT
BEGIN:STANDARD
TZOFFSETFROM:-0700
TZOFFSETTO:-0800
TZNAME:PST
DTSTART:20281105T090000
END:STANDARD
END:VTIMEZONE
BEGIN:VEVENT
DTSTART;TZID=America/Los_Angeles:20270203T180000
DTEND;TZID=America/Los_Angeles:20270203T193000
DTSTAMP:20260423T203635
CREATED:20260419T224006Z
LAST-MODIFIED:20260419T224006Z
UID:10001155-1801677600-1801683000@norcalsistercities.org
SUMMARY:Richmond-Shimada Friendship Commission meeting
DESCRIPTION:
URL:https://norcalsistercities.org/events/richmond-shimada-friendship-commission-meeting/2027-02-03/
LOCATION:Richmond City Council Chambers – Shimada Conference Room\, 440 Civic Center Plaza\, 1 Fl\, Richmond\, CA\, 94804\, United States
CATEGORIES:Meetings
ORGANIZER;CN="Richmond-Shimada Friendship Commission":MAILTO:CityClerkDept@ci.richmond.ca.us
END:VEVENT
BEGIN:VEVENT
DTSTART;TZID=America/Los_Angeles:20270204T120000
DTEND;TZID=America/Los_Angeles:20270204T130000
DTSTAMP:20260423T203635
CREATED:20230725T222122Z
LAST-MODIFIED:20230725T222122Z
UID:10000291-1801742400-1801746000@norcalsistercities.org
SUMMARY:Stockton Sister Cities Association Board Meeting
DESCRIPTION:First Thursday of the Month
URL:https://norcalsistercities.org/events/stockton-sister-cities-association-board-meeting/2027-02-04/
LOCATION:Valley Brew\, 157 W Adams St.\, Stockton\, CA\, 95204\, United States
CATEGORIES:Meetings
ATTACH;FMTTYPE=image/jpeg:https://norcalsistercities.org/wp-content/uploads/2023/07/Stockton-Sister-Cities-Association.jpg
END:VEVENT
BEGIN:VEVENT
DTSTART;TZID=America/Los_Angeles:20270208T180000
DTEND;TZID=America/Los_Angeles:20270208T190000
DTSTAMP:20260423T203635
CREATED:20260419T161333Z
LAST-MODIFIED:20260419T161334Z
UID:10001034-1802109600-1802113200@norcalsistercities.org
SUMMARY:Cupertino-Hsinchu Sister City Association board meeting
DESCRIPTION:
URL:https://norcalsistercities.org/events/cupertino-hsinchu-sister-city-association-board-meeting-4-2-2/2027-02-08/
LOCATION:West Valley Elementary School\, 1635 Belleville Way\, Sunnyvale\, CA\, 94087\, United States
CATEGORIES:Meetings
ATTACH;FMTTYPE=image/jpeg:https://norcalsistercities.org/wp-content/uploads/2024/10/Cupertino-Hsinchu-Sister-City-Association.jpg
ORGANIZER;CN="Cupertino-Hsinchu Sister City Association":MAILTO:chiachinglin6@gmail.com
END:VEVENT
BEGIN:VEVENT
DTSTART;TZID=America/Los_Angeles:20270211T190000
DTEND;TZID=America/Los_Angeles:20270211T200000
DTSTAMP:20260423T203635
CREATED:20260419T225349Z
LAST-MODIFIED:20260419T225349Z
UID:10001169-1802372400-1802376000@norcalsistercities.org
SUMMARY:Vallejo Sister City Association Monthly Meeting
DESCRIPTION:
URL:https://norcalsistercities.org/events/vallejo-sister-city-association-monthly-meeting/2027-02-11/
LOCATION:Vallejo John F. Kennedy Library – Sister City Room\, 505 Santa Clara Street\, Vallejo\, CA\, 94590\, United States
ATTACH;FMTTYPE=image/jpeg:https://norcalsistercities.org/wp-content/uploads/2026/04/Vallejo-Sister-City-Association.jpg
END:VEVENT
BEGIN:VEVENT
DTSTART;TZID=America/Los_Angeles:20270216T190000
DTEND;TZID=America/Los_Angeles:20270216T210000
DTSTAMP:20260423T203635
CREATED:20230729T014437Z
LAST-MODIFIED:20230729T014437Z
UID:10000363-1802804400-1802811600@norcalsistercities.org
SUMMARY:Oakland-Fukuoka Sister City Association general meeting
DESCRIPTION:General meetings are typically held on the third Tuesday of the month. All are welcome to attend! \nTo receive the Zoom meeting link\, email ofsca1962@gmail.com. \nThis is an open meeting using the free Zoom video/audio meeting platform. No subscription is required\, and Zoom is free to download for your desktop or mobile device\, can be used with your device’s built-in microphone/camera\, or can be joined via telephone call (audio only).
URL:https://norcalsistercities.org/events/oakland-fukuoka-sister-city-association-general-meeting/2027-02-16/
LOCATION:Zoom
CATEGORIES:Meetings
ATTACH;FMTTYPE=image/jpeg:https://norcalsistercities.org/wp-content/uploads/2023/07/Oakland-Fukuoka-Sister-City-Association-logo.jpg
ORGANIZER;CN="Oakland-Fukuoka Sister City Association":MAILTO:ofsca1962@gmail.com
END:VEVENT
BEGIN:VEVENT
DTSTART;TZID=America/Los_Angeles:20270218T183000
DTEND;TZID=America/Los_Angeles:20270218T193000
DTSTAMP:20260423T203635
CREATED:20230725T214258Z
LAST-MODIFIED:20230725T214258Z
UID:10000222-1802975400-1802979000@norcalsistercities.org
SUMMARY:Concord Ambassadors General Meeting
DESCRIPTION:
URL:https://norcalsistercities.org/events/concord-ambassadors-general-meeting/2027-02-18/
LOCATION:Concord City Hall – Garden Conference Room\, 1950 Parkside Drive\, Concord\, CA\, 94519\, United States
CATEGORIES:Meetings
ATTACH;FMTTYPE=image/jpeg:https://norcalsistercities.org/wp-content/uploads/2023/07/ConcordAmbassadors.jpg
ORGANIZER;CN="Concord Ambassadors":MAILTO:concordambassadors@gmail.com
END:VEVENT
BEGIN:VEVENT
DTSTART;TZID=America/Los_Angeles:20270218T193000
DTEND;TZID=America/Los_Angeles:20270218T203000
DTSTAMP:20260423T203635
CREATED:20260419T234328Z
LAST-MODIFIED:20260419T234328Z
UID:10001200-1802979000-1802982600@norcalsistercities.org
SUMMARY:Santa Clara Sister Cities Association Board Meeting
DESCRIPTION:The SCSCA board meeting over Zoom. Email the board secretary if you are interested in attending.
URL:https://norcalsistercities.org/events/santa-clara-sister-cities-association-board-meeting/2027-02-18/
LOCATION:Virtual
CATEGORIES:Meetings
ORGANIZER;CN="Santa Clara Sister Cities Association":MAILTO:president@santaclarasistercities.org
END:VEVENT
BEGIN:VEVENT
DTSTART;TZID=America/Los_Angeles:20270225T190000
DTEND;TZID=America/Los_Angeles:20270225T200000
DTSTAMP:20260423T203635
CREATED:20260419T221516Z
LAST-MODIFIED:20260419T221516Z
UID:10001141-1803582000-1803585600@norcalsistercities.org
SUMMARY:Orinda/Tabor Sister City Foundation
DESCRIPTION:Internationally interested Orindans are always invited to the Foundation’s meetings on the 4th Thursday of every month at 7 p.m. PDT via Zoom currently. We love to hear that you would be interested in being a Host Family or any part of our team. If your background is Czech or you have visited the Country and realized its charm and continued democratic government\, contact Bobbie Landers by email bobbielanders@yahoo.com or call 925-254-8260 to receive a link to the next Zoom meeting. \nIt would be great to hear from you!
URL:https://norcalsistercities.org/events/orinda-tabor-sister-city-foundation/2027-02-25/
LOCATION:Zoom
CATEGORIES:Meetings
END:VEVENT
END:VCALENDAR