BEGIN:VCALENDAR
VERSION:2.0
PRODID:-//Northern California Chapter of Sister Cities International - ECPv6.15.20//NONSGML v1.0//EN
CALSCALE:GREGORIAN
METHOD:PUBLISH
X-WR-CALNAME:Northern California Chapter of Sister Cities International
X-ORIGINAL-URL:https://norcalsistercities.org
X-WR-CALDESC:Events for Northern California Chapter of Sister Cities International
REFRESH-INTERVAL;VALUE=DURATION:PT1H
X-Robots-Tag:noindex
X-PUBLISHED-TTL:PT1H
BEGIN:VTIMEZONE
TZID:America/Los_Angeles
BEGIN:DAYLIGHT
TZOFFSETFROM:-0800
TZOFFSETTO:-0700
TZNAME:PDT
DTSTART:20260308T100000
END:DAYLIGHT
BEGIN:STANDARD
TZOFFSETFROM:-0700
TZOFFSETTO:-0800
TZNAME:PST
DTSTART:20261101T090000
END:STANDARD
BEGIN:DAYLIGHT
TZOFFSETFROM:-0800
TZOFFSETTO:-0700
TZNAME:PDT
DTSTART:20270314T100000
END:DAYLIGHT
BEGIN:STANDARD
TZOFFSETFROM:-0700
TZOFFSETTO:-0800
TZNAME:PST
DTSTART:20271107T090000
END:STANDARD
BEGIN:DAYLIGHT
TZOFFSETFROM:-0800
TZOFFSETTO:-0700
TZNAME:PDT
DTSTART:20280312T100000
END:DAYLIGHT
BEGIN:STANDARD
TZOFFSETFROM:-0700
TZOFFSETTO:-0800
TZNAME:PST
DTSTART:20281105T090000
END:STANDARD
END:VTIMEZONE
BEGIN:VEVENT
DTSTART;TZID=America/Los_Angeles:20271202T120000
DTEND;TZID=America/Los_Angeles:20271202T130000
DTSTAMP:20260424T083641
CREATED:20230725T222122Z
LAST-MODIFIED:20230725T222122Z
UID:10000301-1827748800-1827752400@norcalsistercities.org
SUMMARY:Stockton Sister Cities Association Board Meeting
DESCRIPTION:First Thursday of the Month
URL:https://norcalsistercities.org/events/stockton-sister-cities-association-board-meeting/2027-12-02/
LOCATION:Valley Brew\, 157 W Adams St.\, Stockton\, CA\, 95204\, United States
CATEGORIES:Meetings
ATTACH;FMTTYPE=image/jpeg:https://norcalsistercities.org/wp-content/uploads/2023/07/Stockton-Sister-Cities-Association.jpg
END:VEVENT
BEGIN:VEVENT
DTSTART;TZID=America/Los_Angeles:20271213T180000
DTEND;TZID=America/Los_Angeles:20271213T190000
DTSTAMP:20260424T083641
CREATED:20260419T161333Z
LAST-MODIFIED:20260419T161334Z
UID:10001089-1828720800-1828724400@norcalsistercities.org
SUMMARY:Cupertino-Hsinchu Sister City Association board meeting
DESCRIPTION:
URL:https://norcalsistercities.org/events/cupertino-hsinchu-sister-city-association-board-meeting-4-2-2/2027-12-13/
LOCATION:West Valley Elementary School\, 1635 Belleville Way\, Sunnyvale\, CA\, 94087\, United States
CATEGORIES:Meetings
ATTACH;FMTTYPE=image/jpeg:https://norcalsistercities.org/wp-content/uploads/2024/10/Cupertino-Hsinchu-Sister-City-Association.jpg
ORGANIZER;CN="Cupertino-Hsinchu Sister City Association":MAILTO:chiachinglin6@gmail.com
END:VEVENT
BEGIN:VEVENT
DTSTART;TZID=America/Los_Angeles:20271216T183000
DTEND;TZID=America/Los_Angeles:20271216T193000
DTSTAMP:20260424T083641
CREATED:20230725T214258Z
LAST-MODIFIED:20230725T214258Z
UID:10000232-1828981800-1828985400@norcalsistercities.org
SUMMARY:Concord Ambassadors General Meeting
DESCRIPTION:
URL:https://norcalsistercities.org/events/concord-ambassadors-general-meeting/2027-12-16/
LOCATION:Concord City Hall – Garden Conference Room\, 1950 Parkside Drive\, Concord\, CA\, 94519\, United States
CATEGORIES:Meetings
ATTACH;FMTTYPE=image/jpeg:https://norcalsistercities.org/wp-content/uploads/2023/07/ConcordAmbassadors.jpg
ORGANIZER;CN="Concord Ambassadors":MAILTO:concordambassadors@gmail.com
END:VEVENT
BEGIN:VEVENT
DTSTART;TZID=America/Los_Angeles:20271216T193000
DTEND;TZID=America/Los_Angeles:20271216T203000
DTSTAMP:20260424T083641
CREATED:20260419T234328Z
LAST-MODIFIED:20260419T234328Z
UID:10001210-1828985400-1828989000@norcalsistercities.org
SUMMARY:Santa Clara Sister Cities Association Board Meeting
DESCRIPTION:The SCSCA board meeting over Zoom. Email the board secretary if you are interested in attending.
URL:https://norcalsistercities.org/events/santa-clara-sister-cities-association-board-meeting/2027-12-16/
LOCATION:Virtual
CATEGORIES:Meetings
ORGANIZER;CN="Santa Clara Sister Cities Association":MAILTO:president@santaclarasistercities.org
END:VEVENT
BEGIN:VEVENT
DTSTART;TZID=America/Los_Angeles:20271221T190000
DTEND;TZID=America/Los_Angeles:20271221T210000
DTSTAMP:20260424T083641
CREATED:20230729T014437Z
LAST-MODIFIED:20230729T014437Z
UID:10000373-1829415600-1829422800@norcalsistercities.org
SUMMARY:Oakland-Fukuoka Sister City Association general meeting
DESCRIPTION:General meetings are typically held on the third Tuesday of the month. All are welcome to attend! \nTo receive the Zoom meeting link\, email ofsca1962@gmail.com. \nThis is an open meeting using the free Zoom video/audio meeting platform. No subscription is required\, and Zoom is free to download for your desktop or mobile device\, can be used with your device’s built-in microphone/camera\, or can be joined via telephone call (audio only).
URL:https://norcalsistercities.org/events/oakland-fukuoka-sister-city-association-general-meeting/2027-12-21/
LOCATION:Zoom
CATEGORIES:Meetings
ATTACH;FMTTYPE=image/jpeg:https://norcalsistercities.org/wp-content/uploads/2023/07/Oakland-Fukuoka-Sister-City-Association-logo.jpg
ORGANIZER;CN="Oakland-Fukuoka Sister City Association":MAILTO:ofsca1962@gmail.com
END:VEVENT
END:VCALENDAR