BEGIN:VCALENDAR
VERSION:2.0
PRODID:-//Northern California Chapter of Sister Cities International - ECPv6.15.20//NONSGML v1.0//EN
CALSCALE:GREGORIAN
METHOD:PUBLISH
X-ORIGINAL-URL:https://norcalsistercities.org
X-WR-CALDESC:Events for Northern California Chapter of Sister Cities International
REFRESH-INTERVAL;VALUE=DURATION:PT1H
X-Robots-Tag:noindex
X-PUBLISHED-TTL:PT1H
BEGIN:VTIMEZONE
TZID:America/Los_Angeles
BEGIN:DAYLIGHT
TZOFFSETFROM:-0800
TZOFFSETTO:-0700
TZNAME:PDT
DTSTART:20280312T100000
END:DAYLIGHT
BEGIN:STANDARD
TZOFFSETFROM:-0700
TZOFFSETTO:-0800
TZNAME:PST
DTSTART:20281105T090000
END:STANDARD
BEGIN:DAYLIGHT
TZOFFSETFROM:-0800
TZOFFSETTO:-0700
TZNAME:PDT
DTSTART:20290311T100000
END:DAYLIGHT
BEGIN:STANDARD
TZOFFSETFROM:-0700
TZOFFSETTO:-0800
TZNAME:PST
DTSTART:20291104T090000
END:STANDARD
BEGIN:DAYLIGHT
TZOFFSETFROM:-0800
TZOFFSETTO:-0700
TZNAME:PDT
DTSTART:20300310T100000
END:DAYLIGHT
BEGIN:STANDARD
TZOFFSETFROM:-0700
TZOFFSETTO:-0800
TZNAME:PST
DTSTART:20301103T090000
END:STANDARD
END:VTIMEZONE
BEGIN:VEVENT
DTSTART;TZID=America/Los_Angeles:20290802T120000
DTEND;TZID=America/Los_Angeles:20290802T130000
DTSTAMP:20260425T090617
CREATED:20230725T222122Z
LAST-MODIFIED:20230725T222122Z
UID:10000763-1880366400-1880370000@norcalsistercities.org
SUMMARY:Stockton Sister Cities Association Board Meeting
DESCRIPTION:First Thursday of the Month
URL:https://norcalsistercities.org/events/stockton-sister-cities-association-board-meeting/2029-08-02/
LOCATION:Valley Brew\, 157 W Adams St.\, Stockton\, CA\, 95204\, United States
CATEGORIES:Meetings
ATTACH;FMTTYPE=image/jpeg:https://norcalsistercities.org/wp-content/uploads/2023/07/Stockton-Sister-Cities-Association.jpg
END:VEVENT
BEGIN:VEVENT
DTSTART;TZID=America/Los_Angeles:20290813T180000
DTEND;TZID=America/Los_Angeles:20290813T190000
DTSTAMP:20260425T090617
CREATED:20260419T161333Z
LAST-MODIFIED:20260419T161334Z
UID:10001107-1881338400-1881342000@norcalsistercities.org
SUMMARY:Cupertino-Hsinchu Sister City Association board meeting
DESCRIPTION:
URL:https://norcalsistercities.org/events/cupertino-hsinchu-sister-city-association-board-meeting-4-2-2/2029-08-13/
LOCATION:West Valley Elementary School\, 1635 Belleville Way\, Sunnyvale\, CA\, 94087\, United States
CATEGORIES:Meetings
ATTACH;FMTTYPE=image/jpeg:https://norcalsistercities.org/wp-content/uploads/2024/10/Cupertino-Hsinchu-Sister-City-Association.jpg
ORGANIZER;CN="Cupertino-Hsinchu Sister City Association":MAILTO:chiachinglin6@gmail.com
END:VEVENT
BEGIN:VEVENT
DTSTART;TZID=America/Los_Angeles:20290816T193000
DTEND;TZID=America/Los_Angeles:20290816T203000
DTSTAMP:20260425T090617
CREATED:20260419T234328Z
LAST-MODIFIED:20260419T234328Z
UID:10001230-1881603000-1881606600@norcalsistercities.org
SUMMARY:Santa Clara Sister Cities Association Board Meeting
DESCRIPTION:The SCSCA board meeting over Zoom. Email the board secretary if you are interested in attending.
URL:https://norcalsistercities.org/events/santa-clara-sister-cities-association-board-meeting/2029-08-16/
LOCATION:Virtual
CATEGORIES:Meetings
ORGANIZER;CN="Santa Clara Sister Cities Association":MAILTO:president@santaclarasistercities.org
END:VEVENT
END:VCALENDAR