BEGIN:VCALENDAR
VERSION:2.0
PRODID:-//Northern California Chapter of Sister Cities International - ECPv6.15.20//NONSGML v1.0//EN
CALSCALE:GREGORIAN
METHOD:PUBLISH
X-WR-CALNAME:Northern California Chapter of Sister Cities International
X-ORIGINAL-URL:https://norcalsistercities.org
X-WR-CALDESC:Events for Northern California Chapter of Sister Cities International
REFRESH-INTERVAL;VALUE=DURATION:PT1H
X-Robots-Tag:noindex
X-PUBLISHED-TTL:PT1H
BEGIN:VTIMEZONE
TZID:America/Los_Angeles
BEGIN:DAYLIGHT
TZOFFSETFROM:-0800
TZOFFSETTO:-0700
TZNAME:PDT
DTSTART:20250309T100000
END:DAYLIGHT
BEGIN:STANDARD
TZOFFSETFROM:-0700
TZOFFSETTO:-0800
TZNAME:PST
DTSTART:20251102T090000
END:STANDARD
BEGIN:DAYLIGHT
TZOFFSETFROM:-0800
TZOFFSETTO:-0700
TZNAME:PDT
DTSTART:20260308T100000
END:DAYLIGHT
BEGIN:STANDARD
TZOFFSETFROM:-0700
TZOFFSETTO:-0800
TZNAME:PST
DTSTART:20261101T090000
END:STANDARD
BEGIN:DAYLIGHT
TZOFFSETFROM:-0800
TZOFFSETTO:-0700
TZNAME:PDT
DTSTART:20270314T100000
END:DAYLIGHT
BEGIN:STANDARD
TZOFFSETFROM:-0700
TZOFFSETTO:-0800
TZNAME:PST
DTSTART:20271107T090000
END:STANDARD
BEGIN:DAYLIGHT
TZOFFSETFROM:-0800
TZOFFSETTO:-0700
TZNAME:PDT
DTSTART:20280312T100000
END:DAYLIGHT
BEGIN:STANDARD
TZOFFSETFROM:-0700
TZOFFSETTO:-0800
TZNAME:PST
DTSTART:20281105T090000
END:STANDARD
END:VTIMEZONE
BEGIN:VEVENT
DTSTART;TZID=America/Los_Angeles:20260514T190000
DTEND;TZID=America/Los_Angeles:20260514T200000
DTSTAMP:20260423T081723
CREATED:20260419T225349Z
LAST-MODIFIED:20260419T225349Z
UID:10001160-1778785200-1778788800@norcalsistercities.org
SUMMARY:Vallejo Sister City Association Monthly Meeting
DESCRIPTION:
URL:https://norcalsistercities.org/events/vallejo-sister-city-association-monthly-meeting/2026-05-14/
LOCATION:Vallejo John F. Kennedy Library – Sister City Room\, 505 Santa Clara Street\, Vallejo\, CA\, 94590\, United States
ATTACH;FMTTYPE=image/jpeg:https://norcalsistercities.org/wp-content/uploads/2026/04/Vallejo-Sister-City-Association.jpg
END:VEVENT
BEGIN:VEVENT
DTSTART;TZID=America/Los_Angeles:20260611T190000
DTEND;TZID=America/Los_Angeles:20260611T200000
DTSTAMP:20260423T081723
CREATED:20260419T225349Z
LAST-MODIFIED:20260419T225349Z
UID:10001161-1781204400-1781208000@norcalsistercities.org
SUMMARY:Vallejo Sister City Association Monthly Meeting
DESCRIPTION:
URL:https://norcalsistercities.org/events/vallejo-sister-city-association-monthly-meeting/2026-06-11/
LOCATION:Vallejo John F. Kennedy Library – Sister City Room\, 505 Santa Clara Street\, Vallejo\, CA\, 94590\, United States
ATTACH;FMTTYPE=image/jpeg:https://norcalsistercities.org/wp-content/uploads/2026/04/Vallejo-Sister-City-Association.jpg
END:VEVENT
BEGIN:VEVENT
DTSTART;TZID=America/Los_Angeles:20260709T190000
DTEND;TZID=America/Los_Angeles:20260709T200000
DTSTAMP:20260423T081723
CREATED:20260419T225349Z
LAST-MODIFIED:20260419T225349Z
UID:10001162-1783623600-1783627200@norcalsistercities.org
SUMMARY:Vallejo Sister City Association Monthly Meeting
DESCRIPTION:
URL:https://norcalsistercities.org/events/vallejo-sister-city-association-monthly-meeting/2026-07-09/
LOCATION:Vallejo John F. Kennedy Library – Sister City Room\, 505 Santa Clara Street\, Vallejo\, CA\, 94590\, United States
ATTACH;FMTTYPE=image/jpeg:https://norcalsistercities.org/wp-content/uploads/2026/04/Vallejo-Sister-City-Association.jpg
END:VEVENT
BEGIN:VEVENT
DTSTART;TZID=America/Los_Angeles:20260813T190000
DTEND;TZID=America/Los_Angeles:20260813T200000
DTSTAMP:20260423T081723
CREATED:20260419T225349Z
LAST-MODIFIED:20260419T225349Z
UID:10001163-1786647600-1786651200@norcalsistercities.org
SUMMARY:Vallejo Sister City Association Monthly Meeting
DESCRIPTION:
URL:https://norcalsistercities.org/events/vallejo-sister-city-association-monthly-meeting/2026-08-13/
LOCATION:Vallejo John F. Kennedy Library – Sister City Room\, 505 Santa Clara Street\, Vallejo\, CA\, 94590\, United States
ATTACH;FMTTYPE=image/jpeg:https://norcalsistercities.org/wp-content/uploads/2026/04/Vallejo-Sister-City-Association.jpg
END:VEVENT
BEGIN:VEVENT
DTSTART;TZID=America/Los_Angeles:20260910T190000
DTEND;TZID=America/Los_Angeles:20260910T200000
DTSTAMP:20260423T081723
CREATED:20260419T225349Z
LAST-MODIFIED:20260419T225349Z
UID:10001164-1789066800-1789070400@norcalsistercities.org
SUMMARY:Vallejo Sister City Association Monthly Meeting
DESCRIPTION:
URL:https://norcalsistercities.org/events/vallejo-sister-city-association-monthly-meeting/2026-09-10/
LOCATION:Vallejo John F. Kennedy Library – Sister City Room\, 505 Santa Clara Street\, Vallejo\, CA\, 94590\, United States
ATTACH;FMTTYPE=image/jpeg:https://norcalsistercities.org/wp-content/uploads/2026/04/Vallejo-Sister-City-Association.jpg
END:VEVENT
BEGIN:VEVENT
DTSTART;TZID=America/Los_Angeles:20261008T190000
DTEND;TZID=America/Los_Angeles:20261008T200000
DTSTAMP:20260423T081723
CREATED:20260419T225349Z
LAST-MODIFIED:20260419T225349Z
UID:10001165-1791486000-1791489600@norcalsistercities.org
SUMMARY:Vallejo Sister City Association Monthly Meeting
DESCRIPTION:
URL:https://norcalsistercities.org/events/vallejo-sister-city-association-monthly-meeting/2026-10-08/
LOCATION:Vallejo John F. Kennedy Library – Sister City Room\, 505 Santa Clara Street\, Vallejo\, CA\, 94590\, United States
ATTACH;FMTTYPE=image/jpeg:https://norcalsistercities.org/wp-content/uploads/2026/04/Vallejo-Sister-City-Association.jpg
END:VEVENT
BEGIN:VEVENT
DTSTART;TZID=America/Los_Angeles:20261112T190000
DTEND;TZID=America/Los_Angeles:20261112T200000
DTSTAMP:20260423T081723
CREATED:20260419T225349Z
LAST-MODIFIED:20260419T225349Z
UID:10001166-1794510000-1794513600@norcalsistercities.org
SUMMARY:Vallejo Sister City Association Monthly Meeting
DESCRIPTION:
URL:https://norcalsistercities.org/events/vallejo-sister-city-association-monthly-meeting/2026-11-12/
LOCATION:Vallejo John F. Kennedy Library – Sister City Room\, 505 Santa Clara Street\, Vallejo\, CA\, 94590\, United States
ATTACH;FMTTYPE=image/jpeg:https://norcalsistercities.org/wp-content/uploads/2026/04/Vallejo-Sister-City-Association.jpg
END:VEVENT
BEGIN:VEVENT
DTSTART;TZID=America/Los_Angeles:20261210T190000
DTEND;TZID=America/Los_Angeles:20261210T200000
DTSTAMP:20260423T081723
CREATED:20260419T225349Z
LAST-MODIFIED:20260419T225349Z
UID:10001167-1796929200-1796932800@norcalsistercities.org
SUMMARY:Vallejo Sister City Association Monthly Meeting
DESCRIPTION:
URL:https://norcalsistercities.org/events/vallejo-sister-city-association-monthly-meeting/2026-12-10/
LOCATION:Vallejo John F. Kennedy Library – Sister City Room\, 505 Santa Clara Street\, Vallejo\, CA\, 94590\, United States
ATTACH;FMTTYPE=image/jpeg:https://norcalsistercities.org/wp-content/uploads/2026/04/Vallejo-Sister-City-Association.jpg
END:VEVENT
BEGIN:VEVENT
DTSTART;TZID=America/Los_Angeles:20270114T190000
DTEND;TZID=America/Los_Angeles:20270114T200000
DTSTAMP:20260423T081723
CREATED:20260419T225349Z
LAST-MODIFIED:20260419T225349Z
UID:10001168-1799953200-1799956800@norcalsistercities.org
SUMMARY:Vallejo Sister City Association Monthly Meeting
DESCRIPTION:
URL:https://norcalsistercities.org/events/vallejo-sister-city-association-monthly-meeting/2027-01-14/
LOCATION:Vallejo John F. Kennedy Library – Sister City Room\, 505 Santa Clara Street\, Vallejo\, CA\, 94590\, United States
ATTACH;FMTTYPE=image/jpeg:https://norcalsistercities.org/wp-content/uploads/2026/04/Vallejo-Sister-City-Association.jpg
END:VEVENT
BEGIN:VEVENT
DTSTART;TZID=America/Los_Angeles:20270211T190000
DTEND;TZID=America/Los_Angeles:20270211T200000
DTSTAMP:20260423T081723
CREATED:20260419T225349Z
LAST-MODIFIED:20260419T225349Z
UID:10001169-1802372400-1802376000@norcalsistercities.org
SUMMARY:Vallejo Sister City Association Monthly Meeting
DESCRIPTION:
URL:https://norcalsistercities.org/events/vallejo-sister-city-association-monthly-meeting/2027-02-11/
LOCATION:Vallejo John F. Kennedy Library – Sister City Room\, 505 Santa Clara Street\, Vallejo\, CA\, 94590\, United States
ATTACH;FMTTYPE=image/jpeg:https://norcalsistercities.org/wp-content/uploads/2026/04/Vallejo-Sister-City-Association.jpg
END:VEVENT
BEGIN:VEVENT
DTSTART;TZID=America/Los_Angeles:20270311T190000
DTEND;TZID=America/Los_Angeles:20270311T200000
DTSTAMP:20260423T081723
CREATED:20260419T225349Z
LAST-MODIFIED:20260419T225349Z
UID:10001170-1804791600-1804795200@norcalsistercities.org
SUMMARY:Vallejo Sister City Association Monthly Meeting
DESCRIPTION:
URL:https://norcalsistercities.org/events/vallejo-sister-city-association-monthly-meeting/2027-03-11/
LOCATION:Vallejo John F. Kennedy Library – Sister City Room\, 505 Santa Clara Street\, Vallejo\, CA\, 94590\, United States
ATTACH;FMTTYPE=image/jpeg:https://norcalsistercities.org/wp-content/uploads/2026/04/Vallejo-Sister-City-Association.jpg
END:VEVENT
BEGIN:VEVENT
DTSTART;TZID=America/Los_Angeles:20270408T190000
DTEND;TZID=America/Los_Angeles:20270408T200000
DTSTAMP:20260423T081723
CREATED:20260419T225349Z
LAST-MODIFIED:20260419T225349Z
UID:10001171-1807210800-1807214400@norcalsistercities.org
SUMMARY:Vallejo Sister City Association Monthly Meeting
DESCRIPTION:
URL:https://norcalsistercities.org/events/vallejo-sister-city-association-monthly-meeting/2027-04-08/
LOCATION:Vallejo John F. Kennedy Library – Sister City Room\, 505 Santa Clara Street\, Vallejo\, CA\, 94590\, United States
ATTACH;FMTTYPE=image/jpeg:https://norcalsistercities.org/wp-content/uploads/2026/04/Vallejo-Sister-City-Association.jpg
END:VEVENT
BEGIN:VEVENT
DTSTART;TZID=America/Los_Angeles:20270513T190000
DTEND;TZID=America/Los_Angeles:20270513T200000
DTSTAMP:20260423T081723
CREATED:20260419T225349Z
LAST-MODIFIED:20260419T225349Z
UID:10001172-1810234800-1810238400@norcalsistercities.org
SUMMARY:Vallejo Sister City Association Monthly Meeting
DESCRIPTION:
URL:https://norcalsistercities.org/events/vallejo-sister-city-association-monthly-meeting/2027-05-13/
LOCATION:Vallejo John F. Kennedy Library – Sister City Room\, 505 Santa Clara Street\, Vallejo\, CA\, 94590\, United States
ATTACH;FMTTYPE=image/jpeg:https://norcalsistercities.org/wp-content/uploads/2026/04/Vallejo-Sister-City-Association.jpg
END:VEVENT
END:VCALENDAR