BEGIN:VCALENDAR
VERSION:2.0
PRODID:-//Northern California Chapter of Sister Cities International - ECPv6.15.20//NONSGML v1.0//EN
CALSCALE:GREGORIAN
METHOD:PUBLISH
X-ORIGINAL-URL:https://norcalsistercities.org
X-WR-CALDESC:Events for Northern California Chapter of Sister Cities International
REFRESH-INTERVAL;VALUE=DURATION:PT1H
X-Robots-Tag:noindex
X-PUBLISHED-TTL:PT1H
BEGIN:VTIMEZONE
TZID:America/Los_Angeles
BEGIN:DAYLIGHT
TZOFFSETFROM:-0800
TZOFFSETTO:-0700
TZNAME:PDT
DTSTART:20250309T100000
END:DAYLIGHT
BEGIN:STANDARD
TZOFFSETFROM:-0700
TZOFFSETTO:-0800
TZNAME:PST
DTSTART:20251102T090000
END:STANDARD
BEGIN:DAYLIGHT
TZOFFSETFROM:-0800
TZOFFSETTO:-0700
TZNAME:PDT
DTSTART:20260308T100000
END:DAYLIGHT
BEGIN:STANDARD
TZOFFSETFROM:-0700
TZOFFSETTO:-0800
TZNAME:PST
DTSTART:20261101T090000
END:STANDARD
BEGIN:DAYLIGHT
TZOFFSETFROM:-0800
TZOFFSETTO:-0700
TZNAME:PDT
DTSTART:20270314T100000
END:DAYLIGHT
BEGIN:STANDARD
TZOFFSETFROM:-0700
TZOFFSETTO:-0800
TZNAME:PST
DTSTART:20271107T090000
END:STANDARD
END:VTIMEZONE
BEGIN:VEVENT
DTSTART;TZID=America/Los_Angeles:20260506T173000
DTEND;TZID=America/Los_Angeles:20260506T203000
DTSTAMP:20260423T181604
CREATED:20260115T222818Z
LAST-MODIFIED:20260115T222819Z
UID:10000740-1778088600-1778099400@norcalsistercities.org
SUMMARY:APA Heritage Awards & Community Gala
DESCRIPTION:The APA Heritage Awards is a signature program of San Francisco’s celebration of Asian American and Pacific Islander Heritage Month. \nEach year\, the AAPI Heritage Celebration Committee honors civic organizations and individuals who have achieved significant milestones in serving the community. \nThe event is free and open to the public\, but registration is required. \nRegistration opens in April 2026. \n*The Northern California Chapter of Sister Cities International is an annual Publicity Partner for San Francisco’s AAPI Heritage Month celebration. \nAPA Heritage Foundation
URL:https://norcalsistercities.org/events/apa-heritage-awards-community-gala/
LOCATION:Herbst Theatre\, 401 Van Ness Ave\, San Francisco\, CA\, 94102\, United States
ATTACH;FMTTYPE=image/jpeg:https://norcalsistercities.org/wp-content/uploads/2026/01/2025-Asian-American-Pacific-Islander-Heritage-Month_16x9.jpg
END:VEVENT
END:VCALENDAR