BEGIN:VCALENDAR
VERSION:2.0
PRODID:-//Northern California Chapter of Sister Cities International - ECPv6.15.20//NONSGML v1.0//EN
CALSCALE:GREGORIAN
METHOD:PUBLISH
X-ORIGINAL-URL:https://norcalsistercities.org
X-WR-CALDESC:Events for Northern California Chapter of Sister Cities International
REFRESH-INTERVAL;VALUE=DURATION:PT1H
X-Robots-Tag:noindex
X-PUBLISHED-TTL:PT1H
BEGIN:VTIMEZONE
TZID:America/Los_Angeles
BEGIN:DAYLIGHT
TZOFFSETFROM:-0800
TZOFFSETTO:-0700
TZNAME:PDT
DTSTART:20250309T100000
END:DAYLIGHT
BEGIN:STANDARD
TZOFFSETFROM:-0700
TZOFFSETTO:-0800
TZNAME:PST
DTSTART:20251102T090000
END:STANDARD
BEGIN:DAYLIGHT
TZOFFSETFROM:-0800
TZOFFSETTO:-0700
TZNAME:PDT
DTSTART:20260308T100000
END:DAYLIGHT
BEGIN:STANDARD
TZOFFSETFROM:-0700
TZOFFSETTO:-0800
TZNAME:PST
DTSTART:20261101T090000
END:STANDARD
BEGIN:DAYLIGHT
TZOFFSETFROM:-0800
TZOFFSETTO:-0700
TZNAME:PDT
DTSTART:20270314T100000
END:DAYLIGHT
BEGIN:STANDARD
TZOFFSETFROM:-0700
TZOFFSETTO:-0800
TZNAME:PST
DTSTART:20271107T090000
END:STANDARD
BEGIN:DAYLIGHT
TZOFFSETFROM:-0800
TZOFFSETTO:-0700
TZNAME:PDT
DTSTART:20280312T100000
END:DAYLIGHT
BEGIN:STANDARD
TZOFFSETFROM:-0700
TZOFFSETTO:-0800
TZNAME:PST
DTSTART:20281105T090000
END:STANDARD
BEGIN:DAYLIGHT
TZOFFSETFROM:-0800
TZOFFSETTO:-0700
TZNAME:PDT
DTSTART:20290311T100000
END:DAYLIGHT
BEGIN:STANDARD
TZOFFSETFROM:-0700
TZOFFSETTO:-0800
TZNAME:PST
DTSTART:20291104T090000
END:STANDARD
END:VTIMEZONE
BEGIN:VEVENT
DTSTART;TZID=America/Los_Angeles:20260504T173000
DTEND;TZID=America/Los_Angeles:20260504T183000
DTSTAMP:20260423T112251
CREATED:20260419T161027Z
LAST-MODIFIED:20260419T161031Z
UID:10000860-1777915800-1777919400@norcalsistercities.org
SUMMARY:Cupertino-Hsinchu Sister City Association board meeting
DESCRIPTION:Cupertino-Hsinchu Sister City Association
URL:https://norcalsistercities.org/events/cupertino-hsinchu-sister-city-association-board-meeting-4/2026-05-04/
LOCATION:West Valley Elementary School\, 1635 Belleville Way\, Sunnyvale\, CA\, 94087\, United States
CATEGORIES:Meetings
ATTACH;FMTTYPE=image/jpeg:https://norcalsistercities.org/wp-content/uploads/2024/10/Cupertino-Hsinchu-Sister-City-Association.jpg
ORGANIZER;CN="Cupertino-Hsinchu Sister City Association":MAILTO:chiachinglin6@gmail.com
END:VEVENT
BEGIN:VEVENT
DTSTART;TZID=America/Los_Angeles:20260601T173000
DTEND;TZID=America/Los_Angeles:20260601T183000
DTSTAMP:20260423T112251
CREATED:20260419T161027Z
LAST-MODIFIED:20260419T161031Z
UID:10000861-1780335000-1780338600@norcalsistercities.org
SUMMARY:Cupertino-Hsinchu Sister City Association board meeting
DESCRIPTION:Cupertino-Hsinchu Sister City Association
URL:https://norcalsistercities.org/events/cupertino-hsinchu-sister-city-association-board-meeting-4/2026-06-01/
LOCATION:West Valley Elementary School\, 1635 Belleville Way\, Sunnyvale\, CA\, 94087\, United States
CATEGORIES:Meetings
ATTACH;FMTTYPE=image/jpeg:https://norcalsistercities.org/wp-content/uploads/2024/10/Cupertino-Hsinchu-Sister-City-Association.jpg
ORGANIZER;CN="Cupertino-Hsinchu Sister City Association":MAILTO:chiachinglin6@gmail.com
END:VEVENT
BEGIN:VEVENT
DTSTART;TZID=America/Los_Angeles:20260706T173000
DTEND;TZID=America/Los_Angeles:20260706T183000
DTSTAMP:20260423T112251
CREATED:20260419T161027Z
LAST-MODIFIED:20260419T161031Z
UID:10001029-1783359000-1783362600@norcalsistercities.org
SUMMARY:Cupertino-Hsinchu Sister City Association board meeting
DESCRIPTION:Cupertino-Hsinchu Sister City Association
URL:https://norcalsistercities.org/events/cupertino-hsinchu-sister-city-association-board-meeting-4/2026-07-06/
LOCATION:West Valley Elementary School\, 1635 Belleville Way\, Sunnyvale\, CA\, 94087\, United States
CATEGORIES:Meetings
ATTACH;FMTTYPE=image/jpeg:https://norcalsistercities.org/wp-content/uploads/2024/10/Cupertino-Hsinchu-Sister-City-Association.jpg
ORGANIZER;CN="Cupertino-Hsinchu Sister City Association":MAILTO:chiachinglin6@gmail.com
END:VEVENT
BEGIN:VEVENT
DTSTART;TZID=America/Los_Angeles:20260803T173000
DTEND;TZID=America/Los_Angeles:20260803T183000
DTSTAMP:20260423T112251
CREATED:20260419T161027Z
LAST-MODIFIED:20260419T161031Z
UID:10000863-1785778200-1785781800@norcalsistercities.org
SUMMARY:Cupertino-Hsinchu Sister City Association board meeting
DESCRIPTION:Cupertino-Hsinchu Sister City Association
URL:https://norcalsistercities.org/events/cupertino-hsinchu-sister-city-association-board-meeting-4/2026-08-03/
LOCATION:West Valley Elementary School\, 1635 Belleville Way\, Sunnyvale\, CA\, 94087\, United States
CATEGORIES:Meetings
ATTACH;FMTTYPE=image/jpeg:https://norcalsistercities.org/wp-content/uploads/2024/10/Cupertino-Hsinchu-Sister-City-Association.jpg
ORGANIZER;CN="Cupertino-Hsinchu Sister City Association":MAILTO:chiachinglin6@gmail.com
END:VEVENT
BEGIN:VEVENT
DTSTART;TZID=America/Los_Angeles:20260908T180000
DTEND;TZID=America/Los_Angeles:20260908T190000
DTSTAMP:20260423T112251
CREATED:20260419T161240Z
LAST-MODIFIED:20260419T161244Z
UID:10000973-1788890400-1788894000@norcalsistercities.org
SUMMARY:Cupertino-Hsinchu Sister City Association board meeting
DESCRIPTION:Cupertino-Hsinchu Sister City Association
URL:https://norcalsistercities.org/events/cupertino-hsinchu-sister-city-association-board-meeting-4-2/
LOCATION:West Valley Elementary School\, 1635 Belleville Way\, Sunnyvale\, CA\, 94087\, United States
CATEGORIES:Meetings
ATTACH;FMTTYPE=image/jpeg:https://norcalsistercities.org/wp-content/uploads/2024/10/Cupertino-Hsinchu-Sister-City-Association.jpg
ORGANIZER;CN="Cupertino-Hsinchu Sister City Association":MAILTO:chiachinglin6@gmail.com
END:VEVENT
BEGIN:VEVENT
DTSTART;TZID=America/Los_Angeles:20261012T180000
DTEND;TZID=America/Los_Angeles:20261012T190000
DTSTAMP:20260423T112251
CREATED:20260419T161333Z
LAST-MODIFIED:20260419T161334Z
UID:10001078-1791828000-1791831600@norcalsistercities.org
SUMMARY:Cupertino-Hsinchu Sister City Association board meeting
DESCRIPTION:Cupertino-Hsinchu Sister City Association
URL:https://norcalsistercities.org/events/cupertino-hsinchu-sister-city-association-board-meeting-4-2-2/2026-10-12/
LOCATION:West Valley Elementary School\, 1635 Belleville Way\, Sunnyvale\, CA\, 94087\, United States
CATEGORIES:Meetings
ATTACH;FMTTYPE=image/jpeg:https://norcalsistercities.org/wp-content/uploads/2024/10/Cupertino-Hsinchu-Sister-City-Association.jpg
ORGANIZER;CN="Cupertino-Hsinchu Sister City Association":MAILTO:chiachinglin6@gmail.com
END:VEVENT
BEGIN:VEVENT
DTSTART;TZID=America/Los_Angeles:20261109T180000
DTEND;TZID=America/Los_Angeles:20261109T190000
DTSTAMP:20260423T112251
CREATED:20260419T161333Z
LAST-MODIFIED:20260419T161334Z
UID:10001079-1794247200-1794250800@norcalsistercities.org
SUMMARY:Cupertino-Hsinchu Sister City Association board meeting
DESCRIPTION:Cupertino-Hsinchu Sister City Association
URL:https://norcalsistercities.org/events/cupertino-hsinchu-sister-city-association-board-meeting-4-2-2/2026-11-09/
LOCATION:West Valley Elementary School\, 1635 Belleville Way\, Sunnyvale\, CA\, 94087\, United States
CATEGORIES:Meetings
ATTACH;FMTTYPE=image/jpeg:https://norcalsistercities.org/wp-content/uploads/2024/10/Cupertino-Hsinchu-Sister-City-Association.jpg
ORGANIZER;CN="Cupertino-Hsinchu Sister City Association":MAILTO:chiachinglin6@gmail.com
END:VEVENT
BEGIN:VEVENT
DTSTART;TZID=America/Los_Angeles:20261214T180000
DTEND;TZID=America/Los_Angeles:20261214T190000
DTSTAMP:20260423T112251
CREATED:20260419T161333Z
LAST-MODIFIED:20260419T161334Z
UID:10001080-1797271200-1797274800@norcalsistercities.org
SUMMARY:Cupertino-Hsinchu Sister City Association board meeting
DESCRIPTION:Cupertino-Hsinchu Sister City Association
URL:https://norcalsistercities.org/events/cupertino-hsinchu-sister-city-association-board-meeting-4-2-2/2026-12-14/
LOCATION:West Valley Elementary School\, 1635 Belleville Way\, Sunnyvale\, CA\, 94087\, United States
CATEGORIES:Meetings
ATTACH;FMTTYPE=image/jpeg:https://norcalsistercities.org/wp-content/uploads/2024/10/Cupertino-Hsinchu-Sister-City-Association.jpg
ORGANIZER;CN="Cupertino-Hsinchu Sister City Association":MAILTO:chiachinglin6@gmail.com
END:VEVENT
BEGIN:VEVENT
DTSTART;TZID=America/Los_Angeles:20270111T180000
DTEND;TZID=America/Los_Angeles:20270111T190000
DTSTAMP:20260423T112251
CREATED:20260419T161333Z
LAST-MODIFIED:20260419T161334Z
UID:10001081-1799690400-1799694000@norcalsistercities.org
SUMMARY:Cupertino-Hsinchu Sister City Association board meeting
DESCRIPTION:Cupertino-Hsinchu Sister City Association
URL:https://norcalsistercities.org/events/cupertino-hsinchu-sister-city-association-board-meeting-4-2-2/2027-01-11/
LOCATION:West Valley Elementary School\, 1635 Belleville Way\, Sunnyvale\, CA\, 94087\, United States
CATEGORIES:Meetings
ATTACH;FMTTYPE=image/jpeg:https://norcalsistercities.org/wp-content/uploads/2024/10/Cupertino-Hsinchu-Sister-City-Association.jpg
ORGANIZER;CN="Cupertino-Hsinchu Sister City Association":MAILTO:chiachinglin6@gmail.com
END:VEVENT
BEGIN:VEVENT
DTSTART;TZID=America/Los_Angeles:20270208T180000
DTEND;TZID=America/Los_Angeles:20270208T190000
DTSTAMP:20260423T112251
CREATED:20260419T161333Z
LAST-MODIFIED:20260419T161334Z
UID:10001034-1802109600-1802113200@norcalsistercities.org
SUMMARY:Cupertino-Hsinchu Sister City Association board meeting
DESCRIPTION:Cupertino-Hsinchu Sister City Association
URL:https://norcalsistercities.org/events/cupertino-hsinchu-sister-city-association-board-meeting-4-2-2/2027-02-08/
LOCATION:West Valley Elementary School\, 1635 Belleville Way\, Sunnyvale\, CA\, 94087\, United States
CATEGORIES:Meetings
ATTACH;FMTTYPE=image/jpeg:https://norcalsistercities.org/wp-content/uploads/2024/10/Cupertino-Hsinchu-Sister-City-Association.jpg
ORGANIZER;CN="Cupertino-Hsinchu Sister City Association":MAILTO:chiachinglin6@gmail.com
END:VEVENT
BEGIN:VEVENT
DTSTART;TZID=America/Los_Angeles:20270308T180000
DTEND;TZID=America/Los_Angeles:20270308T190000
DTSTAMP:20260423T112251
CREATED:20260419T161333Z
LAST-MODIFIED:20260419T161334Z
UID:10001035-1804528800-1804532400@norcalsistercities.org
SUMMARY:Cupertino-Hsinchu Sister City Association board meeting
DESCRIPTION:Cupertino-Hsinchu Sister City Association
URL:https://norcalsistercities.org/events/cupertino-hsinchu-sister-city-association-board-meeting-4-2-2/2027-03-08/
LOCATION:West Valley Elementary School\, 1635 Belleville Way\, Sunnyvale\, CA\, 94087\, United States
CATEGORIES:Meetings
ATTACH;FMTTYPE=image/jpeg:https://norcalsistercities.org/wp-content/uploads/2024/10/Cupertino-Hsinchu-Sister-City-Association.jpg
ORGANIZER;CN="Cupertino-Hsinchu Sister City Association":MAILTO:chiachinglin6@gmail.com
END:VEVENT
BEGIN:VEVENT
DTSTART;TZID=America/Los_Angeles:20270412T180000
DTEND;TZID=America/Los_Angeles:20270412T190000
DTSTAMP:20260423T112251
CREATED:20260419T161333Z
LAST-MODIFIED:20260419T161334Z
UID:10001082-1807552800-1807556400@norcalsistercities.org
SUMMARY:Cupertino-Hsinchu Sister City Association board meeting
DESCRIPTION:Cupertino-Hsinchu Sister City Association
URL:https://norcalsistercities.org/events/cupertino-hsinchu-sister-city-association-board-meeting-4-2-2/2027-04-12/
LOCATION:West Valley Elementary School\, 1635 Belleville Way\, Sunnyvale\, CA\, 94087\, United States
CATEGORIES:Meetings
ATTACH;FMTTYPE=image/jpeg:https://norcalsistercities.org/wp-content/uploads/2024/10/Cupertino-Hsinchu-Sister-City-Association.jpg
ORGANIZER;CN="Cupertino-Hsinchu Sister City Association":MAILTO:chiachinglin6@gmail.com
END:VEVENT
BEGIN:VEVENT
DTSTART;TZID=America/Los_Angeles:20270510T180000
DTEND;TZID=America/Los_Angeles:20270510T190000
DTSTAMP:20260423T112251
CREATED:20260419T161333Z
LAST-MODIFIED:20260419T161334Z
UID:10001083-1809972000-1809975600@norcalsistercities.org
SUMMARY:Cupertino-Hsinchu Sister City Association board meeting
DESCRIPTION:Cupertino-Hsinchu Sister City Association
URL:https://norcalsistercities.org/events/cupertino-hsinchu-sister-city-association-board-meeting-4-2-2/2027-05-10/
LOCATION:West Valley Elementary School\, 1635 Belleville Way\, Sunnyvale\, CA\, 94087\, United States
CATEGORIES:Meetings
ATTACH;FMTTYPE=image/jpeg:https://norcalsistercities.org/wp-content/uploads/2024/10/Cupertino-Hsinchu-Sister-City-Association.jpg
ORGANIZER;CN="Cupertino-Hsinchu Sister City Association":MAILTO:chiachinglin6@gmail.com
END:VEVENT
BEGIN:VEVENT
DTSTART;TZID=America/Los_Angeles:20270614T180000
DTEND;TZID=America/Los_Angeles:20270614T190000
DTSTAMP:20260423T112251
CREATED:20260419T161333Z
LAST-MODIFIED:20260419T161334Z
UID:10001084-1812996000-1812999600@norcalsistercities.org
SUMMARY:Cupertino-Hsinchu Sister City Association board meeting
DESCRIPTION:Cupertino-Hsinchu Sister City Association
URL:https://norcalsistercities.org/events/cupertino-hsinchu-sister-city-association-board-meeting-4-2-2/2027-06-14/
LOCATION:West Valley Elementary School\, 1635 Belleville Way\, Sunnyvale\, CA\, 94087\, United States
CATEGORIES:Meetings
ATTACH;FMTTYPE=image/jpeg:https://norcalsistercities.org/wp-content/uploads/2024/10/Cupertino-Hsinchu-Sister-City-Association.jpg
ORGANIZER;CN="Cupertino-Hsinchu Sister City Association":MAILTO:chiachinglin6@gmail.com
END:VEVENT
BEGIN:VEVENT
DTSTART;TZID=America/Los_Angeles:20270712T180000
DTEND;TZID=America/Los_Angeles:20270712T190000
DTSTAMP:20260423T112251
CREATED:20260419T161333Z
LAST-MODIFIED:20260419T161334Z
UID:10001085-1815415200-1815418800@norcalsistercities.org
SUMMARY:Cupertino-Hsinchu Sister City Association board meeting
DESCRIPTION:Cupertino-Hsinchu Sister City Association
URL:https://norcalsistercities.org/events/cupertino-hsinchu-sister-city-association-board-meeting-4-2-2/2027-07-12/
LOCATION:West Valley Elementary School\, 1635 Belleville Way\, Sunnyvale\, CA\, 94087\, United States
CATEGORIES:Meetings
ATTACH;FMTTYPE=image/jpeg:https://norcalsistercities.org/wp-content/uploads/2024/10/Cupertino-Hsinchu-Sister-City-Association.jpg
ORGANIZER;CN="Cupertino-Hsinchu Sister City Association":MAILTO:chiachinglin6@gmail.com
END:VEVENT
BEGIN:VEVENT
DTSTART;TZID=America/Los_Angeles:20270809T180000
DTEND;TZID=America/Los_Angeles:20270809T190000
DTSTAMP:20260423T112251
CREATED:20260419T161333Z
LAST-MODIFIED:20260419T161334Z
UID:10001086-1817834400-1817838000@norcalsistercities.org
SUMMARY:Cupertino-Hsinchu Sister City Association board meeting
DESCRIPTION:Cupertino-Hsinchu Sister City Association
URL:https://norcalsistercities.org/events/cupertino-hsinchu-sister-city-association-board-meeting-4-2-2/2027-08-09/
LOCATION:West Valley Elementary School\, 1635 Belleville Way\, Sunnyvale\, CA\, 94087\, United States
CATEGORIES:Meetings
ATTACH;FMTTYPE=image/jpeg:https://norcalsistercities.org/wp-content/uploads/2024/10/Cupertino-Hsinchu-Sister-City-Association.jpg
ORGANIZER;CN="Cupertino-Hsinchu Sister City Association":MAILTO:chiachinglin6@gmail.com
END:VEVENT
BEGIN:VEVENT
DTSTART;TZID=America/Los_Angeles:20270913T180000
DTEND;TZID=America/Los_Angeles:20270913T190000
DTSTAMP:20260423T112251
CREATED:20260419T161333Z
LAST-MODIFIED:20260419T161334Z
UID:10001087-1820858400-1820862000@norcalsistercities.org
SUMMARY:Cupertino-Hsinchu Sister City Association board meeting
DESCRIPTION:Cupertino-Hsinchu Sister City Association
URL:https://norcalsistercities.org/events/cupertino-hsinchu-sister-city-association-board-meeting-4-2-2/2027-09-13/
LOCATION:West Valley Elementary School\, 1635 Belleville Way\, Sunnyvale\, CA\, 94087\, United States
CATEGORIES:Meetings
ATTACH;FMTTYPE=image/jpeg:https://norcalsistercities.org/wp-content/uploads/2024/10/Cupertino-Hsinchu-Sister-City-Association.jpg
ORGANIZER;CN="Cupertino-Hsinchu Sister City Association":MAILTO:chiachinglin6@gmail.com
END:VEVENT
BEGIN:VEVENT
DTSTART;TZID=America/Los_Angeles:20271011T180000
DTEND;TZID=America/Los_Angeles:20271011T190000
DTSTAMP:20260423T112251
CREATED:20260419T161333Z
LAST-MODIFIED:20260419T161334Z
UID:10001088-1823277600-1823281200@norcalsistercities.org
SUMMARY:Cupertino-Hsinchu Sister City Association board meeting
DESCRIPTION:Cupertino-Hsinchu Sister City Association
URL:https://norcalsistercities.org/events/cupertino-hsinchu-sister-city-association-board-meeting-4-2-2/2027-10-11/
LOCATION:West Valley Elementary School\, 1635 Belleville Way\, Sunnyvale\, CA\, 94087\, United States
CATEGORIES:Meetings
ATTACH;FMTTYPE=image/jpeg:https://norcalsistercities.org/wp-content/uploads/2024/10/Cupertino-Hsinchu-Sister-City-Association.jpg
ORGANIZER;CN="Cupertino-Hsinchu Sister City Association":MAILTO:chiachinglin6@gmail.com
END:VEVENT
BEGIN:VEVENT
DTSTART;TZID=America/Los_Angeles:20271108T180000
DTEND;TZID=America/Los_Angeles:20271108T190000
DTSTAMP:20260423T112251
CREATED:20260419T161333Z
LAST-MODIFIED:20260419T161334Z
UID:10001042-1825696800-1825700400@norcalsistercities.org
SUMMARY:Cupertino-Hsinchu Sister City Association board meeting
DESCRIPTION:Cupertino-Hsinchu Sister City Association
URL:https://norcalsistercities.org/events/cupertino-hsinchu-sister-city-association-board-meeting-4-2-2/2027-11-08/
LOCATION:West Valley Elementary School\, 1635 Belleville Way\, Sunnyvale\, CA\, 94087\, United States
CATEGORIES:Meetings
ATTACH;FMTTYPE=image/jpeg:https://norcalsistercities.org/wp-content/uploads/2024/10/Cupertino-Hsinchu-Sister-City-Association.jpg
ORGANIZER;CN="Cupertino-Hsinchu Sister City Association":MAILTO:chiachinglin6@gmail.com
END:VEVENT
BEGIN:VEVENT
DTSTART;TZID=America/Los_Angeles:20271213T180000
DTEND;TZID=America/Los_Angeles:20271213T190000
DTSTAMP:20260423T112251
CREATED:20260419T161333Z
LAST-MODIFIED:20260419T161334Z
UID:10001089-1828720800-1828724400@norcalsistercities.org
SUMMARY:Cupertino-Hsinchu Sister City Association board meeting
DESCRIPTION:Cupertino-Hsinchu Sister City Association
URL:https://norcalsistercities.org/events/cupertino-hsinchu-sister-city-association-board-meeting-4-2-2/2027-12-13/
LOCATION:West Valley Elementary School\, 1635 Belleville Way\, Sunnyvale\, CA\, 94087\, United States
CATEGORIES:Meetings
ATTACH;FMTTYPE=image/jpeg:https://norcalsistercities.org/wp-content/uploads/2024/10/Cupertino-Hsinchu-Sister-City-Association.jpg
ORGANIZER;CN="Cupertino-Hsinchu Sister City Association":MAILTO:chiachinglin6@gmail.com
END:VEVENT
BEGIN:VEVENT
DTSTART;TZID=America/Los_Angeles:20280110T180000
DTEND;TZID=America/Los_Angeles:20280110T190000
DTSTAMP:20260423T112251
CREATED:20260419T161333Z
LAST-MODIFIED:20260419T161334Z
UID:10001090-1831140000-1831143600@norcalsistercities.org
SUMMARY:Cupertino-Hsinchu Sister City Association board meeting
DESCRIPTION:Cupertino-Hsinchu Sister City Association
URL:https://norcalsistercities.org/events/cupertino-hsinchu-sister-city-association-board-meeting-4-2-2/2028-01-10/
LOCATION:West Valley Elementary School\, 1635 Belleville Way\, Sunnyvale\, CA\, 94087\, United States
CATEGORIES:Meetings
ATTACH;FMTTYPE=image/jpeg:https://norcalsistercities.org/wp-content/uploads/2024/10/Cupertino-Hsinchu-Sister-City-Association.jpg
ORGANIZER;CN="Cupertino-Hsinchu Sister City Association":MAILTO:chiachinglin6@gmail.com
END:VEVENT
BEGIN:VEVENT
DTSTART;TZID=America/Los_Angeles:20280214T180000
DTEND;TZID=America/Los_Angeles:20280214T190000
DTSTAMP:20260423T112251
CREATED:20260419T161333Z
LAST-MODIFIED:20260419T161334Z
UID:10001091-1834164000-1834167600@norcalsistercities.org
SUMMARY:Cupertino-Hsinchu Sister City Association board meeting
DESCRIPTION:Cupertino-Hsinchu Sister City Association
URL:https://norcalsistercities.org/events/cupertino-hsinchu-sister-city-association-board-meeting-4-2-2/2028-02-14/
LOCATION:West Valley Elementary School\, 1635 Belleville Way\, Sunnyvale\, CA\, 94087\, United States
CATEGORIES:Meetings
ATTACH;FMTTYPE=image/jpeg:https://norcalsistercities.org/wp-content/uploads/2024/10/Cupertino-Hsinchu-Sister-City-Association.jpg
ORGANIZER;CN="Cupertino-Hsinchu Sister City Association":MAILTO:chiachinglin6@gmail.com
END:VEVENT
BEGIN:VEVENT
DTSTART;TZID=America/Los_Angeles:20280313T180000
DTEND;TZID=America/Los_Angeles:20280313T190000
DTSTAMP:20260423T112251
CREATED:20260419T161333Z
LAST-MODIFIED:20260419T161334Z
UID:10001092-1836583200-1836586800@norcalsistercities.org
SUMMARY:Cupertino-Hsinchu Sister City Association board meeting
DESCRIPTION:Cupertino-Hsinchu Sister City Association
URL:https://norcalsistercities.org/events/cupertino-hsinchu-sister-city-association-board-meeting-4-2-2/2028-03-13/
LOCATION:West Valley Elementary School\, 1635 Belleville Way\, Sunnyvale\, CA\, 94087\, United States
CATEGORIES:Meetings
ATTACH;FMTTYPE=image/jpeg:https://norcalsistercities.org/wp-content/uploads/2024/10/Cupertino-Hsinchu-Sister-City-Association.jpg
ORGANIZER;CN="Cupertino-Hsinchu Sister City Association":MAILTO:chiachinglin6@gmail.com
END:VEVENT
BEGIN:VEVENT
DTSTART;TZID=America/Los_Angeles:20280410T180000
DTEND;TZID=America/Los_Angeles:20280410T190000
DTSTAMP:20260423T112251
CREATED:20260419T161333Z
LAST-MODIFIED:20260419T161334Z
UID:10001093-1839002400-1839006000@norcalsistercities.org
SUMMARY:Cupertino-Hsinchu Sister City Association board meeting
DESCRIPTION:Cupertino-Hsinchu Sister City Association
URL:https://norcalsistercities.org/events/cupertino-hsinchu-sister-city-association-board-meeting-4-2-2/2028-04-10/
LOCATION:West Valley Elementary School\, 1635 Belleville Way\, Sunnyvale\, CA\, 94087\, United States
CATEGORIES:Meetings
ATTACH;FMTTYPE=image/jpeg:https://norcalsistercities.org/wp-content/uploads/2024/10/Cupertino-Hsinchu-Sister-City-Association.jpg
ORGANIZER;CN="Cupertino-Hsinchu Sister City Association":MAILTO:chiachinglin6@gmail.com
END:VEVENT
BEGIN:VEVENT
DTSTART;TZID=America/Los_Angeles:20280508T180000
DTEND;TZID=America/Los_Angeles:20280508T190000
DTSTAMP:20260423T112251
CREATED:20260419T161333Z
LAST-MODIFIED:20260419T161334Z
UID:10001047-1841421600-1841425200@norcalsistercities.org
SUMMARY:Cupertino-Hsinchu Sister City Association board meeting
DESCRIPTION:Cupertino-Hsinchu Sister City Association
URL:https://norcalsistercities.org/events/cupertino-hsinchu-sister-city-association-board-meeting-4-2-2/2028-05-08/
LOCATION:West Valley Elementary School\, 1635 Belleville Way\, Sunnyvale\, CA\, 94087\, United States
CATEGORIES:Meetings
ATTACH;FMTTYPE=image/jpeg:https://norcalsistercities.org/wp-content/uploads/2024/10/Cupertino-Hsinchu-Sister-City-Association.jpg
ORGANIZER;CN="Cupertino-Hsinchu Sister City Association":MAILTO:chiachinglin6@gmail.com
END:VEVENT
BEGIN:VEVENT
DTSTART;TZID=America/Los_Angeles:20280612T180000
DTEND;TZID=America/Los_Angeles:20280612T190000
DTSTAMP:20260423T112251
CREATED:20260419T161333Z
LAST-MODIFIED:20260419T161334Z
UID:10001094-1844445600-1844449200@norcalsistercities.org
SUMMARY:Cupertino-Hsinchu Sister City Association board meeting
DESCRIPTION:Cupertino-Hsinchu Sister City Association
URL:https://norcalsistercities.org/events/cupertino-hsinchu-sister-city-association-board-meeting-4-2-2/2028-06-12/
LOCATION:West Valley Elementary School\, 1635 Belleville Way\, Sunnyvale\, CA\, 94087\, United States
CATEGORIES:Meetings
ATTACH;FMTTYPE=image/jpeg:https://norcalsistercities.org/wp-content/uploads/2024/10/Cupertino-Hsinchu-Sister-City-Association.jpg
ORGANIZER;CN="Cupertino-Hsinchu Sister City Association":MAILTO:chiachinglin6@gmail.com
END:VEVENT
BEGIN:VEVENT
DTSTART;TZID=America/Los_Angeles:20280710T180000
DTEND;TZID=America/Los_Angeles:20280710T190000
DTSTAMP:20260423T112251
CREATED:20260419T161333Z
LAST-MODIFIED:20260419T161334Z
UID:10001095-1846864800-1846868400@norcalsistercities.org
SUMMARY:Cupertino-Hsinchu Sister City Association board meeting
DESCRIPTION:Cupertino-Hsinchu Sister City Association
URL:https://norcalsistercities.org/events/cupertino-hsinchu-sister-city-association-board-meeting-4-2-2/2028-07-10/
LOCATION:West Valley Elementary School\, 1635 Belleville Way\, Sunnyvale\, CA\, 94087\, United States
CATEGORIES:Meetings
ATTACH;FMTTYPE=image/jpeg:https://norcalsistercities.org/wp-content/uploads/2024/10/Cupertino-Hsinchu-Sister-City-Association.jpg
ORGANIZER;CN="Cupertino-Hsinchu Sister City Association":MAILTO:chiachinglin6@gmail.com
END:VEVENT
BEGIN:VEVENT
DTSTART;TZID=America/Los_Angeles:20280814T180000
DTEND;TZID=America/Los_Angeles:20280814T190000
DTSTAMP:20260423T112251
CREATED:20260419T161333Z
LAST-MODIFIED:20260419T161334Z
UID:10001096-1849888800-1849892400@norcalsistercities.org
SUMMARY:Cupertino-Hsinchu Sister City Association board meeting
DESCRIPTION:Cupertino-Hsinchu Sister City Association
URL:https://norcalsistercities.org/events/cupertino-hsinchu-sister-city-association-board-meeting-4-2-2/2028-08-14/
LOCATION:West Valley Elementary School\, 1635 Belleville Way\, Sunnyvale\, CA\, 94087\, United States
CATEGORIES:Meetings
ATTACH;FMTTYPE=image/jpeg:https://norcalsistercities.org/wp-content/uploads/2024/10/Cupertino-Hsinchu-Sister-City-Association.jpg
ORGANIZER;CN="Cupertino-Hsinchu Sister City Association":MAILTO:chiachinglin6@gmail.com
END:VEVENT
BEGIN:VEVENT
DTSTART;TZID=America/Los_Angeles:20280911T180000
DTEND;TZID=America/Los_Angeles:20280911T190000
DTSTAMP:20260423T112251
CREATED:20260419T161333Z
LAST-MODIFIED:20260419T161334Z
UID:10001097-1852308000-1852311600@norcalsistercities.org
SUMMARY:Cupertino-Hsinchu Sister City Association board meeting
DESCRIPTION:Cupertino-Hsinchu Sister City Association
URL:https://norcalsistercities.org/events/cupertino-hsinchu-sister-city-association-board-meeting-4-2-2/2028-09-11/
LOCATION:West Valley Elementary School\, 1635 Belleville Way\, Sunnyvale\, CA\, 94087\, United States
CATEGORIES:Meetings
ATTACH;FMTTYPE=image/jpeg:https://norcalsistercities.org/wp-content/uploads/2024/10/Cupertino-Hsinchu-Sister-City-Association.jpg
ORGANIZER;CN="Cupertino-Hsinchu Sister City Association":MAILTO:chiachinglin6@gmail.com
END:VEVENT
BEGIN:VEVENT
DTSTART;TZID=America/Los_Angeles:20281009T180000
DTEND;TZID=America/Los_Angeles:20281009T190000
DTSTAMP:20260423T112251
CREATED:20260419T161333Z
LAST-MODIFIED:20260419T161334Z
UID:10001098-1854727200-1854730800@norcalsistercities.org
SUMMARY:Cupertino-Hsinchu Sister City Association board meeting
DESCRIPTION:Cupertino-Hsinchu Sister City Association
URL:https://norcalsistercities.org/events/cupertino-hsinchu-sister-city-association-board-meeting-4-2-2/2028-10-09/
LOCATION:West Valley Elementary School\, 1635 Belleville Way\, Sunnyvale\, CA\, 94087\, United States
CATEGORIES:Meetings
ATTACH;FMTTYPE=image/jpeg:https://norcalsistercities.org/wp-content/uploads/2024/10/Cupertino-Hsinchu-Sister-City-Association.jpg
ORGANIZER;CN="Cupertino-Hsinchu Sister City Association":MAILTO:chiachinglin6@gmail.com
END:VEVENT
END:VCALENDAR