BEGIN:VCALENDAR
VERSION:2.0
PRODID:-//Northern California Chapter of Sister Cities International - ECPv6.15.20//NONSGML v1.0//EN
CALSCALE:GREGORIAN
METHOD:PUBLISH
X-ORIGINAL-URL:https://norcalsistercities.org
X-WR-CALDESC:Events for Northern California Chapter of Sister Cities International
REFRESH-INTERVAL;VALUE=DURATION:PT1H
X-Robots-Tag:noindex
X-PUBLISHED-TTL:PT1H
BEGIN:VTIMEZONE
TZID:America/Los_Angeles
BEGIN:DAYLIGHT
TZOFFSETFROM:-0800
TZOFFSETTO:-0700
TZNAME:PDT
DTSTART:20270314T100000
END:DAYLIGHT
BEGIN:STANDARD
TZOFFSETFROM:-0700
TZOFFSETTO:-0800
TZNAME:PST
DTSTART:20271107T090000
END:STANDARD
BEGIN:DAYLIGHT
TZOFFSETFROM:-0800
TZOFFSETTO:-0700
TZNAME:PDT
DTSTART:20280312T100000
END:DAYLIGHT
BEGIN:STANDARD
TZOFFSETFROM:-0700
TZOFFSETTO:-0800
TZNAME:PST
DTSTART:20281105T090000
END:STANDARD
BEGIN:DAYLIGHT
TZOFFSETFROM:-0800
TZOFFSETTO:-0700
TZNAME:PDT
DTSTART:20290311T100000
END:DAYLIGHT
BEGIN:STANDARD
TZOFFSETFROM:-0700
TZOFFSETTO:-0800
TZNAME:PST
DTSTART:20291104T090000
END:STANDARD
BEGIN:DAYLIGHT
TZOFFSETFROM:-0800
TZOFFSETTO:-0700
TZNAME:PDT
DTSTART:20300310T100000
END:DAYLIGHT
BEGIN:STANDARD
TZOFFSETFROM:-0700
TZOFFSETTO:-0800
TZNAME:PST
DTSTART:20301103T090000
END:STANDARD
BEGIN:DAYLIGHT
TZOFFSETFROM:-0800
TZOFFSETTO:-0700
TZNAME:PDT
DTSTART:20310309T100000
END:DAYLIGHT
BEGIN:STANDARD
TZOFFSETFROM:-0700
TZOFFSETTO:-0800
TZNAME:PST
DTSTART:20311102T090000
END:STANDARD
BEGIN:DAYLIGHT
TZOFFSETFROM:-0800
TZOFFSETTO:-0700
TZNAME:PDT
DTSTART:20320314T100000
END:DAYLIGHT
BEGIN:STANDARD
TZOFFSETFROM:-0700
TZOFFSETTO:-0800
TZNAME:PST
DTSTART:20321107T090000
END:STANDARD
END:VTIMEZONE
BEGIN:VEVENT
DTSTART;TZID=America/Los_Angeles:20281116T193000
DTEND;TZID=America/Los_Angeles:20281116T203000
DTSTAMP:20260423T151851
CREATED:20260419T234328Z
LAST-MODIFIED:20260419T234328Z
UID:10001221-1858015800-1858019400@norcalsistercities.org
SUMMARY:Santa Clara Sister Cities Association Board Meeting
DESCRIPTION:The SCSCA board meeting over Zoom. Email the board secretary if you are interested in attending. \nSanta Clara Sister Cities Association
URL:https://norcalsistercities.org/events/santa-clara-sister-cities-association-board-meeting/2028-11-16/
LOCATION:Virtual
CATEGORIES:Meetings
ORGANIZER;CN="Santa Clara Sister Cities Association":MAILTO:president@santaclarasistercities.org
END:VEVENT
BEGIN:VEVENT
DTSTART;TZID=America/Los_Angeles:20281221T193000
DTEND;TZID=America/Los_Angeles:20281221T203000
DTSTAMP:20260423T151851
CREATED:20260419T234328Z
LAST-MODIFIED:20260419T234328Z
UID:10001222-1861039800-1861043400@norcalsistercities.org
SUMMARY:Santa Clara Sister Cities Association Board Meeting
DESCRIPTION:The SCSCA board meeting over Zoom. Email the board secretary if you are interested in attending. \nSanta Clara Sister Cities Association
URL:https://norcalsistercities.org/events/santa-clara-sister-cities-association-board-meeting/2028-12-21/
LOCATION:Virtual
CATEGORIES:Meetings
ORGANIZER;CN="Santa Clara Sister Cities Association":MAILTO:president@santaclarasistercities.org
END:VEVENT
BEGIN:VEVENT
DTSTART;TZID=America/Los_Angeles:20290118T193000
DTEND;TZID=America/Los_Angeles:20290118T203000
DTSTAMP:20260423T151851
CREATED:20260419T234328Z
LAST-MODIFIED:20260419T234328Z
UID:10001223-1863459000-1863462600@norcalsistercities.org
SUMMARY:Santa Clara Sister Cities Association Board Meeting
DESCRIPTION:The SCSCA board meeting over Zoom. Email the board secretary if you are interested in attending. \nSanta Clara Sister Cities Association
URL:https://norcalsistercities.org/events/santa-clara-sister-cities-association-board-meeting/2029-01-18/
LOCATION:Virtual
CATEGORIES:Meetings
ORGANIZER;CN="Santa Clara Sister Cities Association":MAILTO:president@santaclarasistercities.org
END:VEVENT
BEGIN:VEVENT
DTSTART;TZID=America/Los_Angeles:20290215T193000
DTEND;TZID=America/Los_Angeles:20290215T203000
DTSTAMP:20260423T151851
CREATED:20260419T234328Z
LAST-MODIFIED:20260419T234328Z
UID:10001224-1865878200-1865881800@norcalsistercities.org
SUMMARY:Santa Clara Sister Cities Association Board Meeting
DESCRIPTION:The SCSCA board meeting over Zoom. Email the board secretary if you are interested in attending. \nSanta Clara Sister Cities Association
URL:https://norcalsistercities.org/events/santa-clara-sister-cities-association-board-meeting/2029-02-15/
LOCATION:Virtual
CATEGORIES:Meetings
ORGANIZER;CN="Santa Clara Sister Cities Association":MAILTO:president@santaclarasistercities.org
END:VEVENT
BEGIN:VEVENT
DTSTART;TZID=America/Los_Angeles:20290315T193000
DTEND;TZID=America/Los_Angeles:20290315T203000
DTSTAMP:20260423T151851
CREATED:20260419T234328Z
LAST-MODIFIED:20260419T234328Z
UID:10001225-1868297400-1868301000@norcalsistercities.org
SUMMARY:Santa Clara Sister Cities Association Board Meeting
DESCRIPTION:The SCSCA board meeting over Zoom. Email the board secretary if you are interested in attending. \nSanta Clara Sister Cities Association
URL:https://norcalsistercities.org/events/santa-clara-sister-cities-association-board-meeting/2029-03-15/
LOCATION:Virtual
CATEGORIES:Meetings
ORGANIZER;CN="Santa Clara Sister Cities Association":MAILTO:president@santaclarasistercities.org
END:VEVENT
BEGIN:VEVENT
DTSTART;TZID=America/Los_Angeles:20290419T193000
DTEND;TZID=America/Los_Angeles:20290419T203000
DTSTAMP:20260423T151851
CREATED:20260419T234328Z
LAST-MODIFIED:20260419T234328Z
UID:10001226-1871321400-1871325000@norcalsistercities.org
SUMMARY:Santa Clara Sister Cities Association Board Meeting
DESCRIPTION:The SCSCA board meeting over Zoom. Email the board secretary if you are interested in attending. \nSanta Clara Sister Cities Association
URL:https://norcalsistercities.org/events/santa-clara-sister-cities-association-board-meeting/2029-04-19/
LOCATION:Virtual
CATEGORIES:Meetings
ORGANIZER;CN="Santa Clara Sister Cities Association":MAILTO:president@santaclarasistercities.org
END:VEVENT
BEGIN:VEVENT
DTSTART;TZID=America/Los_Angeles:20290517T193000
DTEND;TZID=America/Los_Angeles:20290517T203000
DTSTAMP:20260423T151851
CREATED:20260419T234328Z
LAST-MODIFIED:20260419T234328Z
UID:10001227-1873740600-1873744200@norcalsistercities.org
SUMMARY:Santa Clara Sister Cities Association Board Meeting
DESCRIPTION:The SCSCA board meeting over Zoom. Email the board secretary if you are interested in attending. \nSanta Clara Sister Cities Association
URL:https://norcalsistercities.org/events/santa-clara-sister-cities-association-board-meeting/2029-05-17/
LOCATION:Virtual
CATEGORIES:Meetings
ORGANIZER;CN="Santa Clara Sister Cities Association":MAILTO:president@santaclarasistercities.org
END:VEVENT
BEGIN:VEVENT
DTSTART;TZID=America/Los_Angeles:20290621T193000
DTEND;TZID=America/Los_Angeles:20290621T203000
DTSTAMP:20260423T151851
CREATED:20260419T234328Z
LAST-MODIFIED:20260419T234328Z
UID:10001228-1876764600-1876768200@norcalsistercities.org
SUMMARY:Santa Clara Sister Cities Association Board Meeting
DESCRIPTION:The SCSCA board meeting over Zoom. Email the board secretary if you are interested in attending. \nSanta Clara Sister Cities Association
URL:https://norcalsistercities.org/events/santa-clara-sister-cities-association-board-meeting/2029-06-21/
LOCATION:Virtual
CATEGORIES:Meetings
ORGANIZER;CN="Santa Clara Sister Cities Association":MAILTO:president@santaclarasistercities.org
END:VEVENT
BEGIN:VEVENT
DTSTART;TZID=America/Los_Angeles:20290719T193000
DTEND;TZID=America/Los_Angeles:20290719T203000
DTSTAMP:20260423T151851
CREATED:20260419T234328Z
LAST-MODIFIED:20260419T234328Z
UID:10001229-1879183800-1879187400@norcalsistercities.org
SUMMARY:Santa Clara Sister Cities Association Board Meeting
DESCRIPTION:The SCSCA board meeting over Zoom. Email the board secretary if you are interested in attending. \nSanta Clara Sister Cities Association
URL:https://norcalsistercities.org/events/santa-clara-sister-cities-association-board-meeting/2029-07-19/
LOCATION:Virtual
CATEGORIES:Meetings
ORGANIZER;CN="Santa Clara Sister Cities Association":MAILTO:president@santaclarasistercities.org
END:VEVENT
BEGIN:VEVENT
DTSTART;TZID=America/Los_Angeles:20290816T193000
DTEND;TZID=America/Los_Angeles:20290816T203000
DTSTAMP:20260423T151851
CREATED:20260419T234328Z
LAST-MODIFIED:20260419T234328Z
UID:10001230-1881603000-1881606600@norcalsistercities.org
SUMMARY:Santa Clara Sister Cities Association Board Meeting
DESCRIPTION:The SCSCA board meeting over Zoom. Email the board secretary if you are interested in attending. \nSanta Clara Sister Cities Association
URL:https://norcalsistercities.org/events/santa-clara-sister-cities-association-board-meeting/2029-08-16/
LOCATION:Virtual
CATEGORIES:Meetings
ORGANIZER;CN="Santa Clara Sister Cities Association":MAILTO:president@santaclarasistercities.org
END:VEVENT
BEGIN:VEVENT
DTSTART;TZID=America/Los_Angeles:20290920T193000
DTEND;TZID=America/Los_Angeles:20290920T203000
DTSTAMP:20260423T151851
CREATED:20260419T234328Z
LAST-MODIFIED:20260419T234328Z
UID:10001231-1884627000-1884630600@norcalsistercities.org
SUMMARY:Santa Clara Sister Cities Association Board Meeting
DESCRIPTION:The SCSCA board meeting over Zoom. Email the board secretary if you are interested in attending. \nSanta Clara Sister Cities Association
URL:https://norcalsistercities.org/events/santa-clara-sister-cities-association-board-meeting/2029-09-20/
LOCATION:Virtual
CATEGORIES:Meetings
ORGANIZER;CN="Santa Clara Sister Cities Association":MAILTO:president@santaclarasistercities.org
END:VEVENT
BEGIN:VEVENT
DTSTART;TZID=America/Los_Angeles:20291018T193000
DTEND;TZID=America/Los_Angeles:20291018T203000
DTSTAMP:20260423T151851
CREATED:20260419T234328Z
LAST-MODIFIED:20260419T234328Z
UID:10001232-1887046200-1887049800@norcalsistercities.org
SUMMARY:Santa Clara Sister Cities Association Board Meeting
DESCRIPTION:The SCSCA board meeting over Zoom. Email the board secretary if you are interested in attending. \nSanta Clara Sister Cities Association
URL:https://norcalsistercities.org/events/santa-clara-sister-cities-association-board-meeting/2029-10-18/
LOCATION:Virtual
CATEGORIES:Meetings
ORGANIZER;CN="Santa Clara Sister Cities Association":MAILTO:president@santaclarasistercities.org
END:VEVENT
BEGIN:VEVENT
DTSTART;TZID=America/Los_Angeles:20291115T193000
DTEND;TZID=America/Los_Angeles:20291115T203000
DTSTAMP:20260423T151851
CREATED:20260419T234328Z
LAST-MODIFIED:20260419T234328Z
UID:10001233-1889465400-1889469000@norcalsistercities.org
SUMMARY:Santa Clara Sister Cities Association Board Meeting
DESCRIPTION:The SCSCA board meeting over Zoom. Email the board secretary if you are interested in attending. \nSanta Clara Sister Cities Association
URL:https://norcalsistercities.org/events/santa-clara-sister-cities-association-board-meeting/2029-11-15/
LOCATION:Virtual
CATEGORIES:Meetings
ORGANIZER;CN="Santa Clara Sister Cities Association":MAILTO:president@santaclarasistercities.org
END:VEVENT
BEGIN:VEVENT
DTSTART;TZID=America/Los_Angeles:20291220T193000
DTEND;TZID=America/Los_Angeles:20291220T203000
DTSTAMP:20260423T151851
CREATED:20260419T234328Z
LAST-MODIFIED:20260419T234328Z
UID:10001234-1892489400-1892493000@norcalsistercities.org
SUMMARY:Santa Clara Sister Cities Association Board Meeting
DESCRIPTION:The SCSCA board meeting over Zoom. Email the board secretary if you are interested in attending. \nSanta Clara Sister Cities Association
URL:https://norcalsistercities.org/events/santa-clara-sister-cities-association-board-meeting/2029-12-20/
LOCATION:Virtual
CATEGORIES:Meetings
ORGANIZER;CN="Santa Clara Sister Cities Association":MAILTO:president@santaclarasistercities.org
END:VEVENT
BEGIN:VEVENT
DTSTART;TZID=America/Los_Angeles:20300117T193000
DTEND;TZID=America/Los_Angeles:20300117T203000
DTSTAMP:20260423T151851
CREATED:20260419T234328Z
LAST-MODIFIED:20260419T234328Z
UID:10001235-1894908600-1894912200@norcalsistercities.org
SUMMARY:Santa Clara Sister Cities Association Board Meeting
DESCRIPTION:The SCSCA board meeting over Zoom. Email the board secretary if you are interested in attending. \nSanta Clara Sister Cities Association
URL:https://norcalsistercities.org/events/santa-clara-sister-cities-association-board-meeting/2030-01-17/
LOCATION:Virtual
CATEGORIES:Meetings
ORGANIZER;CN="Santa Clara Sister Cities Association":MAILTO:president@santaclarasistercities.org
END:VEVENT
BEGIN:VEVENT
DTSTART;TZID=America/Los_Angeles:20300221T193000
DTEND;TZID=America/Los_Angeles:20300221T203000
DTSTAMP:20260423T151851
CREATED:20260419T234328Z
LAST-MODIFIED:20260419T234328Z
UID:10001236-1897932600-1897936200@norcalsistercities.org
SUMMARY:Santa Clara Sister Cities Association Board Meeting
DESCRIPTION:The SCSCA board meeting over Zoom. Email the board secretary if you are interested in attending. \nSanta Clara Sister Cities Association
URL:https://norcalsistercities.org/events/santa-clara-sister-cities-association-board-meeting/2030-02-21/
LOCATION:Virtual
CATEGORIES:Meetings
ORGANIZER;CN="Santa Clara Sister Cities Association":MAILTO:president@santaclarasistercities.org
END:VEVENT
BEGIN:VEVENT
DTSTART;TZID=America/Los_Angeles:20300321T193000
DTEND;TZID=America/Los_Angeles:20300321T203000
DTSTAMP:20260423T151851
CREATED:20260419T234328Z
LAST-MODIFIED:20260419T234328Z
UID:10001237-1900351800-1900355400@norcalsistercities.org
SUMMARY:Santa Clara Sister Cities Association Board Meeting
DESCRIPTION:The SCSCA board meeting over Zoom. Email the board secretary if you are interested in attending. \nSanta Clara Sister Cities Association
URL:https://norcalsistercities.org/events/santa-clara-sister-cities-association-board-meeting/2030-03-21/
LOCATION:Virtual
CATEGORIES:Meetings
ORGANIZER;CN="Santa Clara Sister Cities Association":MAILTO:president@santaclarasistercities.org
END:VEVENT
BEGIN:VEVENT
DTSTART;TZID=America/Los_Angeles:20300418T193000
DTEND;TZID=America/Los_Angeles:20300418T203000
DTSTAMP:20260423T151851
CREATED:20260419T234328Z
LAST-MODIFIED:20260419T234328Z
UID:10001238-1902771000-1902774600@norcalsistercities.org
SUMMARY:Santa Clara Sister Cities Association Board Meeting
DESCRIPTION:The SCSCA board meeting over Zoom. Email the board secretary if you are interested in attending. \nSanta Clara Sister Cities Association
URL:https://norcalsistercities.org/events/santa-clara-sister-cities-association-board-meeting/2030-04-18/
LOCATION:Virtual
CATEGORIES:Meetings
ORGANIZER;CN="Santa Clara Sister Cities Association":MAILTO:president@santaclarasistercities.org
END:VEVENT
BEGIN:VEVENT
DTSTART;TZID=America/Los_Angeles:20300516T193000
DTEND;TZID=America/Los_Angeles:20300516T203000
DTSTAMP:20260423T151851
CREATED:20260419T234328Z
LAST-MODIFIED:20260419T234328Z
UID:10001239-1905190200-1905193800@norcalsistercities.org
SUMMARY:Santa Clara Sister Cities Association Board Meeting
DESCRIPTION:The SCSCA board meeting over Zoom. Email the board secretary if you are interested in attending. \nSanta Clara Sister Cities Association
URL:https://norcalsistercities.org/events/santa-clara-sister-cities-association-board-meeting/2030-05-16/
LOCATION:Virtual
CATEGORIES:Meetings
ORGANIZER;CN="Santa Clara Sister Cities Association":MAILTO:president@santaclarasistercities.org
END:VEVENT
BEGIN:VEVENT
DTSTART;TZID=America/Los_Angeles:20300620T193000
DTEND;TZID=America/Los_Angeles:20300620T203000
DTSTAMP:20260423T151851
CREATED:20260419T234328Z
LAST-MODIFIED:20260419T234328Z
UID:10001240-1908214200-1908217800@norcalsistercities.org
SUMMARY:Santa Clara Sister Cities Association Board Meeting
DESCRIPTION:The SCSCA board meeting over Zoom. Email the board secretary if you are interested in attending. \nSanta Clara Sister Cities Association
URL:https://norcalsistercities.org/events/santa-clara-sister-cities-association-board-meeting/2030-06-20/
LOCATION:Virtual
CATEGORIES:Meetings
ORGANIZER;CN="Santa Clara Sister Cities Association":MAILTO:president@santaclarasistercities.org
END:VEVENT
BEGIN:VEVENT
DTSTART;TZID=America/Los_Angeles:20300718T193000
DTEND;TZID=America/Los_Angeles:20300718T203000
DTSTAMP:20260423T151851
CREATED:20260419T234328Z
LAST-MODIFIED:20260419T234328Z
UID:10001241-1910633400-1910637000@norcalsistercities.org
SUMMARY:Santa Clara Sister Cities Association Board Meeting
DESCRIPTION:The SCSCA board meeting over Zoom. Email the board secretary if you are interested in attending. \nSanta Clara Sister Cities Association
URL:https://norcalsistercities.org/events/santa-clara-sister-cities-association-board-meeting/2030-07-18/
LOCATION:Virtual
CATEGORIES:Meetings
ORGANIZER;CN="Santa Clara Sister Cities Association":MAILTO:president@santaclarasistercities.org
END:VEVENT
BEGIN:VEVENT
DTSTART;TZID=America/Los_Angeles:20300815T193000
DTEND;TZID=America/Los_Angeles:20300815T203000
DTSTAMP:20260423T151851
CREATED:20260419T234328Z
LAST-MODIFIED:20260419T234328Z
UID:10001242-1913052600-1913056200@norcalsistercities.org
SUMMARY:Santa Clara Sister Cities Association Board Meeting
DESCRIPTION:The SCSCA board meeting over Zoom. Email the board secretary if you are interested in attending. \nSanta Clara Sister Cities Association
URL:https://norcalsistercities.org/events/santa-clara-sister-cities-association-board-meeting/2030-08-15/
LOCATION:Virtual
CATEGORIES:Meetings
ORGANIZER;CN="Santa Clara Sister Cities Association":MAILTO:president@santaclarasistercities.org
END:VEVENT
BEGIN:VEVENT
DTSTART;TZID=America/Los_Angeles:20300919T193000
DTEND;TZID=America/Los_Angeles:20300919T203000
DTSTAMP:20260423T151851
CREATED:20260419T234328Z
LAST-MODIFIED:20260419T234328Z
UID:10001243-1916076600-1916080200@norcalsistercities.org
SUMMARY:Santa Clara Sister Cities Association Board Meeting
DESCRIPTION:The SCSCA board meeting over Zoom. Email the board secretary if you are interested in attending. \nSanta Clara Sister Cities Association
URL:https://norcalsistercities.org/events/santa-clara-sister-cities-association-board-meeting/2030-09-19/
LOCATION:Virtual
CATEGORIES:Meetings
ORGANIZER;CN="Santa Clara Sister Cities Association":MAILTO:president@santaclarasistercities.org
END:VEVENT
BEGIN:VEVENT
DTSTART;TZID=America/Los_Angeles:20301017T193000
DTEND;TZID=America/Los_Angeles:20301017T203000
DTSTAMP:20260423T151851
CREATED:20260419T234328Z
LAST-MODIFIED:20260419T234328Z
UID:10001244-1918495800-1918499400@norcalsistercities.org
SUMMARY:Santa Clara Sister Cities Association Board Meeting
DESCRIPTION:The SCSCA board meeting over Zoom. Email the board secretary if you are interested in attending. \nSanta Clara Sister Cities Association
URL:https://norcalsistercities.org/events/santa-clara-sister-cities-association-board-meeting/2030-10-17/
LOCATION:Virtual
CATEGORIES:Meetings
ORGANIZER;CN="Santa Clara Sister Cities Association":MAILTO:president@santaclarasistercities.org
END:VEVENT
BEGIN:VEVENT
DTSTART;TZID=America/Los_Angeles:20301121T193000
DTEND;TZID=America/Los_Angeles:20301121T203000
DTSTAMP:20260423T151851
CREATED:20260419T234328Z
LAST-MODIFIED:20260419T234328Z
UID:10001245-1921519800-1921523400@norcalsistercities.org
SUMMARY:Santa Clara Sister Cities Association Board Meeting
DESCRIPTION:The SCSCA board meeting over Zoom. Email the board secretary if you are interested in attending. \nSanta Clara Sister Cities Association
URL:https://norcalsistercities.org/events/santa-clara-sister-cities-association-board-meeting/2030-11-21/
LOCATION:Virtual
CATEGORIES:Meetings
ORGANIZER;CN="Santa Clara Sister Cities Association":MAILTO:president@santaclarasistercities.org
END:VEVENT
BEGIN:VEVENT
DTSTART;TZID=America/Los_Angeles:20301219T193000
DTEND;TZID=America/Los_Angeles:20301219T203000
DTSTAMP:20260423T151851
CREATED:20260419T234328Z
LAST-MODIFIED:20260419T234328Z
UID:10001246-1923939000-1923942600@norcalsistercities.org
SUMMARY:Santa Clara Sister Cities Association Board Meeting
DESCRIPTION:The SCSCA board meeting over Zoom. Email the board secretary if you are interested in attending. \nSanta Clara Sister Cities Association
URL:https://norcalsistercities.org/events/santa-clara-sister-cities-association-board-meeting/2030-12-19/
LOCATION:Virtual
CATEGORIES:Meetings
ORGANIZER;CN="Santa Clara Sister Cities Association":MAILTO:president@santaclarasistercities.org
END:VEVENT
BEGIN:VEVENT
DTSTART;TZID=America/Los_Angeles:20310116T193000
DTEND;TZID=America/Los_Angeles:20310116T203000
DTSTAMP:20260423T151851
CREATED:20260419T234328Z
LAST-MODIFIED:20260419T234328Z
UID:10001247-1926358200-1926361800@norcalsistercities.org
SUMMARY:Santa Clara Sister Cities Association Board Meeting
DESCRIPTION:The SCSCA board meeting over Zoom. Email the board secretary if you are interested in attending. \nSanta Clara Sister Cities Association
URL:https://norcalsistercities.org/events/santa-clara-sister-cities-association-board-meeting/2031-01-16/
LOCATION:Virtual
CATEGORIES:Meetings
ORGANIZER;CN="Santa Clara Sister Cities Association":MAILTO:president@santaclarasistercities.org
END:VEVENT
BEGIN:VEVENT
DTSTART;TZID=America/Los_Angeles:20310220T193000
DTEND;TZID=America/Los_Angeles:20310220T203000
DTSTAMP:20260423T151851
CREATED:20260419T234328Z
LAST-MODIFIED:20260419T234328Z
UID:10001248-1929382200-1929385800@norcalsistercities.org
SUMMARY:Santa Clara Sister Cities Association Board Meeting
DESCRIPTION:The SCSCA board meeting over Zoom. Email the board secretary if you are interested in attending. \nSanta Clara Sister Cities Association
URL:https://norcalsistercities.org/events/santa-clara-sister-cities-association-board-meeting/2031-02-20/
LOCATION:Virtual
CATEGORIES:Meetings
ORGANIZER;CN="Santa Clara Sister Cities Association":MAILTO:president@santaclarasistercities.org
END:VEVENT
BEGIN:VEVENT
DTSTART;TZID=America/Los_Angeles:20310320T193000
DTEND;TZID=America/Los_Angeles:20310320T203000
DTSTAMP:20260423T151851
CREATED:20260419T234328Z
LAST-MODIFIED:20260419T234328Z
UID:10001249-1931801400-1931805000@norcalsistercities.org
SUMMARY:Santa Clara Sister Cities Association Board Meeting
DESCRIPTION:The SCSCA board meeting over Zoom. Email the board secretary if you are interested in attending. \nSanta Clara Sister Cities Association
URL:https://norcalsistercities.org/events/santa-clara-sister-cities-association-board-meeting/2031-03-20/
LOCATION:Virtual
CATEGORIES:Meetings
ORGANIZER;CN="Santa Clara Sister Cities Association":MAILTO:president@santaclarasistercities.org
END:VEVENT
BEGIN:VEVENT
DTSTART;TZID=America/Los_Angeles:20310417T193000
DTEND;TZID=America/Los_Angeles:20310417T203000
DTSTAMP:20260423T151851
CREATED:20260419T234328Z
LAST-MODIFIED:20260419T234328Z
UID:10001250-1934220600-1934224200@norcalsistercities.org
SUMMARY:Santa Clara Sister Cities Association Board Meeting
DESCRIPTION:The SCSCA board meeting over Zoom. Email the board secretary if you are interested in attending. \nSanta Clara Sister Cities Association
URL:https://norcalsistercities.org/events/santa-clara-sister-cities-association-board-meeting/2031-04-17/
LOCATION:Virtual
CATEGORIES:Meetings
ORGANIZER;CN="Santa Clara Sister Cities Association":MAILTO:president@santaclarasistercities.org
END:VEVENT
END:VCALENDAR