BEGIN:VCALENDAR
VERSION:2.0
PRODID:-//Northern California Chapter of Sister Cities International - ECPv6.15.20//NONSGML v1.0//EN
CALSCALE:GREGORIAN
METHOD:PUBLISH
X-ORIGINAL-URL:https://norcalsistercities.org
X-WR-CALDESC:Events for Northern California Chapter of Sister Cities International
REFRESH-INTERVAL;VALUE=DURATION:PT1H
X-Robots-Tag:noindex
X-PUBLISHED-TTL:PT1H
BEGIN:VTIMEZONE
TZID:America/Los_Angeles
BEGIN:DAYLIGHT
TZOFFSETFROM:-0800
TZOFFSETTO:-0700
TZNAME:PDT
DTSTART:20250309T100000
END:DAYLIGHT
BEGIN:STANDARD
TZOFFSETFROM:-0700
TZOFFSETTO:-0800
TZNAME:PST
DTSTART:20251102T090000
END:STANDARD
BEGIN:DAYLIGHT
TZOFFSETFROM:-0800
TZOFFSETTO:-0700
TZNAME:PDT
DTSTART:20260308T100000
END:DAYLIGHT
BEGIN:STANDARD
TZOFFSETFROM:-0700
TZOFFSETTO:-0800
TZNAME:PST
DTSTART:20261101T090000
END:STANDARD
BEGIN:DAYLIGHT
TZOFFSETFROM:-0800
TZOFFSETTO:-0700
TZNAME:PDT
DTSTART:20270314T100000
END:DAYLIGHT
BEGIN:STANDARD
TZOFFSETFROM:-0700
TZOFFSETTO:-0800
TZNAME:PST
DTSTART:20271107T090000
END:STANDARD
END:VTIMEZONE
BEGIN:VEVENT
DTSTART;VALUE=DATE:20261014
DTEND;VALUE=DATE:20261015
DTSTAMP:20260423T125242
CREATED:20241020T203306Z
LAST-MODIFIED:20241020T203401Z
UID:10000580-1791936000-1792022399@norcalsistercities.org
SUMMARY:President Eisenhower's 136th Birthday
DESCRIPTION:In honor of President Eisenhower’s 136th Birthday on Oct. 14\, 2026\, we are kicking off the celebration with this fundraiser. We will take the week to celebrate and honor his legacy. Give a gift to a young person following in Ike’s footsteps. \nSister Cities International\, which Ike founded in 1956\, provides leadership and citizen diplomacy training to young people\, ages 14-18\, through its Youth Leadership Summit. Your “birthday” gift can help cover the cost of this once in a lifetime experience for a student wanting to learn about leadership and diplomacy. \nDonate today! \nSister Cities International
URL:https://norcalsistercities.org/events/president-eisenhowers-136th-birthday/
ATTACH;FMTTYPE=image/jpeg:https://norcalsistercities.org/wp-content/uploads/2024/10/Happy-Birthday-Ike.jpg
ORGANIZER;CN="Sister Cities International":MAILTO:info@sistercities.org
END:VEVENT
END:VCALENDAR