BEGIN:VCALENDAR
VERSION:2.0
PRODID:-//Northern California Chapter of Sister Cities International - ECPv6.15.20//NONSGML v1.0//EN
CALSCALE:GREGORIAN
METHOD:PUBLISH
X-WR-CALNAME:Northern California Chapter of Sister Cities International
X-ORIGINAL-URL:https://norcalsistercities.org
X-WR-CALDESC:Events for Northern California Chapter of Sister Cities International
REFRESH-INTERVAL;VALUE=DURATION:PT1H
X-Robots-Tag:noindex
X-PUBLISHED-TTL:PT1H
BEGIN:VTIMEZONE
TZID:America/Los_Angeles
BEGIN:DAYLIGHT
TZOFFSETFROM:-0800
TZOFFSETTO:-0700
TZNAME:PDT
DTSTART:20230312T100000
END:DAYLIGHT
BEGIN:STANDARD
TZOFFSETFROM:-0700
TZOFFSETTO:-0800
TZNAME:PST
DTSTART:20231105T090000
END:STANDARD
BEGIN:DAYLIGHT
TZOFFSETFROM:-0800
TZOFFSETTO:-0700
TZNAME:PDT
DTSTART:20240310T100000
END:DAYLIGHT
BEGIN:STANDARD
TZOFFSETFROM:-0700
TZOFFSETTO:-0800
TZNAME:PST
DTSTART:20241103T090000
END:STANDARD
BEGIN:DAYLIGHT
TZOFFSETFROM:-0800
TZOFFSETTO:-0700
TZNAME:PDT
DTSTART:20250309T100000
END:DAYLIGHT
BEGIN:STANDARD
TZOFFSETFROM:-0700
TZOFFSETTO:-0800
TZNAME:PST
DTSTART:20251102T090000
END:STANDARD
BEGIN:DAYLIGHT
TZOFFSETFROM:-0800
TZOFFSETTO:-0700
TZNAME:PDT
DTSTART:20260308T100000
END:DAYLIGHT
BEGIN:STANDARD
TZOFFSETFROM:-0700
TZOFFSETTO:-0800
TZNAME:PST
DTSTART:20261101T090000
END:STANDARD
END:VTIMEZONE
BEGIN:VEVENT
DTSTART;TZID=America/Los_Angeles:20250409T180000
DTEND;TZID=America/Los_Angeles:20250409T194500
DTSTAMP:20260423T142432
CREATED:20230715T205717Z
LAST-MODIFIED:20230716T034757Z
UID:10000123-1744221600-1744227900@norcalsistercities.org
SUMMARY:Sonoma-Kaniv Committee Meeting
DESCRIPTION:Sonoma Sister Cities Association
URL:https://norcalsistercities.org/events/sonoma-kaniv-meeting/
LOCATION:Sonoma Library Meeting Room\, 755 West Napa\, Sonoma\, CA\, 95476\, United States
CATEGORIES:Meetings
ATTACH;FMTTYPE=image/jpeg:https://norcalsistercities.org/wp-content/uploads/2023/07/sonoma-kaniv-committee.jpg
ORGANIZER;CN="Sonoma Sister Cities Association":MAILTO:info@sonomasistercitiesassociation.org
END:VEVENT
BEGIN:VEVENT
DTSTART;TZID=America/Los_Angeles:20250407T110000
DTEND;TZID=America/Los_Angeles:20250407T123000
DTSTAMP:20260423T142432
CREATED:20230715T205717Z
LAST-MODIFIED:20230716T035322Z
UID:10000122-1744023600-1744029000@norcalsistercities.org
SUMMARY:Sonoma-Penglai Committee Meeting
DESCRIPTION:Sonoma Sister Cities Association
URL:https://norcalsistercities.org/events/sonoma-penglai-committee-meeting-21/
LOCATION:Virtual
CATEGORIES:Meetings
ATTACH;FMTTYPE=image/jpeg:https://norcalsistercities.org/wp-content/uploads/2023/07/Sonoma-Penglai-Sister-City-Relationship-Symposium-banner.jpg
ORGANIZER;CN="Sonoma Sister Cities Association":MAILTO:info@sonomasistercitiesassociation.org
END:VEVENT
BEGIN:VEVENT
DTSTART;TZID=America/Los_Angeles:20250317T180000
DTEND;TZID=America/Los_Angeles:20250317T193000
DTSTAMP:20260423T142432
CREATED:20230715T205717Z
LAST-MODIFIED:20230716T040226Z
UID:10000121-1742234400-1742239800@norcalsistercities.org
SUMMARY:Sonoma Sister Cities Association Board of Directors Monthly Meeting
DESCRIPTION:Sonoma Sister Cities Association
URL:https://norcalsistercities.org/events/sonoma-sister-cities-association-board-of-directors-monthly-meeting-22/
LOCATION:TBA
CATEGORIES:Meetings
ATTACH;FMTTYPE=image/jpeg:https://norcalsistercities.org/wp-content/uploads/2023/07/Sonoma-Sister-Cities-Association_logo.jpg
ORGANIZER;CN="Sonoma Sister Cities Association":MAILTO:info@sonomasistercitiesassociation.org
END:VEVENT
BEGIN:VEVENT
DTSTART;TZID=America/Los_Angeles:20250312T180000
DTEND;TZID=America/Los_Angeles:20250312T194500
DTSTAMP:20260423T142432
CREATED:20230715T205717Z
LAST-MODIFIED:20230716T034706Z
UID:10000120-1741802400-1741808700@norcalsistercities.org
SUMMARY:Sonoma-Kaniv Committee Meeting
DESCRIPTION:Sonoma Sister Cities Association
URL:https://norcalsistercities.org/events/sonoma-kaniv-committee-meeting-22/
LOCATION:Sonoma Library Meeting Room\, 755 West Napa\, Sonoma\, CA\, 95476\, United States
CATEGORIES:Meetings
ATTACH;FMTTYPE=image/jpeg:https://norcalsistercities.org/wp-content/uploads/2023/07/sonoma-kaniv-committee.jpg
ORGANIZER;CN="Sonoma Sister Cities Association":MAILTO:info@sonomasistercitiesassociation.org
END:VEVENT
BEGIN:VEVENT
DTSTART;TZID=America/Los_Angeles:20250303T110000
DTEND;TZID=America/Los_Angeles:20250303T123000
DTSTAMP:20260423T142432
CREATED:20230715T205717Z
LAST-MODIFIED:20230716T035231Z
UID:10000119-1740999600-1741005000@norcalsistercities.org
SUMMARY:Sonoma-Penglai Committee Meeting
DESCRIPTION:Sonoma Sister Cities Association
URL:https://norcalsistercities.org/events/sonoma-penglai-committee-meeting-20/
LOCATION:Virtual
CATEGORIES:Meetings
ATTACH;FMTTYPE=image/jpeg:https://norcalsistercities.org/wp-content/uploads/2023/07/Sonoma-Penglai-Sister-City-Relationship-Symposium-banner.jpg
ORGANIZER;CN="Sonoma Sister Cities Association":MAILTO:info@sonomasistercitiesassociation.org
END:VEVENT
BEGIN:VEVENT
DTSTART;TZID=America/Los_Angeles:20250217T180000
DTEND;TZID=America/Los_Angeles:20250217T193000
DTSTAMP:20260423T142432
CREATED:20230715T205718Z
LAST-MODIFIED:20230716T035851Z
UID:10000118-1739815200-1739820600@norcalsistercities.org
SUMMARY:Sonoma Sister Cities Association Board of Directors Monthly Meeting
DESCRIPTION:Sonoma Sister Cities Association
URL:https://norcalsistercities.org/events/sonoma-sister-cities-association-board-of-directors-monthly-meeting-18/
LOCATION:TBA
CATEGORIES:Meetings
ATTACH;FMTTYPE=image/jpeg:https://norcalsistercities.org/wp-content/uploads/2023/07/Sonoma-Sister-Cities-Association_logo.jpg
ORGANIZER;CN="Sonoma Sister Cities Association":MAILTO:info@sonomasistercitiesassociation.org
END:VEVENT
BEGIN:VEVENT
DTSTART;TZID=America/Los_Angeles:20250212T180000
DTEND;TZID=America/Los_Angeles:20250212T194500
DTSTAMP:20260423T142432
CREATED:20230715T205718Z
LAST-MODIFIED:20230716T034400Z
UID:10000117-1739383200-1739389500@norcalsistercities.org
SUMMARY:Sonoma-Kaniv Committee Meeting
DESCRIPTION:Sonoma Sister Cities Association
URL:https://norcalsistercities.org/events/sonoma-kaniv-committee-meeting-19/
LOCATION:Sonoma Library Meeting Room\, 755 West Napa\, Sonoma\, CA\, 95476\, United States
CATEGORIES:Meetings
ATTACH;FMTTYPE=image/jpeg:https://norcalsistercities.org/wp-content/uploads/2023/07/sonoma-kaniv-committee.jpg
ORGANIZER;CN="Sonoma Sister Cities Association":MAILTO:info@sonomasistercitiesassociation.org
END:VEVENT
BEGIN:VEVENT
DTSTART;TZID=America/Los_Angeles:20250203T110000
DTEND;TZID=America/Los_Angeles:20250203T123000
DTSTAMP:20260423T142432
CREATED:20230715T205718Z
LAST-MODIFIED:20230716T035117Z
UID:10000116-1738580400-1738585800@norcalsistercities.org
SUMMARY:Sonoma-Penglai Committee Meeting
DESCRIPTION:Sonoma Sister Cities Association
URL:https://norcalsistercities.org/events/sonoma-penglai-committee-meeting-19/
LOCATION:Virtual
CATEGORIES:Meetings
ATTACH;FMTTYPE=image/jpeg:https://norcalsistercities.org/wp-content/uploads/2023/07/Sonoma-Penglai-Sister-City-Relationship-Symposium-banner.jpg
ORGANIZER;CN="Sonoma Sister Cities Association":MAILTO:info@sonomasistercitiesassociation.org
END:VEVENT
BEGIN:VEVENT
DTSTART;TZID=America/Los_Angeles:20250120T180000
DTEND;TZID=America/Los_Angeles:20250120T193000
DTSTAMP:20260423T142432
CREATED:20230715T205718Z
LAST-MODIFIED:20230716T035743Z
UID:10000115-1737396000-1737401400@norcalsistercities.org
SUMMARY:Sonoma Sister Cities Association Board of Directors Monthly Meeting
DESCRIPTION:Sonoma Sister Cities Association
URL:https://norcalsistercities.org/events/sonoma-sister-cities-association-board-of-directors-monthly-meeting-17/
LOCATION:TBA
CATEGORIES:Meetings
ATTACH;FMTTYPE=image/jpeg:https://norcalsistercities.org/wp-content/uploads/2023/07/Sonoma-Sister-Cities-Association_logo.jpg
ORGANIZER;CN="Sonoma Sister Cities Association":MAILTO:info@sonomasistercitiesassociation.org
END:VEVENT
BEGIN:VEVENT
DTSTART;TZID=America/Los_Angeles:20250108T180000
DTEND;TZID=America/Los_Angeles:20250108T194500
DTSTAMP:20260423T142432
CREATED:20230715T205718Z
LAST-MODIFIED:20230716T034238Z
UID:10000114-1736359200-1736365500@norcalsistercities.org
SUMMARY:Sonoma-Kaniv Committee Meeting
DESCRIPTION:Sonoma Sister Cities Association
URL:https://norcalsistercities.org/events/__trashed-19/
LOCATION:Sonoma Library Meeting Room\, 755 West Napa\, Sonoma\, CA\, 95476\, United States
CATEGORIES:Meetings
ATTACH;FMTTYPE=image/jpeg:https://norcalsistercities.org/wp-content/uploads/2023/07/sonoma-kaniv-committee.jpg
ORGANIZER;CN="Sonoma Sister Cities Association":MAILTO:info@sonomasistercitiesassociation.org
END:VEVENT
BEGIN:VEVENT
DTSTART;TZID=America/Los_Angeles:20250106T110000
DTEND;TZID=America/Los_Angeles:20250106T123000
DTSTAMP:20260423T142432
CREATED:20230715T205718Z
LAST-MODIFIED:20230716T035029Z
UID:10000113-1736161200-1736166600@norcalsistercities.org
SUMMARY:Sonoma-Penglai Committee Meeting
DESCRIPTION:Sonoma Sister Cities Association
URL:https://norcalsistercities.org/events/sonoma-penglai-committee-meeting-18/
LOCATION:Virtual
CATEGORIES:Meetings
ATTACH;FMTTYPE=image/jpeg:https://norcalsistercities.org/wp-content/uploads/2023/07/Sonoma-Penglai-Sister-City-Relationship-Symposium-banner.jpg
ORGANIZER;CN="Sonoma Sister Cities Association":MAILTO:info@sonomasistercitiesassociation.org
END:VEVENT
BEGIN:VEVENT
DTSTART;TZID=America/Los_Angeles:20241216T180000
DTEND;TZID=America/Los_Angeles:20241216T193000
DTSTAMP:20260423T142432
CREATED:20230715T205932Z
LAST-MODIFIED:20230715T220127Z
UID:10000112-1734372000-1734377400@norcalsistercities.org
SUMMARY:Sonoma Sister Cities Association Board of Directors Monthly Meeting
DESCRIPTION:Sonoma Sister Cities Association
URL:https://norcalsistercities.org/events/ssca-board-of-directors-monthly-meeting/
LOCATION:TBA
ATTACH;FMTTYPE=image/jpeg:https://norcalsistercities.org/wp-content/uploads/2023/07/Sonoma-Sister-Cities-Association_logo.jpg
ORGANIZER;CN="Sonoma Sister Cities Association":MAILTO:info@sonomasistercitiesassociation.org
END:VEVENT
BEGIN:VEVENT
DTSTART;TZID=America/Los_Angeles:20241211T180000
DTEND;TZID=America/Los_Angeles:20241211T194500
DTSTAMP:20260423T142432
CREATED:20230715T210229Z
LAST-MODIFIED:20230715T211933Z
UID:10000111-1733940000-1733946300@norcalsistercities.org
SUMMARY:Sonoma-Kaniv Committee Meeting
DESCRIPTION:Sonoma Sister Cities Association
URL:https://norcalsistercities.org/events/sonoma-kaniv-committee-meeting/
LOCATION:Sonoma Library Meeting Room\, 755 West Napa\, Sonoma\, CA\, 95476\, United States
ATTACH;FMTTYPE=image/jpeg:https://norcalsistercities.org/wp-content/uploads/2023/07/sonoma-kaniv-committee.jpg
ORGANIZER;CN="Sonoma Sister Cities Association":MAILTO:info@sonomasistercitiesassociation.org
END:VEVENT
BEGIN:VEVENT
DTSTART;TZID=America/Los_Angeles:20241202T110000
DTEND;TZID=America/Los_Angeles:20241202T123000
DTSTAMP:20260423T142432
CREATED:20230715T211115Z
LAST-MODIFIED:20230715T224706Z
UID:10000110-1733137200-1733142600@norcalsistercities.org
SUMMARY:Sonoma-Penglai Committee Meeting
DESCRIPTION:Sonoma Sister Cities Association
URL:https://norcalsistercities.org/events/sonoma-penglai-committee-meeting/
LOCATION:Virtual
ATTACH;FMTTYPE=image/jpeg:https://norcalsistercities.org/wp-content/uploads/2023/07/Sonoma-Penglai-Sister-City-Relationship-Symposium-banner.jpg
ORGANIZER;CN="Sonoma Sister Cities Association":MAILTO:info@sonomasistercitiesassociation.org
END:VEVENT
BEGIN:VEVENT
DTSTART;TZID=America/Los_Angeles:20241118T180000
DTEND;TZID=America/Los_Angeles:20241118T193000
DTSTAMP:20260423T142432
CREATED:20230715T211504Z
LAST-MODIFIED:20230715T220219Z
UID:10000109-1731952800-1731958200@norcalsistercities.org
SUMMARY:Sonoma Sister Cities Association Board of Directors Monthly Meeting
DESCRIPTION:Sonoma Sister Cities Association
URL:https://norcalsistercities.org/events/sonoma-sister-cities-association-board-of-directors-monthly-meeting/
LOCATION:TBA
ATTACH;FMTTYPE=image/jpeg:https://norcalsistercities.org/wp-content/uploads/2023/07/Sonoma-Sister-Cities-Association_logo.jpg
ORGANIZER;CN="Sonoma Sister Cities Association":MAILTO:info@sonomasistercitiesassociation.org
END:VEVENT
BEGIN:VEVENT
DTSTART;TZID=America/Los_Angeles:20241113T180000
DTEND;TZID=America/Los_Angeles:20241113T194500
DTSTAMP:20260423T142432
CREATED:20230715T210839Z
LAST-MODIFIED:20230715T212010Z
UID:10000108-1731520800-1731527100@norcalsistercities.org
SUMMARY:Sonoma-Kaniv Committee Meeting
DESCRIPTION:Sonoma Sister Cities Association
URL:https://norcalsistercities.org/events/sonoma-kaniv-committee-meeting-2/
LOCATION:Sonoma Library Meeting Room\, 755 West Napa\, Sonoma\, CA\, 95476\, United States
ATTACH;FMTTYPE=image/jpeg:https://norcalsistercities.org/wp-content/uploads/2023/07/sonoma-kaniv-committee.jpg
ORGANIZER;CN="Sonoma Sister Cities Association":MAILTO:info@sonomasistercitiesassociation.org
END:VEVENT
BEGIN:VEVENT
DTSTART;TZID=America/Los_Angeles:20241104T110000
DTEND;TZID=America/Los_Angeles:20241104T123000
DTSTAMP:20260423T142432
CREATED:20230715T211149Z
LAST-MODIFIED:20230715T224625Z
UID:10000107-1730718000-1730723400@norcalsistercities.org
SUMMARY:Sonoma-Penglai Committee Meeting
DESCRIPTION:Sonoma Sister Cities Association
URL:https://norcalsistercities.org/events/sonoma-penglai-committee-meeting-2/
LOCATION:Virtual
ATTACH;FMTTYPE=image/jpeg:https://norcalsistercities.org/wp-content/uploads/2023/07/Sonoma-Penglai-Sister-City-Relationship-Symposium-banner.jpg
ORGANIZER;CN="Sonoma Sister Cities Association":MAILTO:info@sonomasistercitiesassociation.org
END:VEVENT
BEGIN:VEVENT
DTSTART;TZID=America/Los_Angeles:20241021T180000
DTEND;TZID=America/Los_Angeles:20241021T193000
DTSTAMP:20260423T142432
CREATED:20230715T205625Z
LAST-MODIFIED:20230715T220240Z
UID:10000106-1729533600-1729539000@norcalsistercities.org
SUMMARY:Sonoma Sister Cities Association Board of Directors Monthly Meeting
DESCRIPTION:Sonoma Sister Cities Association
URL:https://norcalsistercities.org/events/sonoma-sister-cities-association-board-of-directors-monthly-meeting-2/
LOCATION:TBA
ATTACH;FMTTYPE=image/jpeg:https://norcalsistercities.org/wp-content/uploads/2023/07/Sonoma-Sister-Cities-Association_logo.jpg
ORGANIZER;CN="Sonoma Sister Cities Association":MAILTO:info@sonomasistercitiesassociation.org
END:VEVENT
BEGIN:VEVENT
DTSTART;TZID=America/Los_Angeles:20241009T180000
DTEND;TZID=America/Los_Angeles:20241009T194500
DTSTAMP:20260423T142432
CREATED:20230715T212051Z
LAST-MODIFIED:20230715T212051Z
UID:10000105-1728496800-1728503100@norcalsistercities.org
SUMMARY:Sonoma-Kaniv Committee Meeting
DESCRIPTION:Sonoma Sister Cities Association
URL:https://norcalsistercities.org/events/sonoma-kaniv-committee-meeting-3/
LOCATION:Sonoma Library Meeting Room\, 755 West Napa\, Sonoma\, CA\, 95476\, United States
ATTACH;FMTTYPE=image/jpeg:https://norcalsistercities.org/wp-content/uploads/2023/07/sonoma-kaniv-committee.jpg
ORGANIZER;CN="Sonoma Sister Cities Association":MAILTO:info@sonomasistercitiesassociation.org
END:VEVENT
BEGIN:VEVENT
DTSTART;TZID=America/Los_Angeles:20241007T110000
DTEND;TZID=America/Los_Angeles:20241007T123000
DTSTAMP:20260423T142432
CREATED:20230715T211218Z
LAST-MODIFIED:20230715T224556Z
UID:10000104-1728298800-1728304200@norcalsistercities.org
SUMMARY:Sonoma-Penglai Committee Meeting
DESCRIPTION:Sonoma Sister Cities Association
URL:https://norcalsistercities.org/events/sonoma-penglai-committee-meeting-3/
LOCATION:Virtual
ATTACH;FMTTYPE=image/jpeg:https://norcalsistercities.org/wp-content/uploads/2023/07/Sonoma-Penglai-Sister-City-Relationship-Symposium-banner.jpg
ORGANIZER;CN="Sonoma Sister Cities Association":MAILTO:info@sonomasistercitiesassociation.org
END:VEVENT
BEGIN:VEVENT
DTSTART;TZID=America/Los_Angeles:20240916T180000
DTEND;TZID=America/Los_Angeles:20240916T193000
DTSTAMP:20260423T142432
CREATED:20230715T220321Z
LAST-MODIFIED:20230715T220321Z
UID:10000103-1726509600-1726515000@norcalsistercities.org
SUMMARY:Sonoma Sister Cities Association Board of Directors Monthly Meeting
DESCRIPTION:Sonoma Sister Cities Association
URL:https://norcalsistercities.org/events/sonoma-sister-cities-association-board-of-directors-monthly-meeting-3/
LOCATION:TBA
ATTACH;FMTTYPE=image/jpeg:https://norcalsistercities.org/wp-content/uploads/2023/07/Sonoma-Sister-Cities-Association_logo.jpg
ORGANIZER;CN="Sonoma Sister Cities Association":MAILTO:info@sonomasistercitiesassociation.org
END:VEVENT
BEGIN:VEVENT
DTSTART;TZID=America/Los_Angeles:20240911T180000
DTEND;TZID=America/Los_Angeles:20240911T194500
DTSTAMP:20260423T142432
CREATED:20230715T212749Z
LAST-MODIFIED:20230715T212749Z
UID:10000102-1726077600-1726083900@norcalsistercities.org
SUMMARY:Sonoma-Kaniv Committee Meeting
DESCRIPTION:Sonoma Sister Cities Association
URL:https://norcalsistercities.org/events/sonoma-kaniv-committee-meeting-11/
LOCATION:Sonoma Library Meeting Room\, 755 West Napa\, Sonoma\, CA\, 95476\, United States
ATTACH;FMTTYPE=image/jpeg:https://norcalsistercities.org/wp-content/uploads/2023/07/sonoma-kaniv-committee.jpg
ORGANIZER;CN="Sonoma Sister Cities Association":MAILTO:info@sonomasistercitiesassociation.org
END:VEVENT
BEGIN:VEVENT
DTSTART;TZID=America/Los_Angeles:20240902T110000
DTEND;TZID=America/Los_Angeles:20240902T123000
DTSTAMP:20260423T142432
CREATED:20230715T211248Z
LAST-MODIFIED:20230715T224520Z
UID:10000101-1725274800-1725280200@norcalsistercities.org
SUMMARY:Sonoma-Penglai Committee Meeting
DESCRIPTION:Sonoma Sister Cities Association
URL:https://norcalsistercities.org/events/sonoma-penglai-committee-meeting-4/
LOCATION:Virtual
ATTACH;FMTTYPE=image/jpeg:https://norcalsistercities.org/wp-content/uploads/2023/07/Sonoma-Penglai-Sister-City-Relationship-Symposium-banner.jpg
ORGANIZER;CN="Sonoma Sister Cities Association":MAILTO:info@sonomasistercitiesassociation.org
END:VEVENT
BEGIN:VEVENT
DTSTART;TZID=America/Los_Angeles:20240819T180000
DTEND;TZID=America/Los_Angeles:20240819T193000
DTSTAMP:20260423T142432
CREATED:20230715T220418Z
LAST-MODIFIED:20230715T220418Z
UID:10000100-1724090400-1724095800@norcalsistercities.org
SUMMARY:Sonoma Sister Cities Association Board of Directors Monthly Meeting
DESCRIPTION:Sonoma Sister Cities Association
URL:https://norcalsistercities.org/events/sonoma-sister-cities-association-board-of-directors-monthly-meeting-4/
LOCATION:TBA
ATTACH;FMTTYPE=image/jpeg:https://norcalsistercities.org/wp-content/uploads/2023/07/Sonoma-Sister-Cities-Association_logo.jpg
ORGANIZER;CN="Sonoma Sister Cities Association":MAILTO:info@sonomasistercitiesassociation.org
END:VEVENT
BEGIN:VEVENT
DTSTART;TZID=America/Los_Angeles:20240814T180000
DTEND;TZID=America/Los_Angeles:20240814T194500
DTSTAMP:20260423T142432
CREATED:20230715T212830Z
LAST-MODIFIED:20230715T212830Z
UID:10000099-1723658400-1723664700@norcalsistercities.org
SUMMARY:Sonoma-Kaniv Committee Meeting
DESCRIPTION:Sonoma Sister Cities Association
URL:https://norcalsistercities.org/events/sonoma-kaniv-committee-meeting-12/
LOCATION:Sonoma Library Meeting Room\, 755 West Napa\, Sonoma\, CA\, 95476\, United States
ATTACH;FMTTYPE=image/jpeg:https://norcalsistercities.org/wp-content/uploads/2023/07/sonoma-kaniv-committee.jpg
ORGANIZER;CN="Sonoma Sister Cities Association":MAILTO:info@sonomasistercitiesassociation.org
END:VEVENT
BEGIN:VEVENT
DTSTART;TZID=America/Los_Angeles:20240805T110000
DTEND;TZID=America/Los_Angeles:20240805T123000
DTSTAMP:20260423T142432
CREATED:20230715T211322Z
LAST-MODIFIED:20230715T224454Z
UID:10000098-1722855600-1722861000@norcalsistercities.org
SUMMARY:Sonoma-Penglai Committee Meeting
DESCRIPTION:Sonoma Sister Cities Association
URL:https://norcalsistercities.org/events/sonoma-penglai-committee-meeting-5/
LOCATION:Virtual
ATTACH;FMTTYPE=image/jpeg:https://norcalsistercities.org/wp-content/uploads/2023/07/Sonoma-Penglai-Sister-City-Relationship-Symposium-banner.jpg
ORGANIZER;CN="Sonoma Sister Cities Association":MAILTO:info@sonomasistercitiesassociation.org
END:VEVENT
BEGIN:VEVENT
DTSTART;TZID=America/Los_Angeles:20240715T180000
DTEND;TZID=America/Los_Angeles:20240715T193000
DTSTAMP:20260423T142432
CREATED:20230715T220454Z
LAST-MODIFIED:20230715T220454Z
UID:10000097-1721066400-1721071800@norcalsistercities.org
SUMMARY:Sonoma Sister Cities Association Board of Directors Monthly Meeting
DESCRIPTION:Sonoma Sister Cities Association
URL:https://norcalsistercities.org/events/sonoma-sister-cities-association-board-of-directors-monthly-meeting-5/
LOCATION:TBA
ATTACH;FMTTYPE=image/jpeg:https://norcalsistercities.org/wp-content/uploads/2023/07/Sonoma-Sister-Cities-Association_logo.jpg
ORGANIZER;CN="Sonoma Sister Cities Association":MAILTO:info@sonomasistercitiesassociation.org
END:VEVENT
BEGIN:VEVENT
DTSTART;TZID=America/Los_Angeles:20240710T180000
DTEND;TZID=America/Los_Angeles:20240710T194500
DTSTAMP:20260423T142432
CREATED:20230715T212907Z
LAST-MODIFIED:20230715T212907Z
UID:10000096-1720634400-1720640700@norcalsistercities.org
SUMMARY:Sonoma-Kaniv Committee Meeting
DESCRIPTION:Sonoma Sister Cities Association
URL:https://norcalsistercities.org/events/sonoma-kaniv-committee-meeting-13/
LOCATION:Sonoma Library Meeting Room\, 755 West Napa\, Sonoma\, CA\, 95476\, United States
ATTACH;FMTTYPE=image/jpeg:https://norcalsistercities.org/wp-content/uploads/2023/07/sonoma-kaniv-committee.jpg
ORGANIZER;CN="Sonoma Sister Cities Association":MAILTO:info@sonomasistercitiesassociation.org
END:VEVENT
BEGIN:VEVENT
DTSTART;TZID=America/Los_Angeles:20240701T110000
DTEND;TZID=America/Los_Angeles:20240701T123000
DTSTAMP:20260423T142432
CREATED:20230715T211422Z
LAST-MODIFIED:20230715T224429Z
UID:10000095-1719831600-1719837000@norcalsistercities.org
SUMMARY:Sonoma-Penglai Committee Meeting
DESCRIPTION:Sonoma Sister Cities Association
URL:https://norcalsistercities.org/events/sonoma-penglai-committee-meeting-6/
LOCATION:Virtual
ATTACH;FMTTYPE=image/jpeg:https://norcalsistercities.org/wp-content/uploads/2023/07/Sonoma-Penglai-Sister-City-Relationship-Symposium-banner.jpg
ORGANIZER;CN="Sonoma Sister Cities Association":MAILTO:info@sonomasistercitiesassociation.org
END:VEVENT
BEGIN:VEVENT
DTSTART;TZID=America/Los_Angeles:20240617T180000
DTEND;TZID=America/Los_Angeles:20240617T193000
DTSTAMP:20260423T142432
CREATED:20230715T220528Z
LAST-MODIFIED:20230715T220528Z
UID:10000094-1718647200-1718652600@norcalsistercities.org
SUMMARY:Sonoma Sister Cities Association Board of Directors Monthly Meeting
DESCRIPTION:Sonoma Sister Cities Association
URL:https://norcalsistercities.org/events/sonoma-sister-cities-association-board-of-directors-monthly-meeting-6/
LOCATION:TBA
ATTACH;FMTTYPE=image/jpeg:https://norcalsistercities.org/wp-content/uploads/2023/07/Sonoma-Sister-Cities-Association_logo.jpg
ORGANIZER;CN="Sonoma Sister Cities Association":MAILTO:info@sonomasistercitiesassociation.org
END:VEVENT
END:VCALENDAR