BEGIN:VCALENDAR
VERSION:2.0
PRODID:-//Northern California Chapter of Sister Cities International - ECPv6.15.20//NONSGML v1.0//EN
CALSCALE:GREGORIAN
METHOD:PUBLISH
X-ORIGINAL-URL:https://norcalsistercities.org
X-WR-CALDESC:Events for Northern California Chapter of Sister Cities International
REFRESH-INTERVAL;VALUE=DURATION:PT1H
X-Robots-Tag:noindex
X-PUBLISHED-TTL:PT1H
BEGIN:VTIMEZONE
TZID:America/Los_Angeles
BEGIN:DAYLIGHT
TZOFFSETFROM:-0800
TZOFFSETTO:-0700
TZNAME:PDT
DTSTART:20220313T100000
END:DAYLIGHT
BEGIN:STANDARD
TZOFFSETFROM:-0700
TZOFFSETTO:-0800
TZNAME:PST
DTSTART:20221106T090000
END:STANDARD
BEGIN:DAYLIGHT
TZOFFSETFROM:-0800
TZOFFSETTO:-0700
TZNAME:PDT
DTSTART:20230312T100000
END:DAYLIGHT
BEGIN:STANDARD
TZOFFSETFROM:-0700
TZOFFSETTO:-0800
TZNAME:PST
DTSTART:20231105T090000
END:STANDARD
BEGIN:DAYLIGHT
TZOFFSETFROM:-0800
TZOFFSETTO:-0700
TZNAME:PDT
DTSTART:20240310T100000
END:DAYLIGHT
BEGIN:STANDARD
TZOFFSETFROM:-0700
TZOFFSETTO:-0800
TZNAME:PST
DTSTART:20241103T090000
END:STANDARD
BEGIN:DAYLIGHT
TZOFFSETFROM:-0800
TZOFFSETTO:-0700
TZNAME:PDT
DTSTART:20250309T100000
END:DAYLIGHT
BEGIN:STANDARD
TZOFFSETFROM:-0700
TZOFFSETTO:-0800
TZNAME:PST
DTSTART:20251102T090000
END:STANDARD
END:VTIMEZONE
BEGIN:VEVENT
DTSTART;TZID=America/Los_Angeles:20240612T180000
DTEND;TZID=America/Los_Angeles:20240612T194500
DTSTAMP:20260423T183749
CREATED:20230715T213056Z
LAST-MODIFIED:20230715T213056Z
UID:10000093-1718215200-1718221500@norcalsistercities.org
SUMMARY:Sonoma-Kaniv Committee Meeting
DESCRIPTION:Sonoma Sister Cities Association
URL:https://norcalsistercities.org/events/sonoma-kaniv-committee-meeting-16/
LOCATION:Sonoma Library Meeting Room\, 755 West Napa\, Sonoma\, CA\, 95476\, United States
ATTACH;FMTTYPE=image/jpeg:https://norcalsistercities.org/wp-content/uploads/2023/07/sonoma-kaniv-committee.jpg
ORGANIZER;CN="Sonoma Sister Cities Association":MAILTO:info@sonomasistercitiesassociation.org
END:VEVENT
BEGIN:VEVENT
DTSTART;TZID=America/Los_Angeles:20240603T110000
DTEND;TZID=America/Los_Angeles:20240603T123000
DTSTAMP:20260423T183749
CREATED:20230715T224738Z
LAST-MODIFIED:20230715T224738Z
UID:10000092-1717412400-1717417800@norcalsistercities.org
SUMMARY:Sonoma-Penglai Committee Meeting
DESCRIPTION:Sonoma Sister Cities Association
URL:https://norcalsistercities.org/events/sonoma-penglai-committee-meeting-7/
LOCATION:Virtual
ATTACH;FMTTYPE=image/jpeg:https://norcalsistercities.org/wp-content/uploads/2023/07/Sonoma-Penglai-Sister-City-Relationship-Symposium-banner.jpg
ORGANIZER;CN="Sonoma Sister Cities Association":MAILTO:info@sonomasistercitiesassociation.org
END:VEVENT
BEGIN:VEVENT
DTSTART;TZID=America/Los_Angeles:20240520T180000
DTEND;TZID=America/Los_Angeles:20240520T193000
DTSTAMP:20260423T183749
CREATED:20230715T220603Z
LAST-MODIFIED:20230715T220603Z
UID:10000091-1716228000-1716233400@norcalsistercities.org
SUMMARY:Sonoma Sister Cities Association Board of Directors Monthly Meeting
DESCRIPTION:Sonoma Sister Cities Association
URL:https://norcalsistercities.org/events/sonoma-sister-cities-association-board-of-directors-monthly-meeting-7/
LOCATION:TBA
ATTACH;FMTTYPE=image/jpeg:https://norcalsistercities.org/wp-content/uploads/2023/07/Sonoma-Sister-Cities-Association_logo.jpg
ORGANIZER;CN="Sonoma Sister Cities Association":MAILTO:info@sonomasistercitiesassociation.org
END:VEVENT
BEGIN:VEVENT
DTSTART;TZID=America/Los_Angeles:20240508T180000
DTEND;TZID=America/Los_Angeles:20240508T194500
DTSTAMP:20260423T183749
CREATED:20230715T213127Z
LAST-MODIFIED:20230715T213127Z
UID:10000090-1715191200-1715197500@norcalsistercities.org
SUMMARY:Sonoma-Kaniv Committee Meeting
DESCRIPTION:Sonoma Sister Cities Association
URL:https://norcalsistercities.org/events/sonoma-kaniv-committee-meeting-17/
LOCATION:Sonoma Library Meeting Room\, 755 West Napa\, Sonoma\, CA\, 95476\, United States
ATTACH;FMTTYPE=image/jpeg:https://norcalsistercities.org/wp-content/uploads/2023/07/sonoma-kaniv-committee.jpg
ORGANIZER;CN="Sonoma Sister Cities Association":MAILTO:info@sonomasistercitiesassociation.org
END:VEVENT
BEGIN:VEVENT
DTSTART;TZID=America/Los_Angeles:20240506T110000
DTEND;TZID=America/Los_Angeles:20240506T123000
DTSTAMP:20260423T183749
CREATED:20230715T224819Z
LAST-MODIFIED:20230715T224819Z
UID:10000089-1714993200-1714998600@norcalsistercities.org
SUMMARY:Sonoma-Penglai Committee Meeting
DESCRIPTION:Sonoma Sister Cities Association
URL:https://norcalsistercities.org/events/sonoma-penglai-committee-meeting-8/
LOCATION:Virtual
ATTACH;FMTTYPE=image/jpeg:https://norcalsistercities.org/wp-content/uploads/2023/07/Sonoma-Penglai-Sister-City-Relationship-Symposium-banner.jpg
ORGANIZER;CN="Sonoma Sister Cities Association":MAILTO:info@sonomasistercitiesassociation.org
END:VEVENT
BEGIN:VEVENT
DTSTART;TZID=America/Los_Angeles:20240415T180000
DTEND;TZID=America/Los_Angeles:20240415T193000
DTSTAMP:20260423T183749
CREATED:20230715T220636Z
LAST-MODIFIED:20230715T220636Z
UID:10000088-1713204000-1713209400@norcalsistercities.org
SUMMARY:Sonoma Sister Cities Association Board of Directors Monthly Meeting
DESCRIPTION:Sonoma Sister Cities Association
URL:https://norcalsistercities.org/events/sonoma-sister-cities-association-board-of-directors-monthly-meeting-8/
LOCATION:TBA
ATTACH;FMTTYPE=image/jpeg:https://norcalsistercities.org/wp-content/uploads/2023/07/Sonoma-Sister-Cities-Association_logo.jpg
ORGANIZER;CN="Sonoma Sister Cities Association":MAILTO:info@sonomasistercitiesassociation.org
END:VEVENT
BEGIN:VEVENT
DTSTART;TZID=America/Los_Angeles:20240410T180000
DTEND;TZID=America/Los_Angeles:20240410T194500
DTSTAMP:20260423T183749
CREATED:20230715T213010Z
LAST-MODIFIED:20230715T213010Z
UID:10000087-1712772000-1712778300@norcalsistercities.org
SUMMARY:Sonoma-Kaniv Committee Meeting
DESCRIPTION:Sonoma Sister Cities Association
URL:https://norcalsistercities.org/events/sonoma-kaniv-committee-meeting-15/
LOCATION:Sonoma Library Meeting Room\, 755 West Napa\, Sonoma\, CA\, 95476\, United States
ATTACH;FMTTYPE=image/jpeg:https://norcalsistercities.org/wp-content/uploads/2023/07/sonoma-kaniv-committee.jpg
ORGANIZER;CN="Sonoma Sister Cities Association":MAILTO:info@sonomasistercitiesassociation.org
END:VEVENT
BEGIN:VEVENT
DTSTART;TZID=America/Los_Angeles:20240401T110000
DTEND;TZID=America/Los_Angeles:20240401T123000
DTSTAMP:20260423T183749
CREATED:20230715T224857Z
LAST-MODIFIED:20230715T224857Z
UID:10000086-1711969200-1711974600@norcalsistercities.org
SUMMARY:Sonoma-Penglai Committee Meeting
DESCRIPTION:Sonoma Sister Cities Association
URL:https://norcalsistercities.org/events/sonoma-penglai-committee-meeting-9/
LOCATION:Virtual
ATTACH;FMTTYPE=image/jpeg:https://norcalsistercities.org/wp-content/uploads/2023/07/Sonoma-Penglai-Sister-City-Relationship-Symposium-banner.jpg
ORGANIZER;CN="Sonoma Sister Cities Association":MAILTO:info@sonomasistercitiesassociation.org
END:VEVENT
BEGIN:VEVENT
DTSTART;TZID=America/Los_Angeles:20240318T180000
DTEND;TZID=America/Los_Angeles:20240318T193000
DTSTAMP:20260423T183749
CREATED:20230715T220709Z
LAST-MODIFIED:20230715T220709Z
UID:10000085-1710784800-1710790200@norcalsistercities.org
SUMMARY:Sonoma Sister Cities Association Board of Directors Monthly Meeting
DESCRIPTION:Sonoma Sister Cities Association
URL:https://norcalsistercities.org/events/sonoma-sister-cities-association-board-of-directors-monthly-meeting-9/
LOCATION:TBA
ATTACH;FMTTYPE=image/jpeg:https://norcalsistercities.org/wp-content/uploads/2023/07/Sonoma-Sister-Cities-Association_logo.jpg
ORGANIZER;CN="Sonoma Sister Cities Association":MAILTO:info@sonomasistercitiesassociation.org
END:VEVENT
BEGIN:VEVENT
DTSTART;TZID=America/Los_Angeles:20240313T180000
DTEND;TZID=America/Los_Angeles:20240313T194500
DTSTAMP:20260423T183749
CREATED:20230715T212938Z
LAST-MODIFIED:20230715T212938Z
UID:10000084-1710352800-1710359100@norcalsistercities.org
SUMMARY:Sonoma-Kaniv Committee Meeting
DESCRIPTION:Sonoma Sister Cities Association
URL:https://norcalsistercities.org/events/sonoma-kaniv-committee-meeting-14/
LOCATION:Sonoma Library Meeting Room\, 755 West Napa\, Sonoma\, CA\, 95476\, United States
ATTACH;FMTTYPE=image/jpeg:https://norcalsistercities.org/wp-content/uploads/2023/07/sonoma-kaniv-committee.jpg
ORGANIZER;CN="Sonoma Sister Cities Association":MAILTO:info@sonomasistercitiesassociation.org
END:VEVENT
BEGIN:VEVENT
DTSTART;TZID=America/Los_Angeles:20240304T110000
DTEND;TZID=America/Los_Angeles:20240304T123000
DTSTAMP:20260423T183749
CREATED:20230715T224942Z
LAST-MODIFIED:20230715T224942Z
UID:10000083-1709550000-1709555400@norcalsistercities.org
SUMMARY:Sonoma-Penglai Committee Meeting
DESCRIPTION:Sonoma Sister Cities Association
URL:https://norcalsistercities.org/events/sonoma-penglai-committee-meeting-10/
LOCATION:Virtual
ATTACH;FMTTYPE=image/jpeg:https://norcalsistercities.org/wp-content/uploads/2023/07/Sonoma-Penglai-Sister-City-Relationship-Symposium-banner.jpg
ORGANIZER;CN="Sonoma Sister Cities Association":MAILTO:info@sonomasistercitiesassociation.org
END:VEVENT
BEGIN:VEVENT
DTSTART;TZID=America/Los_Angeles:20240219T180000
DTEND;TZID=America/Los_Angeles:20240219T193000
DTSTAMP:20260423T183749
CREATED:20230715T221414Z
LAST-MODIFIED:20230715T221414Z
UID:10000082-1708365600-1708371000@norcalsistercities.org
SUMMARY:Sonoma Sister Cities Association Board of Directors Monthly Meeting
DESCRIPTION:Sonoma Sister Cities Association
URL:https://norcalsistercities.org/events/sonoma-sister-cities-association-board-of-directors-monthly-meeting-16/
LOCATION:TBA
ATTACH;FMTTYPE=image/jpeg:https://norcalsistercities.org/wp-content/uploads/2023/07/Sonoma-Sister-Cities-Association_logo.jpg
ORGANIZER;CN="Sonoma Sister Cities Association":MAILTO:info@sonomasistercitiesassociation.org
END:VEVENT
BEGIN:VEVENT
DTSTART;TZID=America/Los_Angeles:20240214T180000
DTEND;TZID=America/Los_Angeles:20240214T194500
DTSTAMP:20260423T183749
CREATED:20230715T212701Z
LAST-MODIFIED:20230715T212701Z
UID:10000081-1707933600-1707939900@norcalsistercities.org
SUMMARY:Sonoma-Kaniv Committee Meeting
DESCRIPTION:Sonoma Sister Cities Association
URL:https://norcalsistercities.org/events/sonoma-kaniv-committee-meeting-10/
LOCATION:Sonoma Library Meeting Room\, 755 West Napa\, Sonoma\, CA\, 95476\, United States
ATTACH;FMTTYPE=image/jpeg:https://norcalsistercities.org/wp-content/uploads/2023/07/sonoma-kaniv-committee.jpg
ORGANIZER;CN="Sonoma Sister Cities Association":MAILTO:info@sonomasistercitiesassociation.org
END:VEVENT
BEGIN:VEVENT
DTSTART;TZID=America/Los_Angeles:20240205T110000
DTEND;TZID=America/Los_Angeles:20240205T123000
DTSTAMP:20260423T183749
CREATED:20230715T225020Z
LAST-MODIFIED:20230715T225020Z
UID:10000080-1707130800-1707136200@norcalsistercities.org
SUMMARY:Sonoma-Penglai Committee Meeting
DESCRIPTION:Sonoma Sister Cities Association
URL:https://norcalsistercities.org/events/sonoma-penglai-committee-meeting-11/
LOCATION:Virtual
ATTACH;FMTTYPE=image/jpeg:https://norcalsistercities.org/wp-content/uploads/2023/07/Sonoma-Penglai-Sister-City-Relationship-Symposium-banner.jpg
ORGANIZER;CN="Sonoma Sister Cities Association":MAILTO:info@sonomasistercitiesassociation.org
END:VEVENT
BEGIN:VEVENT
DTSTART;TZID=America/Los_Angeles:20240115T180000
DTEND;TZID=America/Los_Angeles:20240115T193000
DTSTAMP:20260423T183749
CREATED:20230715T221305Z
LAST-MODIFIED:20230715T221305Z
UID:10000079-1705341600-1705347000@norcalsistercities.org
SUMMARY:Sonoma Sister Cities Association Board of Directors Monthly Meeting
DESCRIPTION:Sonoma Sister Cities Association
URL:https://norcalsistercities.org/events/sonoma-sister-cities-association-board-of-directors-monthly-meeting-15/
LOCATION:TBA
ATTACH;FMTTYPE=image/jpeg:https://norcalsistercities.org/wp-content/uploads/2023/07/Sonoma-Sister-Cities-Association_logo.jpg
ORGANIZER;CN="Sonoma Sister Cities Association":MAILTO:info@sonomasistercitiesassociation.org
END:VEVENT
BEGIN:VEVENT
DTSTART;TZID=America/Los_Angeles:20240110T180000
DTEND;TZID=America/Los_Angeles:20240110T194500
DTSTAMP:20260423T183749
CREATED:20230715T212608Z
LAST-MODIFIED:20230715T212608Z
UID:10000078-1704909600-1704915900@norcalsistercities.org
SUMMARY:Sonoma-Kaniv Committee Meeting
DESCRIPTION:Sonoma Sister Cities Association
URL:https://norcalsistercities.org/events/sonoma-kaniv-committee-meeting-9/
LOCATION:Sonoma Library Meeting Room\, 755 West Napa\, Sonoma\, CA\, 95476\, United States
ATTACH;FMTTYPE=image/jpeg:https://norcalsistercities.org/wp-content/uploads/2023/07/sonoma-kaniv-committee.jpg
ORGANIZER;CN="Sonoma Sister Cities Association":MAILTO:info@sonomasistercitiesassociation.org
END:VEVENT
BEGIN:VEVENT
DTSTART;TZID=America/Los_Angeles:20240101T110000
DTEND;TZID=America/Los_Angeles:20240101T123000
DTSTAMP:20260423T183749
CREATED:20230715T225100Z
LAST-MODIFIED:20230715T225100Z
UID:10000077-1704106800-1704112200@norcalsistercities.org
SUMMARY:Sonoma-Penglai Committee Meeting
DESCRIPTION:Sonoma Sister Cities Association
URL:https://norcalsistercities.org/events/sonoma-penglai-committee-meeting-12/
LOCATION:Virtual
ATTACH;FMTTYPE=image/jpeg:https://norcalsistercities.org/wp-content/uploads/2023/07/Sonoma-Penglai-Sister-City-Relationship-Symposium-banner.jpg
ORGANIZER;CN="Sonoma Sister Cities Association":MAILTO:info@sonomasistercitiesassociation.org
END:VEVENT
BEGIN:VEVENT
DTSTART;TZID=America/Los_Angeles:20231218T180000
DTEND;TZID=America/Los_Angeles:20231218T193000
DTSTAMP:20260423T183749
CREATED:20230715T221205Z
LAST-MODIFIED:20230715T221205Z
UID:10000076-1702922400-1702927800@norcalsistercities.org
SUMMARY:Sonoma Sister Cities Association Board of Directors Monthly Meeting
DESCRIPTION:Sonoma Sister Cities Association
URL:https://norcalsistercities.org/events/sonoma-sister-cities-association-board-of-directors-monthly-meeting-14/
LOCATION:TBA
ATTACH;FMTTYPE=image/jpeg:https://norcalsistercities.org/wp-content/uploads/2023/07/Sonoma-Sister-Cities-Association_logo.jpg
ORGANIZER;CN="Sonoma Sister Cities Association":MAILTO:info@sonomasistercitiesassociation.org
END:VEVENT
BEGIN:VEVENT
DTSTART;TZID=America/Los_Angeles:20231213T180000
DTEND;TZID=America/Los_Angeles:20231213T194500
DTSTAMP:20260423T183749
CREATED:20230715T212527Z
LAST-MODIFIED:20230715T212527Z
UID:10000075-1702490400-1702496700@norcalsistercities.org
SUMMARY:Sonoma-Kaniv Committee Meeting
DESCRIPTION:Sonoma Sister Cities Association
URL:https://norcalsistercities.org/events/sonoma-kaniv-committee-meeting-8/
LOCATION:Sonoma Library Meeting Room\, 755 West Napa\, Sonoma\, CA\, 95476\, United States
ATTACH;FMTTYPE=image/jpeg:https://norcalsistercities.org/wp-content/uploads/2023/07/sonoma-kaniv-committee.jpg
ORGANIZER;CN="Sonoma Sister Cities Association":MAILTO:info@sonomasistercitiesassociation.org
END:VEVENT
BEGIN:VEVENT
DTSTART;TZID=America/Los_Angeles:20231204T110000
DTEND;TZID=America/Los_Angeles:20231204T123000
DTSTAMP:20260423T183749
CREATED:20230715T225306Z
LAST-MODIFIED:20230715T225306Z
UID:10000074-1701687600-1701693000@norcalsistercities.org
SUMMARY:Sonoma-Penglai Committee Meeting
DESCRIPTION:Sonoma Sister Cities Association
URL:https://norcalsistercities.org/events/sonoma-penglai-committee-meeting-16/
LOCATION:Virtual
ATTACH;FMTTYPE=image/jpeg:https://norcalsistercities.org/wp-content/uploads/2023/07/Sonoma-Penglai-Sister-City-Relationship-Symposium-banner.jpg
ORGANIZER;CN="Sonoma Sister Cities Association":MAILTO:info@sonomasistercitiesassociation.org
END:VEVENT
BEGIN:VEVENT
DTSTART;TZID=America/Los_Angeles:20231120T180000
DTEND;TZID=America/Los_Angeles:20231120T193000
DTSTAMP:20260423T183749
CREATED:20230715T221119Z
LAST-MODIFIED:20230715T221119Z
UID:10000073-1700503200-1700508600@norcalsistercities.org
SUMMARY:Sonoma Sister Cities Association Board of Directors Monthly Meeting
DESCRIPTION:Sonoma Sister Cities Association
URL:https://norcalsistercities.org/events/sonoma-sister-cities-association-board-of-directors-monthly-meeting-13/
LOCATION:TBA
ATTACH;FMTTYPE=image/jpeg:https://norcalsistercities.org/wp-content/uploads/2023/07/Sonoma-Sister-Cities-Association_logo.jpg
ORGANIZER;CN="Sonoma Sister Cities Association":MAILTO:info@sonomasistercitiesassociation.org
END:VEVENT
BEGIN:VEVENT
DTSTART;TZID=America/Los_Angeles:20231108T180000
DTEND;TZID=America/Los_Angeles:20231108T194500
DTSTAMP:20260423T183749
CREATED:20230715T212245Z
LAST-MODIFIED:20230715T212245Z
UID:10000072-1699466400-1699472700@norcalsistercities.org
SUMMARY:Sonoma-Kaniv Committee Meeting
DESCRIPTION:Sonoma Sister Cities Association
URL:https://norcalsistercities.org/events/sonoma-kaniv-committee-meeting-5/
LOCATION:Sonoma Library Meeting Room\, 755 West Napa\, Sonoma\, CA\, 95476\, United States
ATTACH;FMTTYPE=image/jpeg:https://norcalsistercities.org/wp-content/uploads/2023/07/sonoma-kaniv-committee.jpg
ORGANIZER;CN="Sonoma Sister Cities Association":MAILTO:info@sonomasistercitiesassociation.org
END:VEVENT
BEGIN:VEVENT
DTSTART;TZID=America/Los_Angeles:20231106T110000
DTEND;TZID=America/Los_Angeles:20231106T123000
DTSTAMP:20260423T183749
CREATED:20230715T225136Z
LAST-MODIFIED:20230715T225136Z
UID:10000071-1699268400-1699273800@norcalsistercities.org
SUMMARY:Sonoma-Penglai Committee Meeting
DESCRIPTION:Sonoma Sister Cities Association
URL:https://norcalsistercities.org/events/sonoma-penglai-committee-meeting-13/
LOCATION:Virtual
ATTACH;FMTTYPE=image/jpeg:https://norcalsistercities.org/wp-content/uploads/2023/07/Sonoma-Penglai-Sister-City-Relationship-Symposium-banner.jpg
ORGANIZER;CN="Sonoma Sister Cities Association":MAILTO:info@sonomasistercitiesassociation.org
END:VEVENT
BEGIN:VEVENT
DTSTART;TZID=America/Los_Angeles:20231019T180000
DTEND;TZID=America/Los_Angeles:20231019T194500
DTSTAMP:20260423T183749
CREATED:20231004T200508Z
LAST-MODIFIED:20231004T200508Z
UID:10000402-1697738400-1697744700@norcalsistercities.org
SUMMARY:Monthly Sonoma-Tokaj Committee Meeting
DESCRIPTION:The Sonoma-Tokaj Sister City Committee was established in April of 2012 by local and Bay Area Hungarians under the sponsorship of Jean Charles Boisset\, owner of Buena Vista Winery. The cities officially became Sister Cities when the two mayors signed an agreement on August 31\, 2012 in Sonoma\, California. \nThe Sonoma-Tokaj Sister City Committee meetings are held at various homes of committee members in Sonoma\, usually the third Thursday of the month. \nEmail Sylvia or call (707) 938-0224 for time and location. \nSonoma Sister Cities Association
URL:https://norcalsistercities.org/events/monthly-sonoma-tokaj-committee-meeting/
LOCATION:United States
ATTACH;FMTTYPE=image/jpeg:https://norcalsistercities.org/wp-content/uploads/2023/10/Sonoma-Tokaj-holiday-party-2022.jpg
ORGANIZER;CN="Sonoma Sister Cities Association":MAILTO:info@sonomasistercitiesassociation.org
END:VEVENT
BEGIN:VEVENT
DTSTART;TZID=America/Los_Angeles:20231016T180000
DTEND;TZID=America/Los_Angeles:20231016T193000
DTSTAMP:20260423T183749
CREATED:20230715T221023Z
LAST-MODIFIED:20230715T221023Z
UID:10000070-1697479200-1697484600@norcalsistercities.org
SUMMARY:Sonoma Sister Cities Association Board of Directors Monthly Meeting
DESCRIPTION:Sonoma Sister Cities Association
URL:https://norcalsistercities.org/events/sonoma-sister-cities-association-board-of-directors-monthly-meeting-12/
LOCATION:TBA
ATTACH;FMTTYPE=image/jpeg:https://norcalsistercities.org/wp-content/uploads/2023/07/Sonoma-Sister-Cities-Association_logo.jpg
ORGANIZER;CN="Sonoma Sister Cities Association":MAILTO:info@sonomasistercitiesassociation.org
END:VEVENT
BEGIN:VEVENT
DTSTART;TZID=America/Los_Angeles:20231011T180000
DTEND;TZID=America/Los_Angeles:20231011T194500
DTSTAMP:20260423T183749
CREATED:20230715T212452Z
LAST-MODIFIED:20230715T212452Z
UID:10000069-1697047200-1697053500@norcalsistercities.org
SUMMARY:Sonoma-Kaniv Committee Meeting
DESCRIPTION:Sonoma Sister Cities Association
URL:https://norcalsistercities.org/events/sonoma-kaniv-committee-meeting-7/
LOCATION:Sonoma Library Meeting Room\, 755 West Napa\, Sonoma\, CA\, 95476\, United States
ATTACH;FMTTYPE=image/jpeg:https://norcalsistercities.org/wp-content/uploads/2023/07/sonoma-kaniv-committee.jpg
ORGANIZER;CN="Sonoma Sister Cities Association":MAILTO:info@sonomasistercitiesassociation.org
END:VEVENT
BEGIN:VEVENT
DTSTART;TZID=America/Los_Angeles:20231002T110000
DTEND;TZID=America/Los_Angeles:20231002T123000
DTSTAMP:20260423T183749
CREATED:20230715T225204Z
LAST-MODIFIED:20230715T225204Z
UID:10000068-1696244400-1696249800@norcalsistercities.org
SUMMARY:Sonoma-Penglai Committee Meeting
DESCRIPTION:Sonoma Sister Cities Association
URL:https://norcalsistercities.org/events/sonoma-penglai-committee-meeting-14/
LOCATION:Virtual
ATTACH;FMTTYPE=image/jpeg:https://norcalsistercities.org/wp-content/uploads/2023/07/Sonoma-Penglai-Sister-City-Relationship-Symposium-banner.jpg
ORGANIZER;CN="Sonoma Sister Cities Association":MAILTO:info@sonomasistercitiesassociation.org
END:VEVENT
BEGIN:VEVENT
DTSTART;TZID=America/Los_Angeles:20230918T180000
DTEND;TZID=America/Los_Angeles:20230918T193000
DTSTAMP:20260423T183749
CREATED:20230715T220946Z
LAST-MODIFIED:20230715T220946Z
UID:10000067-1695060000-1695065400@norcalsistercities.org
SUMMARY:Sonoma Sister Cities Association Board of Directors Monthly Meeting
DESCRIPTION:Sonoma Sister Cities Association
URL:https://norcalsistercities.org/events/sonoma-sister-cities-association-board-of-directors-monthly-meeting-11/
LOCATION:TBA
ATTACH;FMTTYPE=image/jpeg:https://norcalsistercities.org/wp-content/uploads/2023/07/Sonoma-Sister-Cities-Association_logo.jpg
ORGANIZER;CN="Sonoma Sister Cities Association":MAILTO:info@sonomasistercitiesassociation.org
END:VEVENT
BEGIN:VEVENT
DTSTART;TZID=America/Los_Angeles:20230913T180000
DTEND;TZID=America/Los_Angeles:20230913T194500
DTSTAMP:20260423T183749
CREATED:20230715T212401Z
LAST-MODIFIED:20230715T212401Z
UID:10000066-1694628000-1694634300@norcalsistercities.org
SUMMARY:Sonoma-Kaniv Committee Meeting
DESCRIPTION:Sonoma Sister Cities Association
URL:https://norcalsistercities.org/events/sonoma-kaniv-committee-meeting-6/
LOCATION:Sonoma Library Meeting Room\, 755 West Napa\, Sonoma\, CA\, 95476\, United States
ATTACH;FMTTYPE=image/jpeg:https://norcalsistercities.org/wp-content/uploads/2023/07/sonoma-kaniv-committee.jpg
ORGANIZER;CN="Sonoma Sister Cities Association":MAILTO:info@sonomasistercitiesassociation.org
END:VEVENT
BEGIN:VEVENT
DTSTART;TZID=America/Los_Angeles:20230904T110000
DTEND;TZID=America/Los_Angeles:20230904T123000
DTSTAMP:20260423T183749
CREATED:20230715T225233Z
LAST-MODIFIED:20230715T225233Z
UID:10000065-1693825200-1693830600@norcalsistercities.org
SUMMARY:Sonoma-Penglai Committee Meeting
DESCRIPTION:Sonoma Sister Cities Association
URL:https://norcalsistercities.org/events/sonoma-penglai-committee-meeting-15/
LOCATION:Virtual
ATTACH;FMTTYPE=image/jpeg:https://norcalsistercities.org/wp-content/uploads/2023/07/Sonoma-Penglai-Sister-City-Relationship-Symposium-banner.jpg
ORGANIZER;CN="Sonoma Sister Cities Association":MAILTO:info@sonomasistercitiesassociation.org
END:VEVENT
END:VCALENDAR