BEGIN:VCALENDAR
VERSION:2.0
PRODID:-//Northern California Chapter of Sister Cities International - ECPv6.15.20//NONSGML v1.0//EN
CALSCALE:GREGORIAN
METHOD:PUBLISH
X-ORIGINAL-URL:https://norcalsistercities.org
X-WR-CALDESC:Events for Northern California Chapter of Sister Cities International
REFRESH-INTERVAL;VALUE=DURATION:PT1H
X-Robots-Tag:noindex
X-PUBLISHED-TTL:PT1H
BEGIN:VTIMEZONE
TZID:America/Los_Angeles
BEGIN:DAYLIGHT
TZOFFSETFROM:-0800
TZOFFSETTO:-0700
TZNAME:PDT
DTSTART:20220313T100000
END:DAYLIGHT
BEGIN:STANDARD
TZOFFSETFROM:-0700
TZOFFSETTO:-0800
TZNAME:PST
DTSTART:20221106T090000
END:STANDARD
BEGIN:DAYLIGHT
TZOFFSETFROM:-0800
TZOFFSETTO:-0700
TZNAME:PDT
DTSTART:20230312T100000
END:DAYLIGHT
BEGIN:STANDARD
TZOFFSETFROM:-0700
TZOFFSETTO:-0800
TZNAME:PST
DTSTART:20231105T090000
END:STANDARD
BEGIN:DAYLIGHT
TZOFFSETFROM:-0800
TZOFFSETTO:-0700
TZNAME:PDT
DTSTART:20240310T100000
END:DAYLIGHT
BEGIN:STANDARD
TZOFFSETFROM:-0700
TZOFFSETTO:-0800
TZNAME:PST
DTSTART:20241103T090000
END:STANDARD
END:VTIMEZONE
BEGIN:VEVENT
DTSTART;VALUE=DATE:20231011
DTEND;VALUE=DATE:20231024
DTSTAMP:20260423T183636
CREATED:20230726T000133Z
LAST-MODIFIED:20230726T000133Z
UID:10000316-1696982400-1698105599@norcalsistercities.org
SUMMARY:Sunnyvale Sister Cities Association 10th Anniversary Tour of Japan
DESCRIPTION:SSCA is celebrating our 10th anniversary by inviting Sunnyvale residents or people who work in Sunnyvale on a 13-day tour of Japan\, ending with a homestay in our sister city\, Iizuka. \nDates: October 11-23\, 2023\nPrice: $3\,780 \nFor more details about the tour\, please read our Information Packet. \nSunnyvale Sister Cities Association
URL:https://norcalsistercities.org/events/sunnyvale-sister-cities-association-10th-anniversary-tour-of-japan/
ATTACH;FMTTYPE=image/jpeg:https://norcalsistercities.org/wp-content/uploads/2023/07/SSCA-10th-Anniversary-Tour-flyer.jpg
ORGANIZER;CN="Sunnyvale Sister Cities Association":MAILTO:info@sunnyvalesistercity.org
END:VEVENT
BEGIN:VEVENT
DTSTART;VALUE=DATE:20230613
DTEND;VALUE=DATE:20230623
DTSTAMP:20260423T183636
CREATED:20230725T235139Z
LAST-MODIFIED:20230725T235139Z
UID:10000315-1686614400-1687478399@norcalsistercities.org
SUMMARY:Sunnyvale students visit Iizuka\, Japan
DESCRIPTION:Student Exchange\nStarting in 2014\, SSCA has worked with the Iizuka Friendship Network to facilitate two student exchange programs for middle (7th-8th) and and high school students: Sunnyvale to Iizuka (S2I) in which Sunnyvale students stay with host families in Iizuka\, and Iizuka to Sunnyvale (I2S) in which the S2I students (as well as other Sunnyvale families) host visiting Iizuka students. \nIf you have any additional questions\, please email s2i@sunnyvalesistercity.org. \nFor information on the 2023 Sunnyvale to Iizuka Student Exchange Program\, please see the information packet. \nThe application period is now closed. \nSunnyvale Sister Cities Association
URL:https://norcalsistercities.org/events/sunnyvale-students-visit-iizuka-japan/
ATTACH;FMTTYPE=image/jpeg:https://norcalsistercities.org/wp-content/uploads/2023/07/Sunnyvale-Sister-City-Association-student-exchange.jpg
ORGANIZER;CN="Sunnyvale Sister Cities Association":MAILTO:info@sunnyvalesistercity.org
END:VEVENT
END:VCALENDAR