BEGIN:VCALENDAR
VERSION:2.0
PRODID:-//Northern California Chapter of Sister Cities International - ECPv6.15.20//NONSGML v1.0//EN
CALSCALE:GREGORIAN
METHOD:PUBLISH
X-WR-CALNAME:Northern California Chapter of Sister Cities International
X-ORIGINAL-URL:https://norcalsistercities.org
X-WR-CALDESC:Events for Northern California Chapter of Sister Cities International
REFRESH-INTERVAL;VALUE=DURATION:PT1H
X-Robots-Tag:noindex
X-PUBLISHED-TTL:PT1H
BEGIN:VTIMEZONE
TZID:America/Los_Angeles
BEGIN:DAYLIGHT
TZOFFSETFROM:-0800
TZOFFSETTO:-0700
TZNAME:PDT
DTSTART:20220313T100000
END:DAYLIGHT
BEGIN:STANDARD
TZOFFSETFROM:-0700
TZOFFSETTO:-0800
TZNAME:PST
DTSTART:20221106T090000
END:STANDARD
BEGIN:DAYLIGHT
TZOFFSETFROM:-0800
TZOFFSETTO:-0700
TZNAME:PDT
DTSTART:20230312T100000
END:DAYLIGHT
BEGIN:STANDARD
TZOFFSETFROM:-0700
TZOFFSETTO:-0800
TZNAME:PST
DTSTART:20231105T090000
END:STANDARD
BEGIN:DAYLIGHT
TZOFFSETFROM:-0800
TZOFFSETTO:-0700
TZNAME:PDT
DTSTART:20240310T100000
END:DAYLIGHT
BEGIN:STANDARD
TZOFFSETFROM:-0700
TZOFFSETTO:-0800
TZNAME:PST
DTSTART:20241103T090000
END:STANDARD
BEGIN:DAYLIGHT
TZOFFSETFROM:-0800
TZOFFSETTO:-0700
TZNAME:PDT
DTSTART:20250309T100000
END:DAYLIGHT
BEGIN:STANDARD
TZOFFSETFROM:-0700
TZOFFSETTO:-0800
TZNAME:PST
DTSTART:20251102T090000
END:STANDARD
BEGIN:DAYLIGHT
TZOFFSETFROM:-0800
TZOFFSETTO:-0700
TZNAME:PDT
DTSTART:20260308T100000
END:DAYLIGHT
BEGIN:STANDARD
TZOFFSETFROM:-0700
TZOFFSETTO:-0800
TZNAME:PST
DTSTART:20261101T090000
END:STANDARD
BEGIN:DAYLIGHT
TZOFFSETFROM:-0800
TZOFFSETTO:-0700
TZNAME:PDT
DTSTART:20270314T100000
END:DAYLIGHT
BEGIN:STANDARD
TZOFFSETFROM:-0700
TZOFFSETTO:-0800
TZNAME:PST
DTSTART:20271107T090000
END:STANDARD
END:VTIMEZONE
BEGIN:VEVENT
DTSTART;TZID=America/Los_Angeles:20260409T190000
DTEND;TZID=America/Los_Angeles:20260409T200000
DTSTAMP:20260423T125938
CREATED:20260419T225349Z
LAST-MODIFIED:20260419T225349Z
UID:10001159-1775761200-1775764800@norcalsistercities.org
SUMMARY:Vallejo Sister City Association Monthly Meeting
DESCRIPTION:Vallejo Sister City Association
URL:https://norcalsistercities.org/events/vallejo-sister-city-association-monthly-meeting/2026-04-09/
LOCATION:Vallejo John F. Kennedy Library – Sister City Room\, 505 Santa Clara Street\, Vallejo\, CA\, 94590\, United States
ATTACH;FMTTYPE=image/jpeg:https://norcalsistercities.org/wp-content/uploads/2026/04/Vallejo-Sister-City-Association.jpg
END:VEVENT
BEGIN:VEVENT
DTSTART;TZID=America/Los_Angeles:20260405T140000
DTEND;TZID=America/Los_Angeles:20260405T153000
DTSTAMP:20260423T125938
CREATED:20260320T231506Z
LAST-MODIFIED:20260419T232047Z
UID:10001174-1775397600-1775403000@norcalsistercities.org
SUMMARY:Vallejo Fall 2026 Delegation Trip to Bagamoyo\, Tanzania Monthly Planning Meeting
DESCRIPTION:The Vallejo Sister City Association (VSCA) is thrilled to announce plans for an exciting international delegation to our sister city of Bagamoyo\, Tanzania\, scheduled for fall 2026. Community members are invited to be part of this once-in-a-lifetime cultural exchange experience – and the journey begins now. \nRooted in VSCA’s mission to promote peace through mutual respect\, understanding\, and cooperation – one individual\, one community at a time – this delegation allows participants to build meaningful global relationships through person-to-person diplomacy. \nBagamoyo\, a historic coastal town known for its rich cultural heritage\, vibrant arts scene\, and warm hospitality\, has long been a valued sister city partner. The fall 2026 delegation will focus on cultural exchange\, educational collaboration\, youth engagement\, and strengthening economic and community ties between our cities. Planned activities include meetings with local leaders\, school visits\, cultural performances\, historical tours\, and community service opportunities. \n“This is more than a trip – it’s an opportunity to represent our community abroad and deepen friendships that foster global understanding\,” said a VSCA delegation organizer. “We welcome residents\, educators\, artists\, business leaders\, students and families who are interested in being cultural ambassadors.” \nJoin the Planning Process\nVSCA invites interested community members to go to monthly delegation planning meetings\, held on the first Sunday of each month. The meetings will be held from 2-3:30 p.m. in the Vallejo Sister City Room at JFK Library. These meetings provide important information about: \n• Travel itinerary and timeline\n• Cultural preparation and expectations\n• Fundraising opportunities\n• Youth and student participation\n• Partnership and exchange initiatives \nWhether you are ready to commit or curious to learn more\, your participation in the planning process is encouraged. \nBy joining the delegation\, participants will not only explore the beauty and history of Bagamoyo but also contribute to strengthening the bridge between Vallejo and Tanzania for generations to come. \nFor more information about the fall 2026 Delegation to Bagamoyo and upcoming meeting details\, community members are encouraged to go to the next planning session on the first Sunday of the month. \nTogether\, we continue building global friendships – one community at a time. \nVallejo Sister City Association
URL:https://norcalsistercities.org/events/vallejo-fall-2026-delegation-trip-to-bagamoyo-tanzania-monthly-planning-meeting/2026-04-05/
LOCATION:Vallejo John F. Kennedy Library – Sister City Room\, 505 Santa Clara Street\, Vallejo\, CA\, 94590\, United States
CATEGORIES:Meetings
ATTACH;FMTTYPE=image/jpeg:https://norcalsistercities.org/wp-content/uploads/2026/04/PlanningMeetingBagamoyoTanzania.jpg
END:VEVENT
BEGIN:VEVENT
DTSTART;TZID=America/Los_Angeles:20260329T140000
DTEND;TZID=America/Los_Angeles:20260329T160000
DTSTAMP:20260423T125938
CREATED:20260302T000228Z
LAST-MODIFIED:20260419T231114Z
UID:10001173-1774792800-1774800000@norcalsistercities.org
SUMMARY:Vallejo Sister City Association - Annual Tea Gathering
DESCRIPTION:On behalf of the Vallejo Sister City Association (VSCA)\, we are delighted to extend a warm invitation to you for our upcoming Tea Gathering Event\, hosted by Keiko Perri and performed by the Hagiwara Tea Group.  This event helps to commemorate and celebrate our 58-year relationship with our sister city with Akashi\, Japan. \n📅 Date: Sunday\, March 29\, 2026\n⏰ Time: 2-4 p.m.\n📍 Location: JFK Library\, Joseph Room\, 505 Santa Clara Street\, Vallejo\, CA \nThis special gathering offers a unique opportunity to experience the beauty and serenity of a traditional tea ceremony while celebrating cultural heritage and fostering meaningful connections within our community. Your presence would be an incredible honor\, and we would be grateful for the chance to share this experience with you. \nWe truly hope you can join us for this enriching and memorable event.  We look forward to welcoming you with warmth and gratitude. \nVallejo Sister City Association
URL:https://norcalsistercities.org/events/vallejo-sister-city-association-annual-tea-gathering/
LOCATION:JFK Library – Joseph Room\, 505 Santa Clara St.\, Vallejo\, 94590\, United States
ATTACH;FMTTYPE=image/jpeg:https://norcalsistercities.org/wp-content/uploads/2026/04/2026-Vallejo-Tea-Gathering.jpg
END:VEVENT
BEGIN:VEVENT
DTSTART;TZID=America/Los_Angeles:20240407T140000
DTEND;TZID=America/Los_Angeles:20240407T160000
DTSTAMP:20260423T125938
CREATED:20240402T040943Z
LAST-MODIFIED:20240402T041344Z
UID:10000521-1712498400-1712505600@norcalsistercities.org
SUMMARY:Annual Tea Gathering
DESCRIPTION:The Vallejo Sister City Association and the Vallejo Sister City Commission invites you to join us for a traditional Japanese event in celebration of our 56th year relationship with sister city\, Akashi\, Japan. \nOur mission is to promote peace through mutual respect\, understanding\, and cooperation – one individual\, one community at a time. \nVallejo Sister City Association
URL:https://norcalsistercities.org/events/annual-tea-gathering/
LOCATION:JFK Library – Joseph Room\, 505 Santa Clara St.\, Vallejo\, 94590\, United States
ATTACH;FMTTYPE=image/jpeg:https://norcalsistercities.org/wp-content/uploads/2024/04/Vallejo-Tea-Gathering.jpg
END:VEVENT
BEGIN:VEVENT
DTSTART;TZID=America/Los_Angeles:20230923T180000
DTEND;TZID=America/Los_Angeles:20230923T220000
DTSTAMP:20260423T125938
CREATED:20230713T003542Z
LAST-MODIFIED:20230716T033653Z
UID:10000060-1695492000-1695506400@norcalsistercities.org
SUMMARY:Annual Vallejo Sister City Association International Dinner and Auction (Year 17)
DESCRIPTION:International dinner featuring foods from around the world! \nFeaturing\n\nRegional foods from each of Vallejo’s six Sister Cities and three Friendship Cities around the world\nLive and silent auction\nNo-host bar\nPrizes\nEntertainment\n\nThis year’s theme is “Philippines”\, with spectacular cultural performances. \nVallejo Sister City Association
URL:https://norcalsistercities.org/events/annual-international-dinner-auction-year-17-2/
LOCATION:Filipino Community Center\, 611 Amador Street\, Vallejo\, CA\, 94590\, United States
ATTACH;FMTTYPE=image/jpeg:https://norcalsistercities.org/wp-content/uploads/2023/07/Vallejo-Annual-International-Dinner-and-Auction-1.jpg
END:VEVENT
END:VCALENDAR