BEGIN:VCALENDAR
VERSION:2.0
PRODID:-//Northern California Chapter of Sister Cities International - ECPv6.15.20//NONSGML v1.0//EN
CALSCALE:GREGORIAN
METHOD:PUBLISH
X-WR-CALNAME:Northern California Chapter of Sister Cities International
X-ORIGINAL-URL:https://norcalsistercities.org
X-WR-CALDESC:Events for Northern California Chapter of Sister Cities International
REFRESH-INTERVAL;VALUE=DURATION:PT1H
X-Robots-Tag:noindex
X-PUBLISHED-TTL:PT1H
BEGIN:VTIMEZONE
TZID:America/Los_Angeles
BEGIN:DAYLIGHT
TZOFFSETFROM:-0800
TZOFFSETTO:-0700
TZNAME:PDT
DTSTART:20220313T100000
END:DAYLIGHT
BEGIN:STANDARD
TZOFFSETFROM:-0700
TZOFFSETTO:-0800
TZNAME:PST
DTSTART:20221106T090000
END:STANDARD
BEGIN:DAYLIGHT
TZOFFSETFROM:-0800
TZOFFSETTO:-0700
TZNAME:PDT
DTSTART:20230312T100000
END:DAYLIGHT
BEGIN:STANDARD
TZOFFSETFROM:-0700
TZOFFSETTO:-0800
TZNAME:PST
DTSTART:20231105T090000
END:STANDARD
BEGIN:DAYLIGHT
TZOFFSETFROM:-0800
TZOFFSETTO:-0700
TZNAME:PDT
DTSTART:20240310T100000
END:DAYLIGHT
BEGIN:STANDARD
TZOFFSETFROM:-0700
TZOFFSETTO:-0800
TZNAME:PST
DTSTART:20241103T090000
END:STANDARD
END:VTIMEZONE
BEGIN:VEVENT
DTSTART;TZID=America/Los_Angeles:20231021T100000
DTEND;TZID=America/Los_Angeles:20231021T110000
DTSTAMP:20260423T203634
CREATED:20231004T211859Z
LAST-MODIFIED:20231004T211859Z
UID:10000442-1697882400-1697886000@norcalsistercities.org
SUMMARY:Info Session: Sebastopol-Takeo 2024-2025 exchange program
DESCRIPTION:After the 3-year break\, we are excited to bring our student exchange program back! \nSebastopol World Friends invites Sebastopol students and their families to learn about the 2024-2025 exchange program with our sister city\, Takeo\, Japan. \n7th and 8th grade students who are attending a middle school in Sebastopol or living in Sebastopol are eligible to apply. \nThe application process and the hosting and travel overview will be presented at the information meetings. \nStudents and parents/guardians are strongly encouraged to attend. \nFinancial assistance and a full scholarship are available. \nFor more information\, contact takeo@sebastopolwf.org. \nAnaly High School Library
URL:https://norcalsistercities.org/events/info-session-sebastopol-takeo-2024-2025-exchange-program-3/
LOCATION:Analy High School Library\, 6950 Analy Avenue\, Sebastopol\, CA\, 95472\, United States
ATTACH;FMTTYPE=image/jpeg:https://norcalsistercities.org/wp-content/uploads/2023/10/sebastopol-street_SWF.jpg
END:VEVENT
BEGIN:VEVENT
DTSTART;TZID=America/Los_Angeles:20231016T180000
DTEND;TZID=America/Los_Angeles:20231016T190000
DTSTAMP:20260423T203634
CREATED:20231004T211629Z
LAST-MODIFIED:20231004T211629Z
UID:10000440-1697479200-1697482800@norcalsistercities.org
SUMMARY:Info Session: Sebastopol-Takeo 2024-2025 exchange program
DESCRIPTION:After the 3-year break\, we are excited to bring our student exchange program back! \nSebastopol World Friends invites Sebastopol students and their families to learn about the 2024-2025 exchange program with our sister city\, Takeo\, Japan. \n7th and 8th grade students who are attending a middle school in Sebastopol or living in Sebastopol are eligible to apply. \nThe application process and the hosting and travel overview will be presented at the information meetings. \nStudents and parents/guardians are strongly encouraged to attend one of the following meetings: \n\nMonday 10/16/2023 at 6 p.m. at Analy High School Library\nThursday 10/19/2023 at 6 p.m. Online (Please register to receive Zoom link)\nSaturday 10/21/2023 at 10 a.m. at Analy High School Library\n\nFinancial assistance and a full scholarship are available. \nFor more information\, contact takeo@sebastopolwf.org. \nAnaly High School Library
URL:https://norcalsistercities.org/events/info-session-sebastopol-takeo-2024-2025-exchange-program/
LOCATION:Analy High School Library\, 6950 Analy Avenue\, Sebastopol\, CA\, 95472\, United States
ATTACH;FMTTYPE=image/jpeg:https://norcalsistercities.org/wp-content/uploads/2023/10/sebastopol-street_SWF.jpg
END:VEVENT
END:VCALENDAR