BEGIN:VCALENDAR
VERSION:2.0
PRODID:-//Northern California Chapter of Sister Cities International - ECPv6.15.20//NONSGML v1.0//EN
CALSCALE:GREGORIAN
METHOD:PUBLISH
X-ORIGINAL-URL:https://norcalsistercities.org
X-WR-CALDESC:Events for Northern California Chapter of Sister Cities International
REFRESH-INTERVAL;VALUE=DURATION:PT1H
X-Robots-Tag:noindex
X-PUBLISHED-TTL:PT1H
BEGIN:VTIMEZONE
TZID:America/Los_Angeles
BEGIN:DAYLIGHT
TZOFFSETFROM:-0800
TZOFFSETTO:-0700
TZNAME:PDT
DTSTART:20250309T100000
END:DAYLIGHT
BEGIN:STANDARD
TZOFFSETFROM:-0700
TZOFFSETTO:-0800
TZNAME:PST
DTSTART:20251102T090000
END:STANDARD
BEGIN:DAYLIGHT
TZOFFSETFROM:-0800
TZOFFSETTO:-0700
TZNAME:PDT
DTSTART:20260308T100000
END:DAYLIGHT
BEGIN:STANDARD
TZOFFSETFROM:-0700
TZOFFSETTO:-0800
TZNAME:PST
DTSTART:20261101T090000
END:STANDARD
BEGIN:DAYLIGHT
TZOFFSETFROM:-0800
TZOFFSETTO:-0700
TZNAME:PDT
DTSTART:20270314T100000
END:DAYLIGHT
BEGIN:STANDARD
TZOFFSETFROM:-0700
TZOFFSETTO:-0800
TZNAME:PST
DTSTART:20271107T090000
END:STANDARD
BEGIN:DAYLIGHT
TZOFFSETFROM:-0800
TZOFFSETTO:-0700
TZNAME:PDT
DTSTART:20280312T100000
END:DAYLIGHT
BEGIN:STANDARD
TZOFFSETFROM:-0700
TZOFFSETTO:-0800
TZNAME:PST
DTSTART:20281105T090000
END:STANDARD
BEGIN:DAYLIGHT
TZOFFSETFROM:-0800
TZOFFSETTO:-0700
TZNAME:PDT
DTSTART:20290311T100000
END:DAYLIGHT
BEGIN:STANDARD
TZOFFSETFROM:-0700
TZOFFSETTO:-0800
TZNAME:PST
DTSTART:20291104T090000
END:STANDARD
BEGIN:DAYLIGHT
TZOFFSETFROM:-0800
TZOFFSETTO:-0700
TZNAME:PDT
DTSTART:20300310T100000
END:DAYLIGHT
BEGIN:STANDARD
TZOFFSETFROM:-0700
TZOFFSETTO:-0800
TZNAME:PST
DTSTART:20301103T090000
END:STANDARD
END:VTIMEZONE
BEGIN:VEVENT
DTSTART;TZID=America/Los_Angeles:20260528T190000
DTEND;TZID=America/Los_Angeles:20260528T200000
DTSTAMP:20260423T125748
CREATED:20241020T220610Z
LAST-MODIFIED:20241020T220613Z
UID:10000661-1779994800-1779998400@norcalsistercities.org
SUMMARY:Morgan Hill Sister Cities meeting
DESCRIPTION:Join us anytime! Meetings always welcome the general public. \nSister Cities is an all-volunteer\, membership organization formed in 2002. \nWe currently host relationships with six international cities in Italy\, Turkey\, Mexico\, Japan and Ireland. \nCentennial Recreation Center – Senior Center
URL:https://norcalsistercities.org/events/morgan-hill-sister-cities-meeting-3-2/2026-05-28/
LOCATION:Centennial Recreation Center – Senior Center\, 171 W Edmundson Avenue\, Morgan Hill\, CA\, 95037\, United States
CATEGORIES:Meetings
ATTACH;FMTTYPE=image/jpeg:https://norcalsistercities.org/wp-content/uploads/2023/09/Morgan-Hill-Sister-Cities.jpg
ORGANIZER;CN="Morgan Hill Sister Cities":MAILTO:johnkelley103@gmail.com
END:VEVENT
BEGIN:VEVENT
DTSTART;TZID=America/Los_Angeles:20260723T190000
DTEND;TZID=America/Los_Angeles:20260723T200000
DTSTAMP:20260423T125748
CREATED:20241020T220610Z
LAST-MODIFIED:20241020T220613Z
UID:10000662-1784833200-1784836800@norcalsistercities.org
SUMMARY:Morgan Hill Sister Cities meeting
DESCRIPTION:Join us anytime! Meetings always welcome the general public. \nSister Cities is an all-volunteer\, membership organization formed in 2002. \nWe currently host relationships with six international cities in Italy\, Turkey\, Mexico\, Japan and Ireland. \nCentennial Recreation Center – Senior Center
URL:https://norcalsistercities.org/events/morgan-hill-sister-cities-meeting-3-2/2026-07-23/
LOCATION:Centennial Recreation Center – Senior Center\, 171 W Edmundson Avenue\, Morgan Hill\, CA\, 95037\, United States
CATEGORIES:Meetings
ATTACH;FMTTYPE=image/jpeg:https://norcalsistercities.org/wp-content/uploads/2023/09/Morgan-Hill-Sister-Cities.jpg
ORGANIZER;CN="Morgan Hill Sister Cities":MAILTO:johnkelley103@gmail.com
END:VEVENT
BEGIN:VEVENT
DTSTART;TZID=America/Los_Angeles:20260924T190000
DTEND;TZID=America/Los_Angeles:20260924T200000
DTSTAMP:20260423T125748
CREATED:20241020T220610Z
LAST-MODIFIED:20241020T220613Z
UID:10000663-1790276400-1790280000@norcalsistercities.org
SUMMARY:Morgan Hill Sister Cities meeting
DESCRIPTION:Join us anytime! Meetings always welcome the general public. \nSister Cities is an all-volunteer\, membership organization formed in 2002. \nWe currently host relationships with six international cities in Italy\, Turkey\, Mexico\, Japan and Ireland. \nCentennial Recreation Center – Senior Center
URL:https://norcalsistercities.org/events/morgan-hill-sister-cities-meeting-3-2/2026-09-24/
LOCATION:Centennial Recreation Center – Senior Center\, 171 W Edmundson Avenue\, Morgan Hill\, CA\, 95037\, United States
CATEGORIES:Meetings
ATTACH;FMTTYPE=image/jpeg:https://norcalsistercities.org/wp-content/uploads/2023/09/Morgan-Hill-Sister-Cities.jpg
ORGANIZER;CN="Morgan Hill Sister Cities":MAILTO:johnkelley103@gmail.com
END:VEVENT
BEGIN:VEVENT
DTSTART;TZID=America/Los_Angeles:20261126T190000
DTEND;TZID=America/Los_Angeles:20261126T200000
DTSTAMP:20260423T125748
CREATED:20241020T220610Z
LAST-MODIFIED:20241020T220613Z
UID:10000664-1795719600-1795723200@norcalsistercities.org
SUMMARY:Morgan Hill Sister Cities meeting
DESCRIPTION:Join us anytime! Meetings always welcome the general public. \nSister Cities is an all-volunteer\, membership organization formed in 2002. \nWe currently host relationships with six international cities in Italy\, Turkey\, Mexico\, Japan and Ireland. \nCentennial Recreation Center – Senior Center
URL:https://norcalsistercities.org/events/morgan-hill-sister-cities-meeting-3-2/2026-11-26/
LOCATION:Centennial Recreation Center – Senior Center\, 171 W Edmundson Avenue\, Morgan Hill\, CA\, 95037\, United States
CATEGORIES:Meetings
ATTACH;FMTTYPE=image/jpeg:https://norcalsistercities.org/wp-content/uploads/2023/09/Morgan-Hill-Sister-Cities.jpg
ORGANIZER;CN="Morgan Hill Sister Cities":MAILTO:johnkelley103@gmail.com
END:VEVENT
BEGIN:VEVENT
DTSTART;TZID=America/Los_Angeles:20270128T190000
DTEND;TZID=America/Los_Angeles:20270128T200000
DTSTAMP:20260423T125748
CREATED:20241020T220610Z
LAST-MODIFIED:20241020T220613Z
UID:10000665-1801162800-1801166400@norcalsistercities.org
SUMMARY:Morgan Hill Sister Cities meeting
DESCRIPTION:Join us anytime! Meetings always welcome the general public. \nSister Cities is an all-volunteer\, membership organization formed in 2002. \nWe currently host relationships with six international cities in Italy\, Turkey\, Mexico\, Japan and Ireland. \nCentennial Recreation Center – Senior Center
URL:https://norcalsistercities.org/events/morgan-hill-sister-cities-meeting-3-2/2027-01-28/
LOCATION:Centennial Recreation Center – Senior Center\, 171 W Edmundson Avenue\, Morgan Hill\, CA\, 95037\, United States
CATEGORIES:Meetings
ATTACH;FMTTYPE=image/jpeg:https://norcalsistercities.org/wp-content/uploads/2023/09/Morgan-Hill-Sister-Cities.jpg
ORGANIZER;CN="Morgan Hill Sister Cities":MAILTO:johnkelley103@gmail.com
END:VEVENT
BEGIN:VEVENT
DTSTART;TZID=America/Los_Angeles:20270325T190000
DTEND;TZID=America/Los_Angeles:20270325T200000
DTSTAMP:20260423T125748
CREATED:20241020T220610Z
LAST-MODIFIED:20241020T220613Z
UID:10000666-1806001200-1806004800@norcalsistercities.org
SUMMARY:Morgan Hill Sister Cities meeting
DESCRIPTION:Join us anytime! Meetings always welcome the general public. \nSister Cities is an all-volunteer\, membership organization formed in 2002. \nWe currently host relationships with six international cities in Italy\, Turkey\, Mexico\, Japan and Ireland. \nCentennial Recreation Center – Senior Center
URL:https://norcalsistercities.org/events/morgan-hill-sister-cities-meeting-3-2/2027-03-25/
LOCATION:Centennial Recreation Center – Senior Center\, 171 W Edmundson Avenue\, Morgan Hill\, CA\, 95037\, United States
CATEGORIES:Meetings
ATTACH;FMTTYPE=image/jpeg:https://norcalsistercities.org/wp-content/uploads/2023/09/Morgan-Hill-Sister-Cities.jpg
ORGANIZER;CN="Morgan Hill Sister Cities":MAILTO:johnkelley103@gmail.com
END:VEVENT
BEGIN:VEVENT
DTSTART;TZID=America/Los_Angeles:20270527T190000
DTEND;TZID=America/Los_Angeles:20270527T200000
DTSTAMP:20260423T125748
CREATED:20241020T220610Z
LAST-MODIFIED:20241020T220613Z
UID:10000667-1811444400-1811448000@norcalsistercities.org
SUMMARY:Morgan Hill Sister Cities meeting
DESCRIPTION:Join us anytime! Meetings always welcome the general public. \nSister Cities is an all-volunteer\, membership organization formed in 2002. \nWe currently host relationships with six international cities in Italy\, Turkey\, Mexico\, Japan and Ireland. \nCentennial Recreation Center – Senior Center
URL:https://norcalsistercities.org/events/morgan-hill-sister-cities-meeting-3-2/2027-05-27/
LOCATION:Centennial Recreation Center – Senior Center\, 171 W Edmundson Avenue\, Morgan Hill\, CA\, 95037\, United States
CATEGORIES:Meetings
ATTACH;FMTTYPE=image/jpeg:https://norcalsistercities.org/wp-content/uploads/2023/09/Morgan-Hill-Sister-Cities.jpg
ORGANIZER;CN="Morgan Hill Sister Cities":MAILTO:johnkelley103@gmail.com
END:VEVENT
BEGIN:VEVENT
DTSTART;TZID=America/Los_Angeles:20270722T190000
DTEND;TZID=America/Los_Angeles:20270722T200000
DTSTAMP:20260423T125748
CREATED:20241020T220610Z
LAST-MODIFIED:20241020T220613Z
UID:10000668-1816282800-1816286400@norcalsistercities.org
SUMMARY:Morgan Hill Sister Cities meeting
DESCRIPTION:Join us anytime! Meetings always welcome the general public. \nSister Cities is an all-volunteer\, membership organization formed in 2002. \nWe currently host relationships with six international cities in Italy\, Turkey\, Mexico\, Japan and Ireland. \nCentennial Recreation Center – Senior Center
URL:https://norcalsistercities.org/events/morgan-hill-sister-cities-meeting-3-2/2027-07-22/
LOCATION:Centennial Recreation Center – Senior Center\, 171 W Edmundson Avenue\, Morgan Hill\, CA\, 95037\, United States
CATEGORIES:Meetings
ATTACH;FMTTYPE=image/jpeg:https://norcalsistercities.org/wp-content/uploads/2023/09/Morgan-Hill-Sister-Cities.jpg
ORGANIZER;CN="Morgan Hill Sister Cities":MAILTO:johnkelley103@gmail.com
END:VEVENT
BEGIN:VEVENT
DTSTART;TZID=America/Los_Angeles:20270923T190000
DTEND;TZID=America/Los_Angeles:20270923T200000
DTSTAMP:20260423T125748
CREATED:20241020T220610Z
LAST-MODIFIED:20241020T220613Z
UID:10000669-1821726000-1821729600@norcalsistercities.org
SUMMARY:Morgan Hill Sister Cities meeting
DESCRIPTION:Join us anytime! Meetings always welcome the general public. \nSister Cities is an all-volunteer\, membership organization formed in 2002. \nWe currently host relationships with six international cities in Italy\, Turkey\, Mexico\, Japan and Ireland. \nCentennial Recreation Center – Senior Center
URL:https://norcalsistercities.org/events/morgan-hill-sister-cities-meeting-3-2/2027-09-23/
LOCATION:Centennial Recreation Center – Senior Center\, 171 W Edmundson Avenue\, Morgan Hill\, CA\, 95037\, United States
CATEGORIES:Meetings
ATTACH;FMTTYPE=image/jpeg:https://norcalsistercities.org/wp-content/uploads/2023/09/Morgan-Hill-Sister-Cities.jpg
ORGANIZER;CN="Morgan Hill Sister Cities":MAILTO:johnkelley103@gmail.com
END:VEVENT
BEGIN:VEVENT
DTSTART;TZID=America/Los_Angeles:20271125T190000
DTEND;TZID=America/Los_Angeles:20271125T200000
DTSTAMP:20260423T125748
CREATED:20241020T220610Z
LAST-MODIFIED:20241020T220613Z
UID:10000670-1827169200-1827172800@norcalsistercities.org
SUMMARY:Morgan Hill Sister Cities meeting
DESCRIPTION:Join us anytime! Meetings always welcome the general public. \nSister Cities is an all-volunteer\, membership organization formed in 2002. \nWe currently host relationships with six international cities in Italy\, Turkey\, Mexico\, Japan and Ireland. \nCentennial Recreation Center – Senior Center
URL:https://norcalsistercities.org/events/morgan-hill-sister-cities-meeting-3-2/2027-11-25/
LOCATION:Centennial Recreation Center – Senior Center\, 171 W Edmundson Avenue\, Morgan Hill\, CA\, 95037\, United States
CATEGORIES:Meetings
ATTACH;FMTTYPE=image/jpeg:https://norcalsistercities.org/wp-content/uploads/2023/09/Morgan-Hill-Sister-Cities.jpg
ORGANIZER;CN="Morgan Hill Sister Cities":MAILTO:johnkelley103@gmail.com
END:VEVENT
BEGIN:VEVENT
DTSTART;TZID=America/Los_Angeles:20280127T190000
DTEND;TZID=America/Los_Angeles:20280127T200000
DTSTAMP:20260423T125748
CREATED:20241020T220610Z
LAST-MODIFIED:20241020T220613Z
UID:10000671-1832612400-1832616000@norcalsistercities.org
SUMMARY:Morgan Hill Sister Cities meeting
DESCRIPTION:Join us anytime! Meetings always welcome the general public. \nSister Cities is an all-volunteer\, membership organization formed in 2002. \nWe currently host relationships with six international cities in Italy\, Turkey\, Mexico\, Japan and Ireland. \nCentennial Recreation Center – Senior Center
URL:https://norcalsistercities.org/events/morgan-hill-sister-cities-meeting-3-2/2028-01-27/
LOCATION:Centennial Recreation Center – Senior Center\, 171 W Edmundson Avenue\, Morgan Hill\, CA\, 95037\, United States
CATEGORIES:Meetings
ATTACH;FMTTYPE=image/jpeg:https://norcalsistercities.org/wp-content/uploads/2023/09/Morgan-Hill-Sister-Cities.jpg
ORGANIZER;CN="Morgan Hill Sister Cities":MAILTO:johnkelley103@gmail.com
END:VEVENT
BEGIN:VEVENT
DTSTART;TZID=America/Los_Angeles:20280323T190000
DTEND;TZID=America/Los_Angeles:20280323T200000
DTSTAMP:20260423T125748
CREATED:20241020T220610Z
LAST-MODIFIED:20241020T220613Z
UID:10000672-1837450800-1837454400@norcalsistercities.org
SUMMARY:Morgan Hill Sister Cities meeting
DESCRIPTION:Join us anytime! Meetings always welcome the general public. \nSister Cities is an all-volunteer\, membership organization formed in 2002. \nWe currently host relationships with six international cities in Italy\, Turkey\, Mexico\, Japan and Ireland. \nCentennial Recreation Center – Senior Center
URL:https://norcalsistercities.org/events/morgan-hill-sister-cities-meeting-3-2/2028-03-23/
LOCATION:Centennial Recreation Center – Senior Center\, 171 W Edmundson Avenue\, Morgan Hill\, CA\, 95037\, United States
CATEGORIES:Meetings
ATTACH;FMTTYPE=image/jpeg:https://norcalsistercities.org/wp-content/uploads/2023/09/Morgan-Hill-Sister-Cities.jpg
ORGANIZER;CN="Morgan Hill Sister Cities":MAILTO:johnkelley103@gmail.com
END:VEVENT
BEGIN:VEVENT
DTSTART;TZID=America/Los_Angeles:20280525T190000
DTEND;TZID=America/Los_Angeles:20280525T200000
DTSTAMP:20260423T125748
CREATED:20241020T220610Z
LAST-MODIFIED:20241020T220613Z
UID:10000673-1842894000-1842897600@norcalsistercities.org
SUMMARY:Morgan Hill Sister Cities meeting
DESCRIPTION:Join us anytime! Meetings always welcome the general public. \nSister Cities is an all-volunteer\, membership organization formed in 2002. \nWe currently host relationships with six international cities in Italy\, Turkey\, Mexico\, Japan and Ireland. \nCentennial Recreation Center – Senior Center
URL:https://norcalsistercities.org/events/morgan-hill-sister-cities-meeting-3-2/2028-05-25/
LOCATION:Centennial Recreation Center – Senior Center\, 171 W Edmundson Avenue\, Morgan Hill\, CA\, 95037\, United States
CATEGORIES:Meetings
ATTACH;FMTTYPE=image/jpeg:https://norcalsistercities.org/wp-content/uploads/2023/09/Morgan-Hill-Sister-Cities.jpg
ORGANIZER;CN="Morgan Hill Sister Cities":MAILTO:johnkelley103@gmail.com
END:VEVENT
BEGIN:VEVENT
DTSTART;TZID=America/Los_Angeles:20280727T190000
DTEND;TZID=America/Los_Angeles:20280727T200000
DTSTAMP:20260423T125748
CREATED:20241020T220610Z
LAST-MODIFIED:20241020T220613Z
UID:10000674-1848337200-1848340800@norcalsistercities.org
SUMMARY:Morgan Hill Sister Cities meeting
DESCRIPTION:Join us anytime! Meetings always welcome the general public. \nSister Cities is an all-volunteer\, membership organization formed in 2002. \nWe currently host relationships with six international cities in Italy\, Turkey\, Mexico\, Japan and Ireland. \nCentennial Recreation Center – Senior Center
URL:https://norcalsistercities.org/events/morgan-hill-sister-cities-meeting-3-2/2028-07-27/
LOCATION:Centennial Recreation Center – Senior Center\, 171 W Edmundson Avenue\, Morgan Hill\, CA\, 95037\, United States
CATEGORIES:Meetings
ATTACH;FMTTYPE=image/jpeg:https://norcalsistercities.org/wp-content/uploads/2023/09/Morgan-Hill-Sister-Cities.jpg
ORGANIZER;CN="Morgan Hill Sister Cities":MAILTO:johnkelley103@gmail.com
END:VEVENT
BEGIN:VEVENT
DTSTART;TZID=America/Los_Angeles:20280928T190000
DTEND;TZID=America/Los_Angeles:20280928T200000
DTSTAMP:20260423T125748
CREATED:20241020T220610Z
LAST-MODIFIED:20241020T220613Z
UID:10000675-1853780400-1853784000@norcalsistercities.org
SUMMARY:Morgan Hill Sister Cities meeting
DESCRIPTION:Join us anytime! Meetings always welcome the general public. \nSister Cities is an all-volunteer\, membership organization formed in 2002. \nWe currently host relationships with six international cities in Italy\, Turkey\, Mexico\, Japan and Ireland. \nCentennial Recreation Center – Senior Center
URL:https://norcalsistercities.org/events/morgan-hill-sister-cities-meeting-3-2/2028-09-28/
LOCATION:Centennial Recreation Center – Senior Center\, 171 W Edmundson Avenue\, Morgan Hill\, CA\, 95037\, United States
CATEGORIES:Meetings
ATTACH;FMTTYPE=image/jpeg:https://norcalsistercities.org/wp-content/uploads/2023/09/Morgan-Hill-Sister-Cities.jpg
ORGANIZER;CN="Morgan Hill Sister Cities":MAILTO:johnkelley103@gmail.com
END:VEVENT
BEGIN:VEVENT
DTSTART;TZID=America/Los_Angeles:20281123T190000
DTEND;TZID=America/Los_Angeles:20281123T200000
DTSTAMP:20260423T125748
CREATED:20241020T220610Z
LAST-MODIFIED:20241020T220613Z
UID:10000676-1858618800-1858622400@norcalsistercities.org
SUMMARY:Morgan Hill Sister Cities meeting
DESCRIPTION:Join us anytime! Meetings always welcome the general public. \nSister Cities is an all-volunteer\, membership organization formed in 2002. \nWe currently host relationships with six international cities in Italy\, Turkey\, Mexico\, Japan and Ireland. \nCentennial Recreation Center – Senior Center
URL:https://norcalsistercities.org/events/morgan-hill-sister-cities-meeting-3-2/2028-11-23/
LOCATION:Centennial Recreation Center – Senior Center\, 171 W Edmundson Avenue\, Morgan Hill\, CA\, 95037\, United States
CATEGORIES:Meetings
ATTACH;FMTTYPE=image/jpeg:https://norcalsistercities.org/wp-content/uploads/2023/09/Morgan-Hill-Sister-Cities.jpg
ORGANIZER;CN="Morgan Hill Sister Cities":MAILTO:johnkelley103@gmail.com
END:VEVENT
BEGIN:VEVENT
DTSTART;TZID=America/Los_Angeles:20290125T190000
DTEND;TZID=America/Los_Angeles:20290125T200000
DTSTAMP:20260423T125748
CREATED:20241020T220610Z
LAST-MODIFIED:20241020T220613Z
UID:10000677-1864062000-1864065600@norcalsistercities.org
SUMMARY:Morgan Hill Sister Cities meeting
DESCRIPTION:Join us anytime! Meetings always welcome the general public. \nSister Cities is an all-volunteer\, membership organization formed in 2002. \nWe currently host relationships with six international cities in Italy\, Turkey\, Mexico\, Japan and Ireland. \nCentennial Recreation Center – Senior Center
URL:https://norcalsistercities.org/events/morgan-hill-sister-cities-meeting-3-2/2029-01-25/
LOCATION:Centennial Recreation Center – Senior Center\, 171 W Edmundson Avenue\, Morgan Hill\, CA\, 95037\, United States
CATEGORIES:Meetings
ATTACH;FMTTYPE=image/jpeg:https://norcalsistercities.org/wp-content/uploads/2023/09/Morgan-Hill-Sister-Cities.jpg
ORGANIZER;CN="Morgan Hill Sister Cities":MAILTO:johnkelley103@gmail.com
END:VEVENT
BEGIN:VEVENT
DTSTART;TZID=America/Los_Angeles:20290322T190000
DTEND;TZID=America/Los_Angeles:20290322T200000
DTSTAMP:20260423T125748
CREATED:20241020T220610Z
LAST-MODIFIED:20241020T220613Z
UID:10000678-1868900400-1868904000@norcalsistercities.org
SUMMARY:Morgan Hill Sister Cities meeting
DESCRIPTION:Join us anytime! Meetings always welcome the general public. \nSister Cities is an all-volunteer\, membership organization formed in 2002. \nWe currently host relationships with six international cities in Italy\, Turkey\, Mexico\, Japan and Ireland. \nCentennial Recreation Center – Senior Center
URL:https://norcalsistercities.org/events/morgan-hill-sister-cities-meeting-3-2/2029-03-22/
LOCATION:Centennial Recreation Center – Senior Center\, 171 W Edmundson Avenue\, Morgan Hill\, CA\, 95037\, United States
CATEGORIES:Meetings
ATTACH;FMTTYPE=image/jpeg:https://norcalsistercities.org/wp-content/uploads/2023/09/Morgan-Hill-Sister-Cities.jpg
ORGANIZER;CN="Morgan Hill Sister Cities":MAILTO:johnkelley103@gmail.com
END:VEVENT
BEGIN:VEVENT
DTSTART;TZID=America/Los_Angeles:20290524T190000
DTEND;TZID=America/Los_Angeles:20290524T200000
DTSTAMP:20260423T125748
CREATED:20241020T220610Z
LAST-MODIFIED:20241020T220613Z
UID:10000679-1874343600-1874347200@norcalsistercities.org
SUMMARY:Morgan Hill Sister Cities meeting
DESCRIPTION:Join us anytime! Meetings always welcome the general public. \nSister Cities is an all-volunteer\, membership organization formed in 2002. \nWe currently host relationships with six international cities in Italy\, Turkey\, Mexico\, Japan and Ireland. \nCentennial Recreation Center – Senior Center
URL:https://norcalsistercities.org/events/morgan-hill-sister-cities-meeting-3-2/2029-05-24/
LOCATION:Centennial Recreation Center – Senior Center\, 171 W Edmundson Avenue\, Morgan Hill\, CA\, 95037\, United States
CATEGORIES:Meetings
ATTACH;FMTTYPE=image/jpeg:https://norcalsistercities.org/wp-content/uploads/2023/09/Morgan-Hill-Sister-Cities.jpg
ORGANIZER;CN="Morgan Hill Sister Cities":MAILTO:johnkelley103@gmail.com
END:VEVENT
BEGIN:VEVENT
DTSTART;TZID=America/Los_Angeles:20290726T190000
DTEND;TZID=America/Los_Angeles:20290726T200000
DTSTAMP:20260423T125748
CREATED:20241020T220610Z
LAST-MODIFIED:20241020T220613Z
UID:10000680-1879786800-1879790400@norcalsistercities.org
SUMMARY:Morgan Hill Sister Cities meeting
DESCRIPTION:Join us anytime! Meetings always welcome the general public. \nSister Cities is an all-volunteer\, membership organization formed in 2002. \nWe currently host relationships with six international cities in Italy\, Turkey\, Mexico\, Japan and Ireland. \nCentennial Recreation Center – Senior Center
URL:https://norcalsistercities.org/events/morgan-hill-sister-cities-meeting-3-2/2029-07-26/
LOCATION:Centennial Recreation Center – Senior Center\, 171 W Edmundson Avenue\, Morgan Hill\, CA\, 95037\, United States
CATEGORIES:Meetings
ATTACH;FMTTYPE=image/jpeg:https://norcalsistercities.org/wp-content/uploads/2023/09/Morgan-Hill-Sister-Cities.jpg
ORGANIZER;CN="Morgan Hill Sister Cities":MAILTO:johnkelley103@gmail.com
END:VEVENT
BEGIN:VEVENT
DTSTART;TZID=America/Los_Angeles:20290927T190000
DTEND;TZID=America/Los_Angeles:20290927T200000
DTSTAMP:20260423T125748
CREATED:20241020T220610Z
LAST-MODIFIED:20241020T220613Z
UID:10000681-1885230000-1885233600@norcalsistercities.org
SUMMARY:Morgan Hill Sister Cities meeting
DESCRIPTION:Join us anytime! Meetings always welcome the general public. \nSister Cities is an all-volunteer\, membership organization formed in 2002. \nWe currently host relationships with six international cities in Italy\, Turkey\, Mexico\, Japan and Ireland. \nCentennial Recreation Center – Senior Center
URL:https://norcalsistercities.org/events/morgan-hill-sister-cities-meeting-3-2/2029-09-27/
LOCATION:Centennial Recreation Center – Senior Center\, 171 W Edmundson Avenue\, Morgan Hill\, CA\, 95037\, United States
CATEGORIES:Meetings
ATTACH;FMTTYPE=image/jpeg:https://norcalsistercities.org/wp-content/uploads/2023/09/Morgan-Hill-Sister-Cities.jpg
ORGANIZER;CN="Morgan Hill Sister Cities":MAILTO:johnkelley103@gmail.com
END:VEVENT
END:VCALENDAR