BEGIN:VCALENDAR
VERSION:2.0
PRODID:-//Northern California Chapter of Sister Cities International - ECPv6.15.20//NONSGML v1.0//EN
CALSCALE:GREGORIAN
METHOD:PUBLISH
X-ORIGINAL-URL:https://norcalsistercities.org
X-WR-CALDESC:Events for Northern California Chapter of Sister Cities International
REFRESH-INTERVAL;VALUE=DURATION:PT1H
X-Robots-Tag:noindex
X-PUBLISHED-TTL:PT1H
BEGIN:VTIMEZONE
TZID:America/Los_Angeles
BEGIN:DAYLIGHT
TZOFFSETFROM:-0800
TZOFFSETTO:-0700
TZNAME:PDT
DTSTART:20240310T100000
END:DAYLIGHT
BEGIN:STANDARD
TZOFFSETFROM:-0700
TZOFFSETTO:-0800
TZNAME:PST
DTSTART:20241103T090000
END:STANDARD
BEGIN:DAYLIGHT
TZOFFSETFROM:-0800
TZOFFSETTO:-0700
TZNAME:PDT
DTSTART:20250309T100000
END:DAYLIGHT
BEGIN:STANDARD
TZOFFSETFROM:-0700
TZOFFSETTO:-0800
TZNAME:PST
DTSTART:20251102T090000
END:STANDARD
BEGIN:DAYLIGHT
TZOFFSETFROM:-0800
TZOFFSETTO:-0700
TZNAME:PDT
DTSTART:20260308T100000
END:DAYLIGHT
BEGIN:STANDARD
TZOFFSETFROM:-0700
TZOFFSETTO:-0800
TZNAME:PST
DTSTART:20261101T090000
END:STANDARD
END:VTIMEZONE
BEGIN:VEVENT
DTSTART;TZID=America/Los_Angeles:20250130T173000
DTEND;TZID=America/Los_Angeles:20250130T193000
DTSTAMP:20260423T170835
CREATED:20250127T163439Z
LAST-MODIFIED:20250127T163851Z
UID:10000714-1738258200-1738265400@norcalsistercities.org
SUMMARY:Celebrate Tet
DESCRIPTION:Join friends to celebrate Tet on Thursday January 30th. Space is limited! \nTet is the Vietnamese celebration of the Lunar New Year. The Lunar New year is celebrated not only in Vietnam\, but also in Mongolia\, Japan\, Korea\, as well as in China and other counties. \nThis informal\, no-host event will be an opportunity to learn more about how the Vietnamese celebrate the Lunar New Year. \nAgain\, space is limited! So\, get there early and remember that Vietnamese dress will be appreciated. \nPlease RSVP to sfhcmcscc@aol.com before Noon\, Jan. 30. Pre-registered guests will be eligible to win a special prize! \nChesty’s Bar and Grille (located inside the Marines’ Memorial Club & Hotel)
URL:https://norcalsistercities.org/events/celebrate-tet/
LOCATION:Chesty’s Bar and Grille (located inside the Marines’ Memorial Club & Hotel)\, 609 Sutter Street\, San Francisco\, CA\, 94102\, United States
ATTACH;FMTTYPE=image/jpeg:https://norcalsistercities.org/wp-content/uploads/2025/01/Tet-banner.jpg
ORGANIZER;CN="San Francisco-Ho Chi Minh City Sister City Committee":MAILTO:sfhcmcscc@aol.com
END:VEVENT
END:VCALENDAR