BEGIN:VCALENDAR
VERSION:2.0
PRODID:-//Northern California Chapter of Sister Cities International - ECPv6.15.20//NONSGML v1.0//EN
CALSCALE:GREGORIAN
METHOD:PUBLISH
X-ORIGINAL-URL:https://norcalsistercities.org
X-WR-CALDESC:Events for Northern California Chapter of Sister Cities International
REFRESH-INTERVAL;VALUE=DURATION:PT1H
X-Robots-Tag:noindex
X-PUBLISHED-TTL:PT1H
BEGIN:VTIMEZONE
TZID:America/Los_Angeles
BEGIN:DAYLIGHT
TZOFFSETFROM:-0800
TZOFFSETTO:-0700
TZNAME:PDT
DTSTART:20220313T100000
END:DAYLIGHT
BEGIN:STANDARD
TZOFFSETFROM:-0700
TZOFFSETTO:-0800
TZNAME:PST
DTSTART:20221106T090000
END:STANDARD
BEGIN:DAYLIGHT
TZOFFSETFROM:-0800
TZOFFSETTO:-0700
TZNAME:PDT
DTSTART:20230312T100000
END:DAYLIGHT
BEGIN:STANDARD
TZOFFSETFROM:-0700
TZOFFSETTO:-0800
TZNAME:PST
DTSTART:20231105T090000
END:STANDARD
BEGIN:DAYLIGHT
TZOFFSETFROM:-0800
TZOFFSETTO:-0700
TZNAME:PDT
DTSTART:20240310T100000
END:DAYLIGHT
BEGIN:STANDARD
TZOFFSETFROM:-0700
TZOFFSETTO:-0800
TZNAME:PST
DTSTART:20241103T090000
END:STANDARD
END:VTIMEZONE
BEGIN:VEVENT
DTSTART;TZID=America/Los_Angeles:20230902T110000
DTEND;TZID=America/Los_Angeles:20230902T123000
DTSTAMP:20260423T192712
CREATED:20230725T215001Z
LAST-MODIFIED:20230725T215001Z
UID:10000240-1693652400-1693657800@norcalsistercities.org
SUMMARY:Origami Crane Workshop with Concord Ambassadors
DESCRIPTION:Join Concord Ambassadors friends who will teach us the basics of this Japanese paper-folding technique. Then add your creations to our collaborative origami display in the library!\nThis program is best for ages 9 and up. \nNo registration required. For accommodation\, please contact the library with 72-hour notice. \nHelp us to make 1\,000 origami paper cranes! We hope to have 1\,000 cranes displayed around the library first to celebrate Peace Day (September 21st) and then the display will be used to welcome a Japanese delegation who will arrive in October 2024 to celebrate 50 years of friendship between Concord\, California and Kitakami\, Japan. \nStop in to see our progress and grab a kit while they’re still available! This is a community project waiting for you. \nThis passive program is possible thanks to the Concord Ambassadors and our Friends of the Concord Library. \nContra Costa County Library – Concord
URL:https://norcalsistercities.org/events/origami-crane-workshop-with-concord-ambassadors/
LOCATION:Contra Costa County Library – Concord\, 2900 Salvio Street\, Concord\, CA\, 94519\, United States
ATTACH;FMTTYPE=image/jpeg:https://norcalsistercities.org/wp-content/uploads/2023/07/Origami-Cranes.jpg
ORGANIZER;CN="Concord Ambassadors":MAILTO:concordambassadors@gmail.com
END:VEVENT
BEGIN:VEVENT
DTSTART;TZID=America/Los_Angeles:20230708T110000
DTEND;TZID=America/Los_Angeles:20230708T123000
DTSTAMP:20260423T192712
CREATED:20230725T215030Z
LAST-MODIFIED:20230725T215030Z
UID:10000241-1688814000-1688819400@norcalsistercities.org
SUMMARY:Origami Crane Workshop with Concord Ambassadors
DESCRIPTION:Join Concord Ambassadors friends who will teach us the basics of this Japanese paper-folding technique. Then add your creations to our collaborative origami display in the library!\nThis program is best for ages 9 and up. \nNo registration required. For accommodation\, please contact the library with 72-hour notice. \nHelp us to make 1\,000 origami paper cranes! We hope to have 1\,000 cranes displayed around the library first to celebrate Peace Day (September 21st) and then the display will be used to welcome a Japanese delegation who will arrive in October 2024 to celebrate 50 years of friendship between Concord\, California and Kitakami\, Japan. \nStop in to see our progress and grab a kit while they’re still available! This is a community project waiting for you. \nThis passive program is possible thanks to the Concord Ambassadors and our Friends of the Concord Library. \nContra Costa County Library – Concord
URL:https://norcalsistercities.org/events/origami-crane-workshop-with-concord-ambassadors-2/
LOCATION:Contra Costa County Library – Concord\, 2900 Salvio Street\, Concord\, CA\, 94519\, United States
ATTACH;FMTTYPE=image/jpeg:https://norcalsistercities.org/wp-content/uploads/2023/07/Origami-Cranes.jpg
ORGANIZER;CN="Concord Ambassadors":MAILTO:concordambassadors@gmail.com
END:VEVENT
END:VCALENDAR