BEGIN:VCALENDAR
VERSION:2.0
PRODID:-//Northern California Chapter of Sister Cities International - ECPv6.15.20//NONSGML v1.0//EN
CALSCALE:GREGORIAN
METHOD:PUBLISH
X-WR-CALNAME:Northern California Chapter of Sister Cities International
X-ORIGINAL-URL:https://norcalsistercities.org
X-WR-CALDESC:Events for Northern California Chapter of Sister Cities International
REFRESH-INTERVAL;VALUE=DURATION:PT1H
X-Robots-Tag:noindex
X-PUBLISHED-TTL:PT1H
BEGIN:VTIMEZONE
TZID:America/Los_Angeles
BEGIN:DAYLIGHT
TZOFFSETFROM:-0800
TZOFFSETTO:-0700
TZNAME:PDT
DTSTART:20220313T100000
END:DAYLIGHT
BEGIN:STANDARD
TZOFFSETFROM:-0700
TZOFFSETTO:-0800
TZNAME:PST
DTSTART:20221106T090000
END:STANDARD
BEGIN:DAYLIGHT
TZOFFSETFROM:-0800
TZOFFSETTO:-0700
TZNAME:PDT
DTSTART:20230312T100000
END:DAYLIGHT
BEGIN:STANDARD
TZOFFSETFROM:-0700
TZOFFSETTO:-0800
TZNAME:PST
DTSTART:20231105T090000
END:STANDARD
BEGIN:DAYLIGHT
TZOFFSETFROM:-0800
TZOFFSETTO:-0700
TZNAME:PDT
DTSTART:20240310T100000
END:DAYLIGHT
BEGIN:STANDARD
TZOFFSETFROM:-0700
TZOFFSETTO:-0800
TZNAME:PST
DTSTART:20241103T090000
END:STANDARD
BEGIN:DAYLIGHT
TZOFFSETFROM:-0800
TZOFFSETTO:-0700
TZNAME:PDT
DTSTART:20250309T100000
END:DAYLIGHT
BEGIN:STANDARD
TZOFFSETFROM:-0700
TZOFFSETTO:-0800
TZNAME:PST
DTSTART:20251102T090000
END:STANDARD
END:VTIMEZONE
BEGIN:VEVENT
DTSTART;TZID=America/Los_Angeles:20240125T173000
DTEND;TZID=America/Los_Angeles:20240125T203000
DTSTAMP:20260423T192442
CREATED:20240122T035233Z
LAST-MODIFIED:20240122T035233Z
UID:10000493-1706203800-1706214600@norcalsistercities.org
SUMMARY:Tet - Celebrate the Lunar New Year
DESCRIPTION:CHUC MUNG NAM MOI! \nTET will begin on the eve of January 24 and we will celebrate it on Thursday\, the 25th! \nJoin members of the Committee\, friends\, and neighbors\, and learn more about the traditions of TET and what it means to the Vietnamese community. Enjoy your favorite libation and food at the Le Colonial Restaurant and meet and greet new and old friends who share your interest in all things Vietnamese. \nEarly arrivals will get a traditional gift \nBusiness Card Drawing \nNo Host Bar and Dinner Available \nRSVP: sfhcmcscc@aol.com or 415-240-1551 \nLe Colonial Restaurant
URL:https://norcalsistercities.org/events/tet-celebrate-the-lunar-new-year/
LOCATION:Le Colonial Restaurant\, 20 Cosmo Place\, San Francisco\, CA\, 94109\, United States
ATTACH;FMTTYPE=image/jpeg:https://norcalsistercities.org/wp-content/uploads/2024/01/Tet-Flower-Festival-2012-Dragon.jpg
ORGANIZER;CN="San Francisco-Ho Chi Minh City Sister City Committee":MAILTO:sfhcmcscc@aol.com
END:VEVENT
BEGIN:VEVENT
DTSTART;TZID=America/Los_Angeles:20231026T173000
DTEND;TZID=America/Los_Angeles:20231026T203000
DTSTAMP:20260423T192442
CREATED:20231024T185155Z
LAST-MODIFIED:20231024T190901Z
UID:10000451-1698341400-1698352200@norcalsistercities.org
SUMMARY:Discuss US – Vietnam  Programs and Initiatives
DESCRIPTION:For almost 30 years the San Francisco – Ho Chi Minh City Sister City Committee has been engaged in programs that have bought the peoples of the United States and Vietnam closer together in an atmosphere of peace and cooperation. These programs have been responsible for improving the quality of life for ordinary citizens of the city that was once named Saigon. Some of the forums and convention/trade shows have involved healthcare\, economic and trade forums\, biotechnology art\, culture\, transportation\, urban planning and more. \nAt the present time the Committee is exploring the design\, construction and operation of facilities related to the care of senior citizens and children. Another program that is being explored with a major international “donor”\, is the examination and treatment of the vision of primary school children. \nThe Committee has been responsible for promoting the improvement of the air quality of Vietnam\, and specially in in Ho Chi Minh City\, assisting in the modernization and building the General Sciences Library in its Sister City\, in cooperation with the San Francisco public library. \nWe are thankful to the citizens of the US\, and in particular people from the San Francisco Bay Area for supporting these efforts. We are looking for more ideas as to how we can help the people of our Sister City and in general\, the people of Vietnam to improve their lives. \nBring your ideas and suggestions to the meetup and share your ideas with people of like mind. \nAfter the meeting enjoy exquisite Vietnamese cuisine prepared by Executive Chef\, Geoffrey Deetz. \nYou may win a door prize \nRSVP to sfhcmcscc@aol.com or by phone to 415-240-1551 \nLe Colonial Restaurant
URL:https://norcalsistercities.org/events/discuss-us-vietnam-programs-and-initiatives/
LOCATION:Le Colonial Restaurant\, 20 Cosmo Place\, San Francisco\, CA\, 94109\, United States
ATTACH;FMTTYPE=image/jpeg:https://norcalsistercities.org/wp-content/uploads/2023/10/vietnam_usa-flags.jpg
ORGANIZER;CN="San Francisco-Ho Chi Minh City Sister City Committee":MAILTO:sfhcmcscc@aol.com
END:VEVENT
END:VCALENDAR