BEGIN:VCALENDAR
VERSION:2.0
PRODID:-//Northern California Chapter of Sister Cities International - ECPv6.15.20//NONSGML v1.0//EN
CALSCALE:GREGORIAN
METHOD:PUBLISH
X-WR-CALNAME:Northern California Chapter of Sister Cities International
X-ORIGINAL-URL:https://norcalsistercities.org
X-WR-CALDESC:Events for Northern California Chapter of Sister Cities International
REFRESH-INTERVAL;VALUE=DURATION:PT1H
X-Robots-Tag:noindex
X-PUBLISHED-TTL:PT1H
BEGIN:VTIMEZONE
TZID:America/Los_Angeles
BEGIN:DAYLIGHT
TZOFFSETFROM:-0800
TZOFFSETTO:-0700
TZNAME:PDT
DTSTART:20220313T100000
END:DAYLIGHT
BEGIN:STANDARD
TZOFFSETFROM:-0700
TZOFFSETTO:-0800
TZNAME:PST
DTSTART:20221106T090000
END:STANDARD
BEGIN:DAYLIGHT
TZOFFSETFROM:-0800
TZOFFSETTO:-0700
TZNAME:PDT
DTSTART:20230312T100000
END:DAYLIGHT
BEGIN:STANDARD
TZOFFSETFROM:-0700
TZOFFSETTO:-0800
TZNAME:PST
DTSTART:20231105T090000
END:STANDARD
BEGIN:DAYLIGHT
TZOFFSETFROM:-0800
TZOFFSETTO:-0700
TZNAME:PDT
DTSTART:20240310T100000
END:DAYLIGHT
BEGIN:STANDARD
TZOFFSETFROM:-0700
TZOFFSETTO:-0800
TZNAME:PST
DTSTART:20241103T090000
END:STANDARD
END:VTIMEZONE
BEGIN:VEVENT
DTSTART;TZID=America/Los_Angeles:20231027T180000
DTEND;TZID=America/Los_Angeles:20231027T210000
DTSTAMP:20260423T204032
CREATED:20230823T212429Z
LAST-MODIFIED:20230823T212429Z
UID:10000395-1698429600-1698440400@norcalsistercities.org
SUMMARY:Neighbors Abroad 60th Anniversary Party
DESCRIPTION:Please join Neighbors Abroad to celebrate our 60th anniversary of cultivating Palo Alto’s Sister and Sibling City relationships. \nThe festive fundraising event will include a sensational silent auction\, delectable international cuisine\, and lively entertainment. \nProceeds benefit our service projects in Mexico and the Philippines\, youth exchange programs\, and other initiatives around the world and here at home. \nFor questions about the event or to donate a silent auction item\, please email Neighbors Abroad president Sarah Burgess. \n  \nAdvance tickets required: $100 per person (members) $125 per person (non-members) \nLucie Stern Community Center
URL:https://norcalsistercities.org/events/neighbors-abroad-60th-anniversary-party/
LOCATION:Lucie Stern Community Center\, 1305 Middlefield Road\, Palo Alto\, CA\, 94301\, United States
ATTACH;FMTTYPE=image/jpeg:https://norcalsistercities.org/wp-content/uploads/2023/08/Neighbors-Abroad-60th-Anniversary-Party-champagne-glasses.jpg
END:VEVENT
END:VCALENDAR