BEGIN:VCALENDAR
VERSION:2.0
PRODID:-//Northern California Chapter of Sister Cities International - ECPv6.15.20//NONSGML v1.0//EN
CALSCALE:GREGORIAN
METHOD:PUBLISH
X-WR-CALNAME:Northern California Chapter of Sister Cities International
X-ORIGINAL-URL:https://norcalsistercities.org
X-WR-CALDESC:Events for Northern California Chapter of Sister Cities International
REFRESH-INTERVAL;VALUE=DURATION:PT1H
X-Robots-Tag:noindex
X-PUBLISHED-TTL:PT1H
BEGIN:VTIMEZONE
TZID:America/Los_Angeles
BEGIN:DAYLIGHT
TZOFFSETFROM:-0800
TZOFFSETTO:-0700
TZNAME:PDT
DTSTART:20220313T100000
END:DAYLIGHT
BEGIN:STANDARD
TZOFFSETFROM:-0700
TZOFFSETTO:-0800
TZNAME:PST
DTSTART:20221106T090000
END:STANDARD
BEGIN:DAYLIGHT
TZOFFSETFROM:-0800
TZOFFSETTO:-0700
TZNAME:PDT
DTSTART:20230312T100000
END:DAYLIGHT
BEGIN:STANDARD
TZOFFSETFROM:-0700
TZOFFSETTO:-0800
TZNAME:PST
DTSTART:20231105T090000
END:STANDARD
BEGIN:DAYLIGHT
TZOFFSETFROM:-0800
TZOFFSETTO:-0700
TZNAME:PDT
DTSTART:20240310T100000
END:DAYLIGHT
BEGIN:STANDARD
TZOFFSETFROM:-0700
TZOFFSETTO:-0800
TZNAME:PST
DTSTART:20241103T090000
END:STANDARD
BEGIN:DAYLIGHT
TZOFFSETFROM:-0800
TZOFFSETTO:-0700
TZNAME:PDT
DTSTART:20250309T100000
END:DAYLIGHT
BEGIN:STANDARD
TZOFFSETFROM:-0700
TZOFFSETTO:-0800
TZNAME:PST
DTSTART:20251102T090000
END:STANDARD
END:VTIMEZONE
BEGIN:VEVENT
DTSTART;TZID=America/Los_Angeles:20240530T180000
DTEND;TZID=America/Los_Angeles:20240530T210000
DTSTAMP:20260423T181819
CREATED:20240402T042654Z
LAST-MODIFIED:20240423T135457Z
UID:10000522-1717092000-1717102800@norcalsistercities.org
SUMMARY:Bridging Two Cultures Celebration Awards Dinner
DESCRIPTION:The Board of Directors of the San Francisco-Ho Chi Minh City Sister City Committee cordially invite you to attend a celebration of Asian Pacific American Heritage Month and citizen diplomacy between the people of San Francisco and Ho Chi Minh City. \nJoin us for an exciting and fun-filled evening that will include delicious food and beverages accompanied with musical and dancing performances\, raffles and a silent auction. \nAward categories \n\nYouth\nBusiness\nCulture\nHumanitarianism\nDiplomacy\nHealthcare\nPerforming Arts\nCharitable Work\n\nProgram \n6 p.m.     Cocktails\n7 p.m.     Dinner and program \n  \nBusiness Attire or National dress \nParking available at the Sutter/Stockton or Union Square Garages. \nMarines’ Memorial Club
URL:https://norcalsistercities.org/events/bridging-two-cultures-celebration-awards-dinner/
LOCATION:Marines’ Memorial Club\, 609 Sutter Street\, San Francisco\, CA\, 94102\, United States
ATTACH;FMTTYPE=image/jpeg:https://norcalsistercities.org/wp-content/uploads/2023/10/Ben-Thanh-Market-–-Ho-Chi-Minh-City.jpg
ORGANIZER;CN="San Francisco-Ho Chi Minh City Sister City Committee":MAILTO:sfhcmcscc@aol.com
END:VEVENT
BEGIN:VEVENT
DTSTART;TZID=America/Los_Angeles:20230727T173000
DTEND;TZID=America/Los_Angeles:20230727T190000
DTSTAMP:20260423T181819
CREATED:20230716T021527Z
LAST-MODIFIED:20230716T022129Z
UID:10000140-1690479000-1690484400@norcalsistercities.org
SUMMARY:Agent Orange Symposium - A Discussion Regarding Veterans' Healthcare
DESCRIPTION:Agent Orange and other toxins have been associated with many illnesses and deaths over the past years. The lingering effects have impacted military veterans\, their families\, and others. Related issues will be discussed by two eminent professional experts who dedicated much time and research to the impact of military weapons on soldiers and civilians in war zones. \nRecent legislation enacted by the US Congress and signed by the President will be discussed. Known as the PACT Act it is an extremely important piece of legislation that affects Veteran’s healthcare that not only impacts those who served in Vietnam but also\, those who served in Thailand\, Laos\, Cambodia Guam\, Samoa the Johnston Atoll\, and other places. Both speakers have a wealth of knowledge regarding the PACT ACT and will be able to answer questions after their presentations. \nSpeakers\nRobert L. Owen\, MD\nProfessor Emeritus- Medicine\, Epidemiology & Bio-statistics – U.C. San Francisco\, School of Medicine\nDr. Owen has been the Environmental Health Physician responsible for Agent Orange Database examinations at the San Francisco VA Medical Center for most of his medical career and was privileged to travel to Vietnam with the San Francisco-Ho Chi Minh City Sister City Committee in 2011 to visit residual Agent Orange contamination sites in Vietnam. Dr. Owen’s UCSF and VAMC clinical work includes gastroenterology\, general internal medicine\, intestinal infectious diseases\, HIV infection and AIDS\, travel medicine\, and especially the medical effects of military occupational environmental exposures in the Persian Gulf\, Afghanistan\, Vietnam (Agent Orange) and Ionizing Radiation exposed veterans. \nPaul Cox\nMarine Veteran\, Board Member of Veterans for Peace and Sword to Plowshares. American Legion Member.\nPaul Cox joined the Marine Corps in 1968 and served 18 months in Viet Nam He is now a retired civil engineer. He has worked for peace\, justice\, and an end to war\, with a particular emphasis on healing damage from two ongoing legacies of the Vietnam War – Agent Orange and unexploded ordnance. Presently he serves on the board of Vietnam Agent Orange Relief and Responsibility Campaign\, a national project of Veterans for Peace. He is also a board member of Swords to Plowshares Veterans Rights Organization and served as Board Chair from 2009 to 2012. \nSpace is limited\nRegistration opens at 5:30 p.m. Event begins at 6 p.m. \nPresented by The Marines’ Memorial Club and Hotel in association with the San Francisco – Ho Chi Minh City Sister City Committee. \nThe Committee is a non-political educational people to people program. It is organized under the laws of the state of California\, and is recognized as a 501(c)(3) nonprofit corporation by the Internal Revenue Service. FEIN: 94-3198119 \nMarines’ Memorial Club
URL:https://norcalsistercities.org/events/agent-orange-symposium-a-discussion-regarding-veterans-healthcare/
LOCATION:Marines’ Memorial Club\, 609 Sutter Street\, San Francisco\, CA\, 94102\, United States
ATTACH;FMTTYPE=image/jpeg:https://norcalsistercities.org/wp-content/uploads/2023/07/US-Huey-helicopter-spraying-Agent-Orange-in-Vietnam.jpg
ORGANIZER;CN="San Francisco-Ho Chi Minh City Sister City Committee":MAILTO:sfhcmcscc@aol.com
END:VEVENT
END:VCALENDAR