BEGIN:VCALENDAR
VERSION:2.0
PRODID:-//Northern California Chapter of Sister Cities International - ECPv6.15.20//NONSGML v1.0//EN
CALSCALE:GREGORIAN
METHOD:PUBLISH
X-ORIGINAL-URL:https://norcalsistercities.org
X-WR-CALDESC:Events for Northern California Chapter of Sister Cities International
REFRESH-INTERVAL;VALUE=DURATION:PT1H
X-Robots-Tag:noindex
X-PUBLISHED-TTL:PT1H
BEGIN:VTIMEZONE
TZID:America/Los_Angeles
BEGIN:DAYLIGHT
TZOFFSETFROM:-0800
TZOFFSETTO:-0700
TZNAME:PDT
DTSTART:20250309T100000
END:DAYLIGHT
BEGIN:STANDARD
TZOFFSETFROM:-0700
TZOFFSETTO:-0800
TZNAME:PST
DTSTART:20251102T090000
END:STANDARD
BEGIN:DAYLIGHT
TZOFFSETFROM:-0800
TZOFFSETTO:-0700
TZNAME:PDT
DTSTART:20260308T100000
END:DAYLIGHT
BEGIN:STANDARD
TZOFFSETFROM:-0700
TZOFFSETTO:-0800
TZNAME:PST
DTSTART:20261101T090000
END:STANDARD
BEGIN:DAYLIGHT
TZOFFSETFROM:-0800
TZOFFSETTO:-0700
TZNAME:PDT
DTSTART:20270314T100000
END:DAYLIGHT
BEGIN:STANDARD
TZOFFSETFROM:-0700
TZOFFSETTO:-0800
TZNAME:PST
DTSTART:20271107T090000
END:STANDARD
BEGIN:DAYLIGHT
TZOFFSETFROM:-0800
TZOFFSETTO:-0700
TZNAME:PDT
DTSTART:20280312T100000
END:DAYLIGHT
BEGIN:STANDARD
TZOFFSETFROM:-0700
TZOFFSETTO:-0800
TZNAME:PST
DTSTART:20281105T090000
END:STANDARD
END:VTIMEZONE
BEGIN:VEVENT
DTSTART;TZID=America/Los_Angeles:20260506T180000
DTEND;TZID=America/Los_Angeles:20260506T193000
DTSTAMP:20260423T095004
CREATED:20260419T224006Z
LAST-MODIFIED:20260419T224006Z
UID:10001146-1778090400-1778095800@norcalsistercities.org
SUMMARY:Richmond-Shimada Friendship Commission meeting
DESCRIPTION:Richmond City Council Chambers – Shimada Conference Room
URL:https://norcalsistercities.org/events/richmond-shimada-friendship-commission-meeting/2026-05-06/
LOCATION:Richmond City Council Chambers – Shimada Conference Room\, 440 Civic Center Plaza\, 1 Fl\, Richmond\, CA\, 94804\, United States
CATEGORIES:Meetings
ORGANIZER;CN="Richmond-Shimada Friendship Commission":MAILTO:CityClerkDept@ci.richmond.ca.us
END:VEVENT
BEGIN:VEVENT
DTSTART;TZID=America/Los_Angeles:20260603T180000
DTEND;TZID=America/Los_Angeles:20260603T193000
DTSTAMP:20260423T095004
CREATED:20260419T224006Z
LAST-MODIFIED:20260419T224006Z
UID:10001147-1780509600-1780515000@norcalsistercities.org
SUMMARY:Richmond-Shimada Friendship Commission meeting
DESCRIPTION:Richmond City Council Chambers – Shimada Conference Room
URL:https://norcalsistercities.org/events/richmond-shimada-friendship-commission-meeting/2026-06-03/
LOCATION:Richmond City Council Chambers – Shimada Conference Room\, 440 Civic Center Plaza\, 1 Fl\, Richmond\, CA\, 94804\, United States
CATEGORIES:Meetings
ORGANIZER;CN="Richmond-Shimada Friendship Commission":MAILTO:CityClerkDept@ci.richmond.ca.us
END:VEVENT
BEGIN:VEVENT
DTSTART;TZID=America/Los_Angeles:20260701T180000
DTEND;TZID=America/Los_Angeles:20260701T193000
DTSTAMP:20260423T095004
CREATED:20260419T224006Z
LAST-MODIFIED:20260419T224006Z
UID:10001148-1782928800-1782934200@norcalsistercities.org
SUMMARY:Richmond-Shimada Friendship Commission meeting
DESCRIPTION:Richmond City Council Chambers – Shimada Conference Room
URL:https://norcalsistercities.org/events/richmond-shimada-friendship-commission-meeting/2026-07-01/
LOCATION:Richmond City Council Chambers – Shimada Conference Room\, 440 Civic Center Plaza\, 1 Fl\, Richmond\, CA\, 94804\, United States
CATEGORIES:Meetings
ORGANIZER;CN="Richmond-Shimada Friendship Commission":MAILTO:CityClerkDept@ci.richmond.ca.us
END:VEVENT
BEGIN:VEVENT
DTSTART;TZID=America/Los_Angeles:20260805T180000
DTEND;TZID=America/Los_Angeles:20260805T193000
DTSTAMP:20260423T095004
CREATED:20260419T224006Z
LAST-MODIFIED:20260419T224006Z
UID:10001149-1785952800-1785958200@norcalsistercities.org
SUMMARY:Richmond-Shimada Friendship Commission meeting
DESCRIPTION:Richmond City Council Chambers – Shimada Conference Room
URL:https://norcalsistercities.org/events/richmond-shimada-friendship-commission-meeting/2026-08-05/
LOCATION:Richmond City Council Chambers – Shimada Conference Room\, 440 Civic Center Plaza\, 1 Fl\, Richmond\, CA\, 94804\, United States
CATEGORIES:Meetings
ORGANIZER;CN="Richmond-Shimada Friendship Commission":MAILTO:CityClerkDept@ci.richmond.ca.us
END:VEVENT
BEGIN:VEVENT
DTSTART;TZID=America/Los_Angeles:20260902T180000
DTEND;TZID=America/Los_Angeles:20260902T193000
DTSTAMP:20260423T095004
CREATED:20260419T224006Z
LAST-MODIFIED:20260419T224006Z
UID:10001150-1788372000-1788377400@norcalsistercities.org
SUMMARY:Richmond-Shimada Friendship Commission meeting
DESCRIPTION:Richmond City Council Chambers – Shimada Conference Room
URL:https://norcalsistercities.org/events/richmond-shimada-friendship-commission-meeting/2026-09-02/
LOCATION:Richmond City Council Chambers – Shimada Conference Room\, 440 Civic Center Plaza\, 1 Fl\, Richmond\, CA\, 94804\, United States
CATEGORIES:Meetings
ORGANIZER;CN="Richmond-Shimada Friendship Commission":MAILTO:CityClerkDept@ci.richmond.ca.us
END:VEVENT
BEGIN:VEVENT
DTSTART;TZID=America/Los_Angeles:20261007T180000
DTEND;TZID=America/Los_Angeles:20261007T193000
DTSTAMP:20260423T095004
CREATED:20260419T224006Z
LAST-MODIFIED:20260419T224006Z
UID:10001151-1791396000-1791401400@norcalsistercities.org
SUMMARY:Richmond-Shimada Friendship Commission meeting
DESCRIPTION:Richmond City Council Chambers – Shimada Conference Room
URL:https://norcalsistercities.org/events/richmond-shimada-friendship-commission-meeting/2026-10-07/
LOCATION:Richmond City Council Chambers – Shimada Conference Room\, 440 Civic Center Plaza\, 1 Fl\, Richmond\, CA\, 94804\, United States
CATEGORIES:Meetings
ORGANIZER;CN="Richmond-Shimada Friendship Commission":MAILTO:CityClerkDept@ci.richmond.ca.us
END:VEVENT
BEGIN:VEVENT
DTSTART;TZID=America/Los_Angeles:20261104T180000
DTEND;TZID=America/Los_Angeles:20261104T193000
DTSTAMP:20260423T095004
CREATED:20260419T224006Z
LAST-MODIFIED:20260419T224006Z
UID:10001152-1793815200-1793820600@norcalsistercities.org
SUMMARY:Richmond-Shimada Friendship Commission meeting
DESCRIPTION:Richmond City Council Chambers – Shimada Conference Room
URL:https://norcalsistercities.org/events/richmond-shimada-friendship-commission-meeting/2026-11-04/
LOCATION:Richmond City Council Chambers – Shimada Conference Room\, 440 Civic Center Plaza\, 1 Fl\, Richmond\, CA\, 94804\, United States
CATEGORIES:Meetings
ORGANIZER;CN="Richmond-Shimada Friendship Commission":MAILTO:CityClerkDept@ci.richmond.ca.us
END:VEVENT
BEGIN:VEVENT
DTSTART;TZID=America/Los_Angeles:20261202T180000
DTEND;TZID=America/Los_Angeles:20261202T193000
DTSTAMP:20260423T095004
CREATED:20260419T224006Z
LAST-MODIFIED:20260419T224006Z
UID:10001153-1796234400-1796239800@norcalsistercities.org
SUMMARY:Richmond-Shimada Friendship Commission meeting
DESCRIPTION:Richmond City Council Chambers – Shimada Conference Room
URL:https://norcalsistercities.org/events/richmond-shimada-friendship-commission-meeting/2026-12-02/
LOCATION:Richmond City Council Chambers – Shimada Conference Room\, 440 Civic Center Plaza\, 1 Fl\, Richmond\, CA\, 94804\, United States
CATEGORIES:Meetings
ORGANIZER;CN="Richmond-Shimada Friendship Commission":MAILTO:CityClerkDept@ci.richmond.ca.us
END:VEVENT
BEGIN:VEVENT
DTSTART;TZID=America/Los_Angeles:20270106T180000
DTEND;TZID=America/Los_Angeles:20270106T193000
DTSTAMP:20260423T095004
CREATED:20260419T224006Z
LAST-MODIFIED:20260419T224006Z
UID:10001154-1799258400-1799263800@norcalsistercities.org
SUMMARY:Richmond-Shimada Friendship Commission meeting
DESCRIPTION:Richmond City Council Chambers – Shimada Conference Room
URL:https://norcalsistercities.org/events/richmond-shimada-friendship-commission-meeting/2027-01-06/
LOCATION:Richmond City Council Chambers – Shimada Conference Room\, 440 Civic Center Plaza\, 1 Fl\, Richmond\, CA\, 94804\, United States
CATEGORIES:Meetings
ORGANIZER;CN="Richmond-Shimada Friendship Commission":MAILTO:CityClerkDept@ci.richmond.ca.us
END:VEVENT
BEGIN:VEVENT
DTSTART;TZID=America/Los_Angeles:20270203T180000
DTEND;TZID=America/Los_Angeles:20270203T193000
DTSTAMP:20260423T095004
CREATED:20260419T224006Z
LAST-MODIFIED:20260419T224006Z
UID:10001155-1801677600-1801683000@norcalsistercities.org
SUMMARY:Richmond-Shimada Friendship Commission meeting
DESCRIPTION:Richmond City Council Chambers – Shimada Conference Room
URL:https://norcalsistercities.org/events/richmond-shimada-friendship-commission-meeting/2027-02-03/
LOCATION:Richmond City Council Chambers – Shimada Conference Room\, 440 Civic Center Plaza\, 1 Fl\, Richmond\, CA\, 94804\, United States
CATEGORIES:Meetings
ORGANIZER;CN="Richmond-Shimada Friendship Commission":MAILTO:CityClerkDept@ci.richmond.ca.us
END:VEVENT
BEGIN:VEVENT
DTSTART;TZID=America/Los_Angeles:20270303T180000
DTEND;TZID=America/Los_Angeles:20270303T193000
DTSTAMP:20260423T095004
CREATED:20260419T224006Z
LAST-MODIFIED:20260419T224006Z
UID:10001156-1804096800-1804102200@norcalsistercities.org
SUMMARY:Richmond-Shimada Friendship Commission meeting
DESCRIPTION:Richmond City Council Chambers – Shimada Conference Room
URL:https://norcalsistercities.org/events/richmond-shimada-friendship-commission-meeting/2027-03-03/
LOCATION:Richmond City Council Chambers – Shimada Conference Room\, 440 Civic Center Plaza\, 1 Fl\, Richmond\, CA\, 94804\, United States
CATEGORIES:Meetings
ORGANIZER;CN="Richmond-Shimada Friendship Commission":MAILTO:CityClerkDept@ci.richmond.ca.us
END:VEVENT
BEGIN:VEVENT
DTSTART;TZID=America/Los_Angeles:20270407T180000
DTEND;TZID=America/Los_Angeles:20270407T193000
DTSTAMP:20260423T095004
CREATED:20260419T224006Z
LAST-MODIFIED:20260419T224006Z
UID:10001157-1807120800-1807126200@norcalsistercities.org
SUMMARY:Richmond-Shimada Friendship Commission meeting
DESCRIPTION:Richmond City Council Chambers – Shimada Conference Room
URL:https://norcalsistercities.org/events/richmond-shimada-friendship-commission-meeting/2027-04-07/
LOCATION:Richmond City Council Chambers – Shimada Conference Room\, 440 Civic Center Plaza\, 1 Fl\, Richmond\, CA\, 94804\, United States
CATEGORIES:Meetings
ORGANIZER;CN="Richmond-Shimada Friendship Commission":MAILTO:CityClerkDept@ci.richmond.ca.us
END:VEVENT
BEGIN:VEVENT
DTSTART;TZID=America/Los_Angeles:20270505T180000
DTEND;TZID=America/Los_Angeles:20270505T193000
DTSTAMP:20260423T095004
CREATED:20260419T224006Z
LAST-MODIFIED:20260419T224006Z
UID:10001158-1809540000-1809545400@norcalsistercities.org
SUMMARY:Richmond-Shimada Friendship Commission meeting
DESCRIPTION:Richmond City Council Chambers – Shimada Conference Room
URL:https://norcalsistercities.org/events/richmond-shimada-friendship-commission-meeting/2027-05-05/
LOCATION:Richmond City Council Chambers – Shimada Conference Room\, 440 Civic Center Plaza\, 1 Fl\, Richmond\, CA\, 94804\, United States
CATEGORIES:Meetings
ORGANIZER;CN="Richmond-Shimada Friendship Commission":MAILTO:CityClerkDept@ci.richmond.ca.us
END:VEVENT
END:VCALENDAR