BEGIN:VCALENDAR
VERSION:2.0
PRODID:-//Northern California Chapter of Sister Cities International - ECPv6.15.20//NONSGML v1.0//EN
CALSCALE:GREGORIAN
METHOD:PUBLISH
X-ORIGINAL-URL:https://norcalsistercities.org
X-WR-CALDESC:Events for Northern California Chapter of Sister Cities International
REFRESH-INTERVAL;VALUE=DURATION:PT1H
X-Robots-Tag:noindex
X-PUBLISHED-TTL:PT1H
BEGIN:VTIMEZONE
TZID:America/Los_Angeles
BEGIN:DAYLIGHT
TZOFFSETFROM:-0800
TZOFFSETTO:-0700
TZNAME:PDT
DTSTART:20230312T100000
END:DAYLIGHT
BEGIN:STANDARD
TZOFFSETFROM:-0700
TZOFFSETTO:-0800
TZNAME:PST
DTSTART:20231105T090000
END:STANDARD
BEGIN:DAYLIGHT
TZOFFSETFROM:-0800
TZOFFSETTO:-0700
TZNAME:PDT
DTSTART:20240310T100000
END:DAYLIGHT
BEGIN:STANDARD
TZOFFSETFROM:-0700
TZOFFSETTO:-0800
TZNAME:PST
DTSTART:20241103T090000
END:STANDARD
BEGIN:DAYLIGHT
TZOFFSETFROM:-0800
TZOFFSETTO:-0700
TZNAME:PDT
DTSTART:20250309T100000
END:DAYLIGHT
BEGIN:STANDARD
TZOFFSETFROM:-0700
TZOFFSETTO:-0800
TZNAME:PST
DTSTART:20251102T090000
END:STANDARD
END:VTIMEZONE
BEGIN:VEVENT
DTSTART;TZID=America/Los_Angeles:20240501T190000
DTEND;TZID=America/Los_Angeles:20240501T210000
DTSTAMP:20260423T192717
CREATED:20240423T134656Z
LAST-MODIFIED:20240423T134656Z
UID:10000528-1714590000-1714597200@norcalsistercities.org
SUMMARY:20th Anniversary APA Heritage Month Gala Reception
DESCRIPTION:Be Part of the 20th Anniversary Celebration! \nThe APA Heritage Awards is a signature program of San Francisco’s celebration of Asian American & Pacific Islander Heritage Month.  Every year the AAPI Heritage Celebration Committee honors civic organizations that have achieved significant milestones in serving the community. Immediately following the Awards ceremony\, guests are invited to the 20th Anniversary Gala Reception in City Hall. \nEnjoy: \n\nDiverse Asian cuisine\nCultural Performances\nCommunity Exhibits\nRaffle drawings and more\n\nGet tickets: $10 \nAttire: Ethnic Festive \nCapacity is limited. RSVP is required. \nYour support of the APA Heritage Foundation\, a 501c3 nonprofit organization\, makes this celebration possible. Please consider making a donation to the 20th Anniversary Celebration Fund to support this celebration and other cultural programs throughout the year. \nSan Francisco City Hall
URL:https://norcalsistercities.org/events/20th-anniversary-apa-heritage-month-gala-reception/
LOCATION:San Francisco City Hall\, 1 Dr. Carlton B. Goodlett Place\, San Francisco\, 94102\, United States
ATTACH;FMTTYPE=image/jpeg:https://norcalsistercities.org/wp-content/uploads/2024/04/017-2023-APASF-Awards-and-Celebration.jpg
END:VEVENT
END:VCALENDAR