BEGIN:VCALENDAR
VERSION:2.0
PRODID:-//Northern California Chapter of Sister Cities International - ECPv6.15.20//NONSGML v1.0//EN
CALSCALE:GREGORIAN
METHOD:PUBLISH
X-WR-CALNAME:Northern California Chapter of Sister Cities International
X-ORIGINAL-URL:https://norcalsistercities.org
X-WR-CALDESC:Events for Northern California Chapter of Sister Cities International
REFRESH-INTERVAL;VALUE=DURATION:PT1H
X-Robots-Tag:noindex
X-PUBLISHED-TTL:PT1H
BEGIN:VTIMEZONE
TZID:America/Los_Angeles
BEGIN:DAYLIGHT
TZOFFSETFROM:-0800
TZOFFSETTO:-0700
TZNAME:PDT
DTSTART:20220313T100000
END:DAYLIGHT
BEGIN:STANDARD
TZOFFSETFROM:-0700
TZOFFSETTO:-0800
TZNAME:PST
DTSTART:20221106T090000
END:STANDARD
BEGIN:DAYLIGHT
TZOFFSETFROM:-0800
TZOFFSETTO:-0700
TZNAME:PDT
DTSTART:20230312T100000
END:DAYLIGHT
BEGIN:STANDARD
TZOFFSETFROM:-0700
TZOFFSETTO:-0800
TZNAME:PST
DTSTART:20231105T090000
END:STANDARD
BEGIN:DAYLIGHT
TZOFFSETFROM:-0800
TZOFFSETTO:-0700
TZNAME:PDT
DTSTART:20240310T100000
END:DAYLIGHT
BEGIN:STANDARD
TZOFFSETFROM:-0700
TZOFFSETTO:-0800
TZNAME:PST
DTSTART:20241103T090000
END:STANDARD
END:VTIMEZONE
BEGIN:VEVENT
DTSTART;TZID=America/Los_Angeles:20230919T120000
DTEND;TZID=America/Los_Angeles:20230919T140000
DTSTAMP:20260423T211230
CREATED:20230725T232318Z
LAST-MODIFIED:20230725T232318Z
UID:10000313-1695124800-1695132000@norcalsistercities.org
SUMMARY:“Kindness Can Change The World....And It Costs Nothing©" Photography Exhibition
DESCRIPTION:In celebration of the 25th Anniversary of the Stockton Sister Cities Association and Parma\, Italy’s Sister City relationship we are inviting residents of Stockton\, and of Provincia di Parma to participate in the “Kindness Can Change The World….And It Costs Nothing” photography project. \nFrom May 1st-July 31st\, 2023 the Stockton Sister Cities Association accepted original digital photos taken from Stocktonian’s and from residents of our Sister City the Provincia di Parma\, Italy that they believe expresses the idea “Kindness Can Change The World….And It Costs Nothing”.  \nAll submitted photos will be exhibited digitally at a “Kindness Can Change The World….And It Costs Nothing© ” photography event during the 25th Anniversary Celebration of Parma\, Italy/Stockton\, CA. Week in September 2023\, with 20 selected photos being printed for display. \nAll photos submitted are the property of the Stockton Sister Cities Association. \nStockton City Hall Lobby
URL:https://norcalsistercities.org/events/kindness-can-change-the-world-and-it-costs-nothing-photography-exhibition/
LOCATION:Stockton City Hall Lobby\, 425 N. El Dorado St.\, Stockton\, CA\, 95202\, United States
ATTACH;FMTTYPE=image/jpeg:https://norcalsistercities.org/wp-content/uploads/2023/07/Kindness-Counts.jpg
END:VEVENT
END:VCALENDAR