BEGIN:VCALENDAR
VERSION:2.0
PRODID:-//Northern California Chapter of Sister Cities International - ECPv6.15.20//NONSGML v1.0//EN
CALSCALE:GREGORIAN
METHOD:PUBLISH
X-WR-CALNAME:Northern California Chapter of Sister Cities International
X-ORIGINAL-URL:https://norcalsistercities.org
X-WR-CALDESC:Events for Northern California Chapter of Sister Cities International
REFRESH-INTERVAL;VALUE=DURATION:PT1H
X-Robots-Tag:noindex
X-PUBLISHED-TTL:PT1H
BEGIN:VTIMEZONE
TZID:America/Los_Angeles
BEGIN:DAYLIGHT
TZOFFSETFROM:-0800
TZOFFSETTO:-0700
TZNAME:PDT
DTSTART:20250309T100000
END:DAYLIGHT
BEGIN:STANDARD
TZOFFSETFROM:-0700
TZOFFSETTO:-0800
TZNAME:PST
DTSTART:20251102T090000
END:STANDARD
BEGIN:DAYLIGHT
TZOFFSETFROM:-0800
TZOFFSETTO:-0700
TZNAME:PDT
DTSTART:20260308T100000
END:DAYLIGHT
BEGIN:STANDARD
TZOFFSETFROM:-0700
TZOFFSETTO:-0800
TZNAME:PST
DTSTART:20261101T090000
END:STANDARD
BEGIN:DAYLIGHT
TZOFFSETFROM:-0800
TZOFFSETTO:-0700
TZNAME:PDT
DTSTART:20270314T100000
END:DAYLIGHT
BEGIN:STANDARD
TZOFFSETFROM:-0700
TZOFFSETTO:-0800
TZNAME:PST
DTSTART:20271107T090000
END:STANDARD
END:VTIMEZONE
BEGIN:VEVENT
DTSTART;TZID=America/Los_Angeles:20260509T183000
DTEND;TZID=America/Los_Angeles:20260509T200000
DTSTAMP:20260423T111542
CREATED:20260419T235449Z
LAST-MODIFIED:20260419T235449Z
UID:10001251-1778351400-1778356800@norcalsistercities.org
SUMMARY:A Celebration of the Traditional String Instruments of Madeira
DESCRIPTION:The Sausalito – Cascais Sister City Council invites you to an unforgettable evening of traditional Madeira string instruments and culture\, featuring Robert Moniz sharing the history of the traditional string instruments of Madeira Island at The Pines historic mansion overlooking Richardson Bay and the City. \nFado at The Pines continues its tradition of bringing the finest in Portuguese music to Sausalito. From traditional Fado of Lisboa\, Fado of Coimbra\, Contemporary Folk Music Roots of Minho and Classical Chamber Music and now the traditional strings instruments.  Each style represents a unique part of the Portuguese musical culture.  \nThis is a fund raising event in support of the Youth Sailing Exchange between the Sausalito Yacht Club and Clube Naval de Cascais. This exchange has been held annually since 2015. This July\, youth sailors from Sausalito will go to Cascais to stay with the host families for Clube Naval and sail for 10 days. \nThe Pines
URL:https://norcalsistercities.org/events/a-celebration-of-the-traditional-string-instruments-of-madeira/
LOCATION:The Pines\, 33 Miller Avenue\, Sausalito\, CA\, 94965\, United States
ATTACH;FMTTYPE=image/jpeg:https://norcalsistercities.org/wp-content/uploads/2026/04/Robert_Moniz.jpg
END:VEVENT
END:VCALENDAR