BEGIN:VCALENDAR
VERSION:2.0
PRODID:-//Northern California Chapter of Sister Cities International - ECPv6.15.20//NONSGML v1.0//EN
CALSCALE:GREGORIAN
METHOD:PUBLISH
X-WR-CALNAME:Northern California Chapter of Sister Cities International
X-ORIGINAL-URL:https://norcalsistercities.org
X-WR-CALDESC:Events for Northern California Chapter of Sister Cities International
REFRESH-INTERVAL;VALUE=DURATION:PT1H
X-Robots-Tag:noindex
X-PUBLISHED-TTL:PT1H
BEGIN:VTIMEZONE
TZID:America/Los_Angeles
BEGIN:DAYLIGHT
TZOFFSETFROM:-0800
TZOFFSETTO:-0700
TZNAME:PDT
DTSTART:20250309T100000
END:DAYLIGHT
BEGIN:STANDARD
TZOFFSETFROM:-0700
TZOFFSETTO:-0800
TZNAME:PST
DTSTART:20251102T090000
END:STANDARD
BEGIN:DAYLIGHT
TZOFFSETFROM:-0800
TZOFFSETTO:-0700
TZNAME:PDT
DTSTART:20260308T100000
END:DAYLIGHT
BEGIN:STANDARD
TZOFFSETFROM:-0700
TZOFFSETTO:-0800
TZNAME:PST
DTSTART:20261101T090000
END:STANDARD
BEGIN:DAYLIGHT
TZOFFSETFROM:-0800
TZOFFSETTO:-0700
TZNAME:PDT
DTSTART:20270314T100000
END:DAYLIGHT
BEGIN:STANDARD
TZOFFSETFROM:-0700
TZOFFSETTO:-0800
TZNAME:PST
DTSTART:20271107T090000
END:STANDARD
END:VTIMEZONE
BEGIN:VEVENT
DTSTART;TZID=America/Los_Angeles:20260606T100000
DTEND;TZID=America/Los_Angeles:20260606T160000
DTSTAMP:20260423T130040
CREATED:20260419T163942Z
LAST-MODIFIED:20260419T163942Z
UID:10001126-1780740000-1780761600@norcalsistercities.org
SUMMARY:Cleanup at Torii Gate at the Gardens at Lake Merritt
DESCRIPTION:Join the Oakland-Fukuoka Sister City Association (OFSCA) for its quarterly clean up at Torii Gate (Gardens at Lake Merritt at Lakeside Park).\nContact: peterthomasbowyer@hotmail.com \nTorii Gate at The Gardens at Lake Merritt
URL:https://norcalsistercities.org/events/cleanup-at-torii-gate-at-the-gardens-at-lake-merritt/
LOCATION:Torii Gate at The Gardens at Lake Merritt\, 666 Bellevue Ave.\, Oakland\, CA\, 94610\, United States
ATTACH;FMTTYPE=image/jpeg:https://norcalsistercities.org/wp-content/uploads/2022/04/Cleanup-at-Torii-Gate-at-the-Gardens-at-Lake-Merritt.jpg
ORGANIZER;CN="Oakland-Fukuoka Sister City Association":MAILTO:ofsca1962@gmail.com
END:VEVENT
BEGIN:VEVENT
DTSTART;TZID=America/Los_Angeles:20260919T100000
DTEND;TZID=America/Los_Angeles:20260919T160000
DTSTAMP:20260423T130040
CREATED:20260419T215226Z
LAST-MODIFIED:20260419T215226Z
UID:10001128-1789812000-1789833600@norcalsistercities.org
SUMMARY:Creek to Bay Day Cleanup at Torii Gate at the Gardens at Lake Merritt
DESCRIPTION:Join the Oakland-Fukuoka Sister City Association (OFSCA) for its clean up at Torii Gate (Gardens at Lake Merritt at Lakeside Park).\nContact: peterthomasbowyer@hotmail.com \nTorii Gate at The Gardens at Lake Merritt
URL:https://norcalsistercities.org/events/creek-to-bay-day-cleanup-at-torii-gate-at-the-gardens-at-lake-merritt/
LOCATION:Torii Gate at The Gardens at Lake Merritt\, 666 Bellevue Ave.\, Oakland\, CA\, 94610\, United States
ATTACH;FMTTYPE=image/jpeg:https://norcalsistercities.org/wp-content/uploads/2022/04/Cleanup-at-Torii-Gate-at-the-Gardens-at-Lake-Merritt.jpg
ORGANIZER;CN="Oakland-Fukuoka Sister City Association":MAILTO:ofsca1962@gmail.com
END:VEVENT
BEGIN:VEVENT
DTSTART;TZID=America/Los_Angeles:20261003T100000
DTEND;TZID=America/Los_Angeles:20261003T160000
DTSTAMP:20260423T130040
CREATED:20260419T215259Z
LAST-MODIFIED:20260419T215259Z
UID:10001129-1791021600-1791043200@norcalsistercities.org
SUMMARY:Cleanup at Torii Gate at the Gardens at Lake Merritt
DESCRIPTION:Join the Oakland-Fukuoka Sister City Association (OFSCA) for its quarterly clean up at Torii Gate (Gardens at Lake Merritt at Lakeside Park).\nContact: peterthomasbowyer@hotmail.com \nTorii Gate at The Gardens at Lake Merritt
URL:https://norcalsistercities.org/events/cleanup-at-torii-gate-at-the-gardens-at-lake-merritt-4/
LOCATION:Torii Gate at The Gardens at Lake Merritt\, 666 Bellevue Ave.\, Oakland\, CA\, 94610\, United States
ATTACH;FMTTYPE=image/jpeg:https://norcalsistercities.org/wp-content/uploads/2022/04/Cleanup-at-Torii-Gate-at-the-Gardens-at-Lake-Merritt.jpg
ORGANIZER;CN="Oakland-Fukuoka Sister City Association":MAILTO:ofsca1962@gmail.com
END:VEVENT
END:VCALENDAR