BEGIN:VCALENDAR
VERSION:2.0
PRODID:-//Northern California Chapter of Sister Cities International - ECPv6.15.20//NONSGML v1.0//EN
CALSCALE:GREGORIAN
METHOD:PUBLISH
X-ORIGINAL-URL:https://norcalsistercities.org
X-WR-CALDESC:Events for Northern California Chapter of Sister Cities International
REFRESH-INTERVAL;VALUE=DURATION:PT1H
X-Robots-Tag:noindex
X-PUBLISHED-TTL:PT1H
BEGIN:VTIMEZONE
TZID:America/Los_Angeles
BEGIN:DAYLIGHT
TZOFFSETFROM:-0800
TZOFFSETTO:-0700
TZNAME:PDT
DTSTART:20230312T100000
END:DAYLIGHT
BEGIN:STANDARD
TZOFFSETFROM:-0700
TZOFFSETTO:-0800
TZNAME:PST
DTSTART:20231105T090000
END:STANDARD
BEGIN:DAYLIGHT
TZOFFSETFROM:-0800
TZOFFSETTO:-0700
TZNAME:PDT
DTSTART:20240310T100000
END:DAYLIGHT
BEGIN:STANDARD
TZOFFSETFROM:-0700
TZOFFSETTO:-0800
TZNAME:PST
DTSTART:20241103T090000
END:STANDARD
BEGIN:DAYLIGHT
TZOFFSETFROM:-0800
TZOFFSETTO:-0700
TZNAME:PDT
DTSTART:20250309T100000
END:DAYLIGHT
BEGIN:STANDARD
TZOFFSETFROM:-0700
TZOFFSETTO:-0800
TZNAME:PST
DTSTART:20251102T090000
END:STANDARD
END:VTIMEZONE
BEGIN:VEVENT
DTSTART;TZID=America/Los_Angeles:20240511T140000
DTEND;TZID=America/Los_Angeles:20240511T160000
DTSTAMP:20260423T200046
CREATED:20241020T204911Z
LAST-MODIFIED:20241020T204911Z
UID:10000581-1715436000-1715443200@norcalsistercities.org
SUMMARY:Uplifting Wadi Foquin
DESCRIPTION:Join Alameda Sister City Association\, Friends of Wadi Foquin and Alameda Families and Friends for Ceasefire for an afternoon of celebrating Palestinian culture with tasty treats\, beautiful live music\, striking photography\, and getting to know the West Bank village of Wadi Foguin. \nFeaturing live musical guests: \n\nGeorges Lammam\nLoay Dahbour\nHashem Abdel-Hadi\n\nTwin Towers United Methodist Church Gym
URL:https://norcalsistercities.org/events/uplifting-wadi-foquin/
LOCATION:Twin Towers United Methodist Church Gym\, 2259 Central Ave.\, Alameda\, CA\, 94501\, United States
ATTACH;FMTTYPE=image/jpeg:https://norcalsistercities.org/wp-content/uploads/2024/10/wadi2024.jpg
END:VEVENT
END:VCALENDAR