BEGIN:VCALENDAR
VERSION:2.0
PRODID:-//Northern California Chapter of Sister Cities International - ECPv6.15.20//NONSGML v1.0//EN
CALSCALE:GREGORIAN
METHOD:PUBLISH
X-WR-CALNAME:Northern California Chapter of Sister Cities International
X-ORIGINAL-URL:https://norcalsistercities.org
X-WR-CALDESC:Events for Northern California Chapter of Sister Cities International
REFRESH-INTERVAL;VALUE=DURATION:PT1H
X-Robots-Tag:noindex
X-PUBLISHED-TTL:PT1H
BEGIN:VTIMEZONE
TZID:America/Los_Angeles
BEGIN:DAYLIGHT
TZOFFSETFROM:-0800
TZOFFSETTO:-0700
TZNAME:PDT
DTSTART:20250309T100000
END:DAYLIGHT
BEGIN:STANDARD
TZOFFSETFROM:-0700
TZOFFSETTO:-0800
TZNAME:PST
DTSTART:20251102T090000
END:STANDARD
BEGIN:DAYLIGHT
TZOFFSETFROM:-0800
TZOFFSETTO:-0700
TZNAME:PDT
DTSTART:20260308T100000
END:DAYLIGHT
BEGIN:STANDARD
TZOFFSETFROM:-0700
TZOFFSETTO:-0800
TZNAME:PST
DTSTART:20261101T090000
END:STANDARD
BEGIN:DAYLIGHT
TZOFFSETFROM:-0800
TZOFFSETTO:-0700
TZNAME:PDT
DTSTART:20270314T100000
END:DAYLIGHT
BEGIN:STANDARD
TZOFFSETFROM:-0700
TZOFFSETTO:-0800
TZNAME:PST
DTSTART:20271107T090000
END:STANDARD
BEGIN:DAYLIGHT
TZOFFSETFROM:-0800
TZOFFSETTO:-0700
TZNAME:PDT
DTSTART:20280312T100000
END:DAYLIGHT
BEGIN:STANDARD
TZOFFSETFROM:-0700
TZOFFSETTO:-0800
TZNAME:PST
DTSTART:20281105T090000
END:STANDARD
BEGIN:DAYLIGHT
TZOFFSETFROM:-0800
TZOFFSETTO:-0700
TZNAME:PDT
DTSTART:20290311T100000
END:DAYLIGHT
BEGIN:STANDARD
TZOFFSETFROM:-0700
TZOFFSETTO:-0800
TZNAME:PST
DTSTART:20291104T090000
END:STANDARD
END:VTIMEZONE
BEGIN:VEVENT
DTSTART;TZID=America/Los_Angeles:20260507T120000
DTEND;TZID=America/Los_Angeles:20260507T130000
DTSTAMP:20260423T095238
CREATED:20230725T222122Z
LAST-MODIFIED:20230725T222122Z
UID:10000282-1778155200-1778158800@norcalsistercities.org
SUMMARY:Stockton Sister Cities Association Board Meeting
DESCRIPTION:First Thursday of the Month \nValley Brew
URL:https://norcalsistercities.org/events/stockton-sister-cities-association-board-meeting/2026-05-07/
LOCATION:Valley Brew\, 157 W Adams St.\, Stockton\, CA\, 95204\, United States
CATEGORIES:Meetings
ATTACH;FMTTYPE=image/jpeg:https://norcalsistercities.org/wp-content/uploads/2023/07/Stockton-Sister-Cities-Association.jpg
END:VEVENT
BEGIN:VEVENT
DTSTART;TZID=America/Los_Angeles:20260604T120000
DTEND;TZID=America/Los_Angeles:20260604T130000
DTSTAMP:20260423T095238
CREATED:20230725T222122Z
LAST-MODIFIED:20230725T222122Z
UID:10000283-1780574400-1780578000@norcalsistercities.org
SUMMARY:Stockton Sister Cities Association Board Meeting
DESCRIPTION:First Thursday of the Month \nValley Brew
URL:https://norcalsistercities.org/events/stockton-sister-cities-association-board-meeting/2026-06-04/
LOCATION:Valley Brew\, 157 W Adams St.\, Stockton\, CA\, 95204\, United States
CATEGORIES:Meetings
ATTACH;FMTTYPE=image/jpeg:https://norcalsistercities.org/wp-content/uploads/2023/07/Stockton-Sister-Cities-Association.jpg
END:VEVENT
BEGIN:VEVENT
DTSTART;TZID=America/Los_Angeles:20260702T120000
DTEND;TZID=America/Los_Angeles:20260702T130000
DTSTAMP:20260423T095238
CREATED:20230725T222122Z
LAST-MODIFIED:20230725T222122Z
UID:10000284-1782993600-1782997200@norcalsistercities.org
SUMMARY:Stockton Sister Cities Association Board Meeting
DESCRIPTION:First Thursday of the Month \nValley Brew
URL:https://norcalsistercities.org/events/stockton-sister-cities-association-board-meeting/2026-07-02/
LOCATION:Valley Brew\, 157 W Adams St.\, Stockton\, CA\, 95204\, United States
CATEGORIES:Meetings
ATTACH;FMTTYPE=image/jpeg:https://norcalsistercities.org/wp-content/uploads/2023/07/Stockton-Sister-Cities-Association.jpg
END:VEVENT
BEGIN:VEVENT
DTSTART;TZID=America/Los_Angeles:20260806T120000
DTEND;TZID=America/Los_Angeles:20260806T130000
DTSTAMP:20260423T095238
CREATED:20230725T222122Z
LAST-MODIFIED:20230725T222122Z
UID:10000285-1786017600-1786021200@norcalsistercities.org
SUMMARY:Stockton Sister Cities Association Board Meeting
DESCRIPTION:First Thursday of the Month \nValley Brew
URL:https://norcalsistercities.org/events/stockton-sister-cities-association-board-meeting/2026-08-06/
LOCATION:Valley Brew\, 157 W Adams St.\, Stockton\, CA\, 95204\, United States
CATEGORIES:Meetings
ATTACH;FMTTYPE=image/jpeg:https://norcalsistercities.org/wp-content/uploads/2023/07/Stockton-Sister-Cities-Association.jpg
END:VEVENT
BEGIN:VEVENT
DTSTART;TZID=America/Los_Angeles:20260903T120000
DTEND;TZID=America/Los_Angeles:20260903T130000
DTSTAMP:20260423T095238
CREATED:20230725T222122Z
LAST-MODIFIED:20230725T222122Z
UID:10000286-1788436800-1788440400@norcalsistercities.org
SUMMARY:Stockton Sister Cities Association Board Meeting
DESCRIPTION:First Thursday of the Month \nValley Brew
URL:https://norcalsistercities.org/events/stockton-sister-cities-association-board-meeting/2026-09-03/
LOCATION:Valley Brew\, 157 W Adams St.\, Stockton\, CA\, 95204\, United States
CATEGORIES:Meetings
ATTACH;FMTTYPE=image/jpeg:https://norcalsistercities.org/wp-content/uploads/2023/07/Stockton-Sister-Cities-Association.jpg
END:VEVENT
BEGIN:VEVENT
DTSTART;TZID=America/Los_Angeles:20261001T120000
DTEND;TZID=America/Los_Angeles:20261001T130000
DTSTAMP:20260423T095238
CREATED:20230725T222122Z
LAST-MODIFIED:20230725T222122Z
UID:10000287-1790856000-1790859600@norcalsistercities.org
SUMMARY:Stockton Sister Cities Association Board Meeting
DESCRIPTION:First Thursday of the Month \nValley Brew
URL:https://norcalsistercities.org/events/stockton-sister-cities-association-board-meeting/2026-10-01/
LOCATION:Valley Brew\, 157 W Adams St.\, Stockton\, CA\, 95204\, United States
CATEGORIES:Meetings
ATTACH;FMTTYPE=image/jpeg:https://norcalsistercities.org/wp-content/uploads/2023/07/Stockton-Sister-Cities-Association.jpg
END:VEVENT
BEGIN:VEVENT
DTSTART;TZID=America/Los_Angeles:20261105T120000
DTEND;TZID=America/Los_Angeles:20261105T130000
DTSTAMP:20260423T095238
CREATED:20230725T222122Z
LAST-MODIFIED:20230725T222122Z
UID:10000288-1793880000-1793883600@norcalsistercities.org
SUMMARY:Stockton Sister Cities Association Board Meeting
DESCRIPTION:First Thursday of the Month \nValley Brew
URL:https://norcalsistercities.org/events/stockton-sister-cities-association-board-meeting/2026-11-05/
LOCATION:Valley Brew\, 157 W Adams St.\, Stockton\, CA\, 95204\, United States
CATEGORIES:Meetings
ATTACH;FMTTYPE=image/jpeg:https://norcalsistercities.org/wp-content/uploads/2023/07/Stockton-Sister-Cities-Association.jpg
END:VEVENT
BEGIN:VEVENT
DTSTART;TZID=America/Los_Angeles:20261203T120000
DTEND;TZID=America/Los_Angeles:20261203T130000
DTSTAMP:20260423T095238
CREATED:20230725T222122Z
LAST-MODIFIED:20230725T222122Z
UID:10000289-1796299200-1796302800@norcalsistercities.org
SUMMARY:Stockton Sister Cities Association Board Meeting
DESCRIPTION:First Thursday of the Month \nValley Brew
URL:https://norcalsistercities.org/events/stockton-sister-cities-association-board-meeting/2026-12-03/
LOCATION:Valley Brew\, 157 W Adams St.\, Stockton\, CA\, 95204\, United States
CATEGORIES:Meetings
ATTACH;FMTTYPE=image/jpeg:https://norcalsistercities.org/wp-content/uploads/2023/07/Stockton-Sister-Cities-Association.jpg
END:VEVENT
BEGIN:VEVENT
DTSTART;TZID=America/Los_Angeles:20270107T120000
DTEND;TZID=America/Los_Angeles:20270107T130000
DTSTAMP:20260423T095238
CREATED:20230725T222122Z
LAST-MODIFIED:20230725T222122Z
UID:10000290-1799323200-1799326800@norcalsistercities.org
SUMMARY:Stockton Sister Cities Association Board Meeting
DESCRIPTION:First Thursday of the Month \nValley Brew
URL:https://norcalsistercities.org/events/stockton-sister-cities-association-board-meeting/2027-01-07/
LOCATION:Valley Brew\, 157 W Adams St.\, Stockton\, CA\, 95204\, United States
CATEGORIES:Meetings
ATTACH;FMTTYPE=image/jpeg:https://norcalsistercities.org/wp-content/uploads/2023/07/Stockton-Sister-Cities-Association.jpg
END:VEVENT
BEGIN:VEVENT
DTSTART;TZID=America/Los_Angeles:20270204T120000
DTEND;TZID=America/Los_Angeles:20270204T130000
DTSTAMP:20260423T095238
CREATED:20230725T222122Z
LAST-MODIFIED:20230725T222122Z
UID:10000291-1801742400-1801746000@norcalsistercities.org
SUMMARY:Stockton Sister Cities Association Board Meeting
DESCRIPTION:First Thursday of the Month \nValley Brew
URL:https://norcalsistercities.org/events/stockton-sister-cities-association-board-meeting/2027-02-04/
LOCATION:Valley Brew\, 157 W Adams St.\, Stockton\, CA\, 95204\, United States
CATEGORIES:Meetings
ATTACH;FMTTYPE=image/jpeg:https://norcalsistercities.org/wp-content/uploads/2023/07/Stockton-Sister-Cities-Association.jpg
END:VEVENT
BEGIN:VEVENT
DTSTART;TZID=America/Los_Angeles:20270304T120000
DTEND;TZID=America/Los_Angeles:20270304T130000
DTSTAMP:20260423T095238
CREATED:20230725T222122Z
LAST-MODIFIED:20230725T222122Z
UID:10000292-1804161600-1804165200@norcalsistercities.org
SUMMARY:Stockton Sister Cities Association Board Meeting
DESCRIPTION:First Thursday of the Month \nValley Brew
URL:https://norcalsistercities.org/events/stockton-sister-cities-association-board-meeting/2027-03-04/
LOCATION:Valley Brew\, 157 W Adams St.\, Stockton\, CA\, 95204\, United States
CATEGORIES:Meetings
ATTACH;FMTTYPE=image/jpeg:https://norcalsistercities.org/wp-content/uploads/2023/07/Stockton-Sister-Cities-Association.jpg
END:VEVENT
BEGIN:VEVENT
DTSTART;TZID=America/Los_Angeles:20270401T120000
DTEND;TZID=America/Los_Angeles:20270401T130000
DTSTAMP:20260423T095238
CREATED:20230725T222122Z
LAST-MODIFIED:20230725T222122Z
UID:10000293-1806580800-1806584400@norcalsistercities.org
SUMMARY:Stockton Sister Cities Association Board Meeting
DESCRIPTION:First Thursday of the Month \nValley Brew
URL:https://norcalsistercities.org/events/stockton-sister-cities-association-board-meeting/2027-04-01/
LOCATION:Valley Brew\, 157 W Adams St.\, Stockton\, CA\, 95204\, United States
CATEGORIES:Meetings
ATTACH;FMTTYPE=image/jpeg:https://norcalsistercities.org/wp-content/uploads/2023/07/Stockton-Sister-Cities-Association.jpg
END:VEVENT
BEGIN:VEVENT
DTSTART;TZID=America/Los_Angeles:20270506T120000
DTEND;TZID=America/Los_Angeles:20270506T130000
DTSTAMP:20260423T095238
CREATED:20230725T222122Z
LAST-MODIFIED:20230725T222122Z
UID:10000294-1809604800-1809608400@norcalsistercities.org
SUMMARY:Stockton Sister Cities Association Board Meeting
DESCRIPTION:First Thursday of the Month \nValley Brew
URL:https://norcalsistercities.org/events/stockton-sister-cities-association-board-meeting/2027-05-06/
LOCATION:Valley Brew\, 157 W Adams St.\, Stockton\, CA\, 95204\, United States
CATEGORIES:Meetings
ATTACH;FMTTYPE=image/jpeg:https://norcalsistercities.org/wp-content/uploads/2023/07/Stockton-Sister-Cities-Association.jpg
END:VEVENT
BEGIN:VEVENT
DTSTART;TZID=America/Los_Angeles:20270603T120000
DTEND;TZID=America/Los_Angeles:20270603T130000
DTSTAMP:20260423T095238
CREATED:20230725T222122Z
LAST-MODIFIED:20230725T222122Z
UID:10000295-1812024000-1812027600@norcalsistercities.org
SUMMARY:Stockton Sister Cities Association Board Meeting
DESCRIPTION:First Thursday of the Month \nValley Brew
URL:https://norcalsistercities.org/events/stockton-sister-cities-association-board-meeting/2027-06-03/
LOCATION:Valley Brew\, 157 W Adams St.\, Stockton\, CA\, 95204\, United States
CATEGORIES:Meetings
ATTACH;FMTTYPE=image/jpeg:https://norcalsistercities.org/wp-content/uploads/2023/07/Stockton-Sister-Cities-Association.jpg
END:VEVENT
BEGIN:VEVENT
DTSTART;TZID=America/Los_Angeles:20270701T120000
DTEND;TZID=America/Los_Angeles:20270701T130000
DTSTAMP:20260423T095238
CREATED:20230725T222122Z
LAST-MODIFIED:20230725T222122Z
UID:10000296-1814443200-1814446800@norcalsistercities.org
SUMMARY:Stockton Sister Cities Association Board Meeting
DESCRIPTION:First Thursday of the Month \nValley Brew
URL:https://norcalsistercities.org/events/stockton-sister-cities-association-board-meeting/2027-07-01/
LOCATION:Valley Brew\, 157 W Adams St.\, Stockton\, CA\, 95204\, United States
CATEGORIES:Meetings
ATTACH;FMTTYPE=image/jpeg:https://norcalsistercities.org/wp-content/uploads/2023/07/Stockton-Sister-Cities-Association.jpg
END:VEVENT
BEGIN:VEVENT
DTSTART;TZID=America/Los_Angeles:20270805T120000
DTEND;TZID=America/Los_Angeles:20270805T130000
DTSTAMP:20260423T095238
CREATED:20230725T222122Z
LAST-MODIFIED:20230725T222122Z
UID:10000297-1817467200-1817470800@norcalsistercities.org
SUMMARY:Stockton Sister Cities Association Board Meeting
DESCRIPTION:First Thursday of the Month \nValley Brew
URL:https://norcalsistercities.org/events/stockton-sister-cities-association-board-meeting/2027-08-05/
LOCATION:Valley Brew\, 157 W Adams St.\, Stockton\, CA\, 95204\, United States
CATEGORIES:Meetings
ATTACH;FMTTYPE=image/jpeg:https://norcalsistercities.org/wp-content/uploads/2023/07/Stockton-Sister-Cities-Association.jpg
END:VEVENT
BEGIN:VEVENT
DTSTART;TZID=America/Los_Angeles:20270902T120000
DTEND;TZID=America/Los_Angeles:20270902T130000
DTSTAMP:20260423T095238
CREATED:20230725T222122Z
LAST-MODIFIED:20230725T222122Z
UID:10000298-1819886400-1819890000@norcalsistercities.org
SUMMARY:Stockton Sister Cities Association Board Meeting
DESCRIPTION:First Thursday of the Month \nValley Brew
URL:https://norcalsistercities.org/events/stockton-sister-cities-association-board-meeting/2027-09-02/
LOCATION:Valley Brew\, 157 W Adams St.\, Stockton\, CA\, 95204\, United States
CATEGORIES:Meetings
ATTACH;FMTTYPE=image/jpeg:https://norcalsistercities.org/wp-content/uploads/2023/07/Stockton-Sister-Cities-Association.jpg
END:VEVENT
BEGIN:VEVENT
DTSTART;TZID=America/Los_Angeles:20271007T120000
DTEND;TZID=America/Los_Angeles:20271007T130000
DTSTAMP:20260423T095238
CREATED:20230725T222122Z
LAST-MODIFIED:20230725T222122Z
UID:10000299-1822910400-1822914000@norcalsistercities.org
SUMMARY:Stockton Sister Cities Association Board Meeting
DESCRIPTION:First Thursday of the Month \nValley Brew
URL:https://norcalsistercities.org/events/stockton-sister-cities-association-board-meeting/2027-10-07/
LOCATION:Valley Brew\, 157 W Adams St.\, Stockton\, CA\, 95204\, United States
CATEGORIES:Meetings
ATTACH;FMTTYPE=image/jpeg:https://norcalsistercities.org/wp-content/uploads/2023/07/Stockton-Sister-Cities-Association.jpg
END:VEVENT
BEGIN:VEVENT
DTSTART;TZID=America/Los_Angeles:20271104T120000
DTEND;TZID=America/Los_Angeles:20271104T130000
DTSTAMP:20260423T095238
CREATED:20230725T222122Z
LAST-MODIFIED:20230725T222122Z
UID:10000300-1825329600-1825333200@norcalsistercities.org
SUMMARY:Stockton Sister Cities Association Board Meeting
DESCRIPTION:First Thursday of the Month \nValley Brew
URL:https://norcalsistercities.org/events/stockton-sister-cities-association-board-meeting/2027-11-04/
LOCATION:Valley Brew\, 157 W Adams St.\, Stockton\, CA\, 95204\, United States
CATEGORIES:Meetings
ATTACH;FMTTYPE=image/jpeg:https://norcalsistercities.org/wp-content/uploads/2023/07/Stockton-Sister-Cities-Association.jpg
END:VEVENT
BEGIN:VEVENT
DTSTART;TZID=America/Los_Angeles:20271202T120000
DTEND;TZID=America/Los_Angeles:20271202T130000
DTSTAMP:20260423T095238
CREATED:20230725T222122Z
LAST-MODIFIED:20230725T222122Z
UID:10000301-1827748800-1827752400@norcalsistercities.org
SUMMARY:Stockton Sister Cities Association Board Meeting
DESCRIPTION:First Thursday of the Month \nValley Brew
URL:https://norcalsistercities.org/events/stockton-sister-cities-association-board-meeting/2027-12-02/
LOCATION:Valley Brew\, 157 W Adams St.\, Stockton\, CA\, 95204\, United States
CATEGORIES:Meetings
ATTACH;FMTTYPE=image/jpeg:https://norcalsistercities.org/wp-content/uploads/2023/07/Stockton-Sister-Cities-Association.jpg
END:VEVENT
BEGIN:VEVENT
DTSTART;TZID=America/Los_Angeles:20280106T120000
DTEND;TZID=America/Los_Angeles:20280106T130000
DTSTAMP:20260423T095238
CREATED:20230725T222122Z
LAST-MODIFIED:20230725T222122Z
UID:10000302-1830772800-1830776400@norcalsistercities.org
SUMMARY:Stockton Sister Cities Association Board Meeting
DESCRIPTION:First Thursday of the Month \nValley Brew
URL:https://norcalsistercities.org/events/stockton-sister-cities-association-board-meeting/2028-01-06/
LOCATION:Valley Brew\, 157 W Adams St.\, Stockton\, CA\, 95204\, United States
CATEGORIES:Meetings
ATTACH;FMTTYPE=image/jpeg:https://norcalsistercities.org/wp-content/uploads/2023/07/Stockton-Sister-Cities-Association.jpg
END:VEVENT
BEGIN:VEVENT
DTSTART;TZID=America/Los_Angeles:20280203T120000
DTEND;TZID=America/Los_Angeles:20280203T130000
DTSTAMP:20260423T095238
CREATED:20230725T222122Z
LAST-MODIFIED:20230725T222122Z
UID:10000303-1833192000-1833195600@norcalsistercities.org
SUMMARY:Stockton Sister Cities Association Board Meeting
DESCRIPTION:First Thursday of the Month \nValley Brew
URL:https://norcalsistercities.org/events/stockton-sister-cities-association-board-meeting/2028-02-03/
LOCATION:Valley Brew\, 157 W Adams St.\, Stockton\, CA\, 95204\, United States
CATEGORIES:Meetings
ATTACH;FMTTYPE=image/jpeg:https://norcalsistercities.org/wp-content/uploads/2023/07/Stockton-Sister-Cities-Association.jpg
END:VEVENT
BEGIN:VEVENT
DTSTART;TZID=America/Los_Angeles:20280302T120000
DTEND;TZID=America/Los_Angeles:20280302T130000
DTSTAMP:20260423T095238
CREATED:20230725T222122Z
LAST-MODIFIED:20230725T222122Z
UID:10000304-1835611200-1835614800@norcalsistercities.org
SUMMARY:Stockton Sister Cities Association Board Meeting
DESCRIPTION:First Thursday of the Month \nValley Brew
URL:https://norcalsistercities.org/events/stockton-sister-cities-association-board-meeting/2028-03-02/
LOCATION:Valley Brew\, 157 W Adams St.\, Stockton\, CA\, 95204\, United States
CATEGORIES:Meetings
ATTACH;FMTTYPE=image/jpeg:https://norcalsistercities.org/wp-content/uploads/2023/07/Stockton-Sister-Cities-Association.jpg
END:VEVENT
BEGIN:VEVENT
DTSTART;TZID=America/Los_Angeles:20280406T120000
DTEND;TZID=America/Los_Angeles:20280406T130000
DTSTAMP:20260423T095238
CREATED:20230725T222122Z
LAST-MODIFIED:20230725T222122Z
UID:10000305-1838635200-1838638800@norcalsistercities.org
SUMMARY:Stockton Sister Cities Association Board Meeting
DESCRIPTION:First Thursday of the Month \nValley Brew
URL:https://norcalsistercities.org/events/stockton-sister-cities-association-board-meeting/2028-04-06/
LOCATION:Valley Brew\, 157 W Adams St.\, Stockton\, CA\, 95204\, United States
CATEGORIES:Meetings
ATTACH;FMTTYPE=image/jpeg:https://norcalsistercities.org/wp-content/uploads/2023/07/Stockton-Sister-Cities-Association.jpg
END:VEVENT
BEGIN:VEVENT
DTSTART;TZID=America/Los_Angeles:20280504T120000
DTEND;TZID=America/Los_Angeles:20280504T130000
DTSTAMP:20260423T095238
CREATED:20230725T222122Z
LAST-MODIFIED:20230725T222122Z
UID:10000306-1841054400-1841058000@norcalsistercities.org
SUMMARY:Stockton Sister Cities Association Board Meeting
DESCRIPTION:First Thursday of the Month \nValley Brew
URL:https://norcalsistercities.org/events/stockton-sister-cities-association-board-meeting/2028-05-04/
LOCATION:Valley Brew\, 157 W Adams St.\, Stockton\, CA\, 95204\, United States
CATEGORIES:Meetings
ATTACH;FMTTYPE=image/jpeg:https://norcalsistercities.org/wp-content/uploads/2023/07/Stockton-Sister-Cities-Association.jpg
END:VEVENT
BEGIN:VEVENT
DTSTART;TZID=America/Los_Angeles:20280601T120000
DTEND;TZID=America/Los_Angeles:20280601T130000
DTSTAMP:20260423T095238
CREATED:20230725T222122Z
LAST-MODIFIED:20230725T222122Z
UID:10000307-1843473600-1843477200@norcalsistercities.org
SUMMARY:Stockton Sister Cities Association Board Meeting
DESCRIPTION:First Thursday of the Month \nValley Brew
URL:https://norcalsistercities.org/events/stockton-sister-cities-association-board-meeting/2028-06-01/
LOCATION:Valley Brew\, 157 W Adams St.\, Stockton\, CA\, 95204\, United States
CATEGORIES:Meetings
ATTACH;FMTTYPE=image/jpeg:https://norcalsistercities.org/wp-content/uploads/2023/07/Stockton-Sister-Cities-Association.jpg
END:VEVENT
BEGIN:VEVENT
DTSTART;TZID=America/Los_Angeles:20280706T120000
DTEND;TZID=America/Los_Angeles:20280706T130000
DTSTAMP:20260423T095238
CREATED:20230725T222122Z
LAST-MODIFIED:20230725T222122Z
UID:10000308-1846497600-1846501200@norcalsistercities.org
SUMMARY:Stockton Sister Cities Association Board Meeting
DESCRIPTION:First Thursday of the Month \nValley Brew
URL:https://norcalsistercities.org/events/stockton-sister-cities-association-board-meeting/2028-07-06/
LOCATION:Valley Brew\, 157 W Adams St.\, Stockton\, CA\, 95204\, United States
CATEGORIES:Meetings
ATTACH;FMTTYPE=image/jpeg:https://norcalsistercities.org/wp-content/uploads/2023/07/Stockton-Sister-Cities-Association.jpg
END:VEVENT
BEGIN:VEVENT
DTSTART;TZID=America/Los_Angeles:20280803T120000
DTEND;TZID=America/Los_Angeles:20280803T130000
DTSTAMP:20260423T095238
CREATED:20230725T222122Z
LAST-MODIFIED:20230725T222122Z
UID:10000751-1848916800-1848920400@norcalsistercities.org
SUMMARY:Stockton Sister Cities Association Board Meeting
DESCRIPTION:First Thursday of the Month \nValley Brew
URL:https://norcalsistercities.org/events/stockton-sister-cities-association-board-meeting/2028-08-03/
LOCATION:Valley Brew\, 157 W Adams St.\, Stockton\, CA\, 95204\, United States
CATEGORIES:Meetings
ATTACH;FMTTYPE=image/jpeg:https://norcalsistercities.org/wp-content/uploads/2023/07/Stockton-Sister-Cities-Association.jpg
END:VEVENT
BEGIN:VEVENT
DTSTART;TZID=America/Los_Angeles:20280907T120000
DTEND;TZID=America/Los_Angeles:20280907T130000
DTSTAMP:20260423T095238
CREATED:20230725T222122Z
LAST-MODIFIED:20230725T222122Z
UID:10000752-1851940800-1851944400@norcalsistercities.org
SUMMARY:Stockton Sister Cities Association Board Meeting
DESCRIPTION:First Thursday of the Month \nValley Brew
URL:https://norcalsistercities.org/events/stockton-sister-cities-association-board-meeting/2028-09-07/
LOCATION:Valley Brew\, 157 W Adams St.\, Stockton\, CA\, 95204\, United States
CATEGORIES:Meetings
ATTACH;FMTTYPE=image/jpeg:https://norcalsistercities.org/wp-content/uploads/2023/07/Stockton-Sister-Cities-Association.jpg
END:VEVENT
BEGIN:VEVENT
DTSTART;TZID=America/Los_Angeles:20281005T120000
DTEND;TZID=America/Los_Angeles:20281005T130000
DTSTAMP:20260423T095238
CREATED:20230725T222122Z
LAST-MODIFIED:20230725T222122Z
UID:10000753-1854360000-1854363600@norcalsistercities.org
SUMMARY:Stockton Sister Cities Association Board Meeting
DESCRIPTION:First Thursday of the Month \nValley Brew
URL:https://norcalsistercities.org/events/stockton-sister-cities-association-board-meeting/2028-10-05/
LOCATION:Valley Brew\, 157 W Adams St.\, Stockton\, CA\, 95204\, United States
CATEGORIES:Meetings
ATTACH;FMTTYPE=image/jpeg:https://norcalsistercities.org/wp-content/uploads/2023/07/Stockton-Sister-Cities-Association.jpg
END:VEVENT
END:VCALENDAR