BEGIN:VCALENDAR
VERSION:2.0
PRODID:-//Northern California Chapter of Sister Cities International - ECPv6.15.20//NONSGML v1.0//EN
CALSCALE:GREGORIAN
METHOD:PUBLISH
X-ORIGINAL-URL:https://norcalsistercities.org
X-WR-CALDESC:Events for Northern California Chapter of Sister Cities International
REFRESH-INTERVAL;VALUE=DURATION:PT1H
X-Robots-Tag:noindex
X-PUBLISHED-TTL:PT1H
BEGIN:VTIMEZONE
TZID:America/Los_Angeles
BEGIN:DAYLIGHT
TZOFFSETFROM:-0800
TZOFFSETTO:-0700
TZNAME:PDT
DTSTART:20290311T100000
END:DAYLIGHT
BEGIN:STANDARD
TZOFFSETFROM:-0700
TZOFFSETTO:-0800
TZNAME:PST
DTSTART:20291104T090000
END:STANDARD
BEGIN:DAYLIGHT
TZOFFSETFROM:-0800
TZOFFSETTO:-0700
TZNAME:PDT
DTSTART:20300310T100000
END:DAYLIGHT
BEGIN:STANDARD
TZOFFSETFROM:-0700
TZOFFSETTO:-0800
TZNAME:PST
DTSTART:20301103T090000
END:STANDARD
BEGIN:DAYLIGHT
TZOFFSETFROM:-0800
TZOFFSETTO:-0700
TZNAME:PDT
DTSTART:20310309T100000
END:DAYLIGHT
BEGIN:STANDARD
TZOFFSETFROM:-0700
TZOFFSETTO:-0800
TZNAME:PST
DTSTART:20311102T090000
END:STANDARD
BEGIN:DAYLIGHT
TZOFFSETFROM:-0800
TZOFFSETTO:-0700
TZNAME:PDT
DTSTART:20320314T100000
END:DAYLIGHT
BEGIN:STANDARD
TZOFFSETFROM:-0700
TZOFFSETTO:-0800
TZNAME:PST
DTSTART:20321107T090000
END:STANDARD
END:VTIMEZONE
BEGIN:VEVENT
DTSTART;TZID=America/Los_Angeles:20300718T193000
DTEND;TZID=America/Los_Angeles:20300718T203000
DTSTAMP:20260423T165305
CREATED:20260419T234328Z
LAST-MODIFIED:20260419T234328Z
UID:10001241-1910633400-1910637000@norcalsistercities.org
SUMMARY:Santa Clara Sister Cities Association Board Meeting
DESCRIPTION:The SCSCA board meeting over Zoom. Email the board secretary if you are interested in attending. \nVirtual
URL:https://norcalsistercities.org/events/santa-clara-sister-cities-association-board-meeting/2030-07-18/
LOCATION:Virtual
CATEGORIES:Meetings
ORGANIZER;CN="Santa Clara Sister Cities Association":MAILTO:president@santaclarasistercities.org
END:VEVENT
BEGIN:VEVENT
DTSTART;TZID=America/Los_Angeles:20300815T193000
DTEND;TZID=America/Los_Angeles:20300815T203000
DTSTAMP:20260423T165305
CREATED:20260419T234328Z
LAST-MODIFIED:20260419T234328Z
UID:10001242-1913052600-1913056200@norcalsistercities.org
SUMMARY:Santa Clara Sister Cities Association Board Meeting
DESCRIPTION:The SCSCA board meeting over Zoom. Email the board secretary if you are interested in attending. \nVirtual
URL:https://norcalsistercities.org/events/santa-clara-sister-cities-association-board-meeting/2030-08-15/
LOCATION:Virtual
CATEGORIES:Meetings
ORGANIZER;CN="Santa Clara Sister Cities Association":MAILTO:president@santaclarasistercities.org
END:VEVENT
BEGIN:VEVENT
DTSTART;TZID=America/Los_Angeles:20300919T193000
DTEND;TZID=America/Los_Angeles:20300919T203000
DTSTAMP:20260423T165305
CREATED:20260419T234328Z
LAST-MODIFIED:20260419T234328Z
UID:10001243-1916076600-1916080200@norcalsistercities.org
SUMMARY:Santa Clara Sister Cities Association Board Meeting
DESCRIPTION:The SCSCA board meeting over Zoom. Email the board secretary if you are interested in attending. \nVirtual
URL:https://norcalsistercities.org/events/santa-clara-sister-cities-association-board-meeting/2030-09-19/
LOCATION:Virtual
CATEGORIES:Meetings
ORGANIZER;CN="Santa Clara Sister Cities Association":MAILTO:president@santaclarasistercities.org
END:VEVENT
BEGIN:VEVENT
DTSTART;TZID=America/Los_Angeles:20301017T193000
DTEND;TZID=America/Los_Angeles:20301017T203000
DTSTAMP:20260423T165305
CREATED:20260419T234328Z
LAST-MODIFIED:20260419T234328Z
UID:10001244-1918495800-1918499400@norcalsistercities.org
SUMMARY:Santa Clara Sister Cities Association Board Meeting
DESCRIPTION:The SCSCA board meeting over Zoom. Email the board secretary if you are interested in attending. \nVirtual
URL:https://norcalsistercities.org/events/santa-clara-sister-cities-association-board-meeting/2030-10-17/
LOCATION:Virtual
CATEGORIES:Meetings
ORGANIZER;CN="Santa Clara Sister Cities Association":MAILTO:president@santaclarasistercities.org
END:VEVENT
BEGIN:VEVENT
DTSTART;TZID=America/Los_Angeles:20301121T193000
DTEND;TZID=America/Los_Angeles:20301121T203000
DTSTAMP:20260423T165305
CREATED:20260419T234328Z
LAST-MODIFIED:20260419T234328Z
UID:10001245-1921519800-1921523400@norcalsistercities.org
SUMMARY:Santa Clara Sister Cities Association Board Meeting
DESCRIPTION:The SCSCA board meeting over Zoom. Email the board secretary if you are interested in attending. \nVirtual
URL:https://norcalsistercities.org/events/santa-clara-sister-cities-association-board-meeting/2030-11-21/
LOCATION:Virtual
CATEGORIES:Meetings
ORGANIZER;CN="Santa Clara Sister Cities Association":MAILTO:president@santaclarasistercities.org
END:VEVENT
BEGIN:VEVENT
DTSTART;TZID=America/Los_Angeles:20301219T193000
DTEND;TZID=America/Los_Angeles:20301219T203000
DTSTAMP:20260423T165305
CREATED:20260419T234328Z
LAST-MODIFIED:20260419T234328Z
UID:10001246-1923939000-1923942600@norcalsistercities.org
SUMMARY:Santa Clara Sister Cities Association Board Meeting
DESCRIPTION:The SCSCA board meeting over Zoom. Email the board secretary if you are interested in attending. \nVirtual
URL:https://norcalsistercities.org/events/santa-clara-sister-cities-association-board-meeting/2030-12-19/
LOCATION:Virtual
CATEGORIES:Meetings
ORGANIZER;CN="Santa Clara Sister Cities Association":MAILTO:president@santaclarasistercities.org
END:VEVENT
BEGIN:VEVENT
DTSTART;TZID=America/Los_Angeles:20310116T193000
DTEND;TZID=America/Los_Angeles:20310116T203000
DTSTAMP:20260423T165305
CREATED:20260419T234328Z
LAST-MODIFIED:20260419T234328Z
UID:10001247-1926358200-1926361800@norcalsistercities.org
SUMMARY:Santa Clara Sister Cities Association Board Meeting
DESCRIPTION:The SCSCA board meeting over Zoom. Email the board secretary if you are interested in attending. \nVirtual
URL:https://norcalsistercities.org/events/santa-clara-sister-cities-association-board-meeting/2031-01-16/
LOCATION:Virtual
CATEGORIES:Meetings
ORGANIZER;CN="Santa Clara Sister Cities Association":MAILTO:president@santaclarasistercities.org
END:VEVENT
BEGIN:VEVENT
DTSTART;TZID=America/Los_Angeles:20310220T193000
DTEND;TZID=America/Los_Angeles:20310220T203000
DTSTAMP:20260423T165305
CREATED:20260419T234328Z
LAST-MODIFIED:20260419T234328Z
UID:10001248-1929382200-1929385800@norcalsistercities.org
SUMMARY:Santa Clara Sister Cities Association Board Meeting
DESCRIPTION:The SCSCA board meeting over Zoom. Email the board secretary if you are interested in attending. \nVirtual
URL:https://norcalsistercities.org/events/santa-clara-sister-cities-association-board-meeting/2031-02-20/
LOCATION:Virtual
CATEGORIES:Meetings
ORGANIZER;CN="Santa Clara Sister Cities Association":MAILTO:president@santaclarasistercities.org
END:VEVENT
BEGIN:VEVENT
DTSTART;TZID=America/Los_Angeles:20310320T193000
DTEND;TZID=America/Los_Angeles:20310320T203000
DTSTAMP:20260423T165305
CREATED:20260419T234328Z
LAST-MODIFIED:20260419T234328Z
UID:10001249-1931801400-1931805000@norcalsistercities.org
SUMMARY:Santa Clara Sister Cities Association Board Meeting
DESCRIPTION:The SCSCA board meeting over Zoom. Email the board secretary if you are interested in attending. \nVirtual
URL:https://norcalsistercities.org/events/santa-clara-sister-cities-association-board-meeting/2031-03-20/
LOCATION:Virtual
CATEGORIES:Meetings
ORGANIZER;CN="Santa Clara Sister Cities Association":MAILTO:president@santaclarasistercities.org
END:VEVENT
BEGIN:VEVENT
DTSTART;TZID=America/Los_Angeles:20310417T193000
DTEND;TZID=America/Los_Angeles:20310417T203000
DTSTAMP:20260423T165305
CREATED:20260419T234328Z
LAST-MODIFIED:20260419T234328Z
UID:10001250-1934220600-1934224200@norcalsistercities.org
SUMMARY:Santa Clara Sister Cities Association Board Meeting
DESCRIPTION:The SCSCA board meeting over Zoom. Email the board secretary if you are interested in attending. \nVirtual
URL:https://norcalsistercities.org/events/santa-clara-sister-cities-association-board-meeting/2031-04-17/
LOCATION:Virtual
CATEGORIES:Meetings
ORGANIZER;CN="Santa Clara Sister Cities Association":MAILTO:president@santaclarasistercities.org
END:VEVENT
END:VCALENDAR