BEGIN:VCALENDAR
VERSION:2.0
PRODID:-//Northern California Chapter of Sister Cities International - ECPv6.15.20//NONSGML v1.0//EN
CALSCALE:GREGORIAN
METHOD:PUBLISH
X-WR-CALNAME:Northern California Chapter of Sister Cities International
X-ORIGINAL-URL:https://norcalsistercities.org
X-WR-CALDESC:Events for Northern California Chapter of Sister Cities International
REFRESH-INTERVAL;VALUE=DURATION:PT1H
X-Robots-Tag:noindex
X-PUBLISHED-TTL:PT1H
BEGIN:VTIMEZONE
TZID:America/Los_Angeles
BEGIN:DAYLIGHT
TZOFFSETFROM:-0800
TZOFFSETTO:-0700
TZNAME:PDT
DTSTART:20240310T100000
END:DAYLIGHT
BEGIN:STANDARD
TZOFFSETFROM:-0700
TZOFFSETTO:-0800
TZNAME:PST
DTSTART:20241103T090000
END:STANDARD
BEGIN:DAYLIGHT
TZOFFSETFROM:-0800
TZOFFSETTO:-0700
TZNAME:PDT
DTSTART:20250309T100000
END:DAYLIGHT
BEGIN:STANDARD
TZOFFSETFROM:-0700
TZOFFSETTO:-0800
TZNAME:PST
DTSTART:20251102T090000
END:STANDARD
BEGIN:DAYLIGHT
TZOFFSETFROM:-0800
TZOFFSETTO:-0700
TZNAME:PDT
DTSTART:20260308T100000
END:DAYLIGHT
BEGIN:STANDARD
TZOFFSETFROM:-0700
TZOFFSETTO:-0800
TZNAME:PST
DTSTART:20261101T090000
END:STANDARD
END:VTIMEZONE
BEGIN:VEVENT
DTSTART;TZID=America/Los_Angeles:20251108T100000
DTEND;TZID=America/Los_Angeles:20251108T140000
DTSTAMP:20260423T170249
CREATED:20250726T183136Z
LAST-MODIFIED:20251029T234351Z
UID:10000724-1762596000-1762610400@norcalsistercities.org
SUMMARY:48th NorCal Chapter Annual Conference: “Sister City Showcase!”
DESCRIPTION:48th NorCal Chapter Annual Conference: “Sister City Showcase!”\nJoin us for a dynamic gathering of sister city leaders at this year’s NorCal SCI Annual Conference\, where connection meets inspiration! This special event will showcase some of the most outstanding sister city programs from across Northern California\, highlighting best practices\, creative initiatives\, and success stories. \nCome learn about Sister Cities International’s exciting initiatives and discover new ways to strengthen your own partnerships. Engage in a small-group breakout session designed for meaningful networking and idea-sharing with fellow sister city leaders. \nThis event is open to all sister city organizations\, elected officials and stakeholders in Northern California. Don’t miss this unique opportunity to connect\, collaborate\, and grow! \nDraft Agenda\n \n\n\nTime\nDescription\n\n\n \n\n9:30 a.m.\nDoors open\n\n \n\n10 a.m.\nWelcome and Introductions\n\n \n\n10:15 a.m.\nSister Cities International Report\n\n \n\n10:45 a.m.\nSister City Showcases – Part 1\n\n \n\n11:20 a.m.\nFeatured Speaker\n\n \n\n11:50 a.m.\nLunch\, Entertainment\, Sister City exhibits\n\n \n\n12:45 p.m.\nSister City Showcases – Part 2\n\n \n\n1:20 p.m.\nBreakout Sessions\n\n \n\n2 p.m.\nClosing Remarks\n\n\n\n2:15 p.m.  Following the end of the conference\, the Northern California Chapter will host its 4th Quarter meeting and annual business meeting/elections. \nRegistration\nRegistration fee includes lunch. $50 per ticket/person. Participants from NorCal SCI member jurisdictions can save $5 with promo code NORCAL2025. \nRegister online \nWilder Art & Garden Center
URL:https://norcalsistercities.org/events/conference/
LOCATION:Wilder Art & Garden Center\, 101 Wilder Rd\, Orinda\, CA\, 94563\, United States
CATEGORIES:Meetings
ATTACH;FMTTYPE=image/jpeg:https://norcalsistercities.org/wp-content/uploads/2025/10/Wilder-Art-and-Garden-Center-4.jpg
END:VEVENT
END:VCALENDAR