BEGIN:VCALENDAR
VERSION:2.0
PRODID:-//Northern California Chapter of Sister Cities International - ECPv6.15.20//NONSGML v1.0//EN
CALSCALE:GREGORIAN
METHOD:PUBLISH
X-WR-CALNAME:Northern California Chapter of Sister Cities International
X-ORIGINAL-URL:https://norcalsistercities.org
X-WR-CALDESC:Events for Northern California Chapter of Sister Cities International
REFRESH-INTERVAL;VALUE=DURATION:PT1H
X-Robots-Tag:noindex
X-PUBLISHED-TTL:PT1H
BEGIN:VTIMEZONE
TZID:America/Los_Angeles
BEGIN:DAYLIGHT
TZOFFSETFROM:-0800
TZOFFSETTO:-0700
TZNAME:PDT
DTSTART:20220313T100000
END:DAYLIGHT
BEGIN:STANDARD
TZOFFSETFROM:-0700
TZOFFSETTO:-0800
TZNAME:PST
DTSTART:20221106T090000
END:STANDARD
BEGIN:DAYLIGHT
TZOFFSETFROM:-0800
TZOFFSETTO:-0700
TZNAME:PDT
DTSTART:20230312T100000
END:DAYLIGHT
BEGIN:STANDARD
TZOFFSETFROM:-0700
TZOFFSETTO:-0800
TZNAME:PST
DTSTART:20231105T090000
END:STANDARD
BEGIN:DAYLIGHT
TZOFFSETFROM:-0800
TZOFFSETTO:-0700
TZNAME:PDT
DTSTART:20240310T100000
END:DAYLIGHT
BEGIN:STANDARD
TZOFFSETFROM:-0700
TZOFFSETTO:-0800
TZNAME:PST
DTSTART:20241103T090000
END:STANDARD
END:VTIMEZONE
BEGIN:VEVENT
DTSTART;VALUE=DATE:20230810
DTEND;VALUE=DATE:20230811
DTSTAMP:20260423T192431
CREATED:20230727T173330Z
LAST-MODIFIED:20230727T173330Z
UID:10000320-1691625600-1691711999@norcalsistercities.org
SUMMARY:San Mateo Sister City Association: Dine Out Fundraiser
DESCRIPTION:Support the Toyonaka Baseball team on their trip to Japan this fall!\n28% of sales will be donated to the San Mateo Sister City Association \nWhen\n\nThursday\, August 10\, 2023\nPlace your order for pickup or delivery on Thursday\, August 10!\n\nWhere\n\nAvailable at Panda Express locations nationwide\nwww.pandaexpress.com\n\nHow\n\nOnline orders only\nApply code 916108 in the Fundraiser Code box during online checkout at www.pandaexpress.com or via App\n\nYour Local Panda Express
URL:https://norcalsistercities.org/events/san-mateo-sister-city-association-dine-out-fundraiser/
LOCATION:Your Local Panda Express\, United States
ATTACH;FMTTYPE=image/jpeg:https://norcalsistercities.org/wp-content/uploads/2023/07/San-Mateo-Sister-Cities-Panda-Express-fundraiser.jpg
ORGANIZER;CN="San Mateo Sister City Association":MAILTO:smsistercity@gmail.com
END:VEVENT
END:VCALENDAR