BEGIN:VCALENDAR
VERSION:2.0
PRODID:-//Northern California Chapter of Sister Cities International - ECPv6.15.20//NONSGML v1.0//EN
CALSCALE:GREGORIAN
METHOD:PUBLISH
X-ORIGINAL-URL:https://norcalsistercities.org
X-WR-CALDESC:Events for Northern California Chapter of Sister Cities International
REFRESH-INTERVAL;VALUE=DURATION:PT1H
X-Robots-Tag:noindex
X-PUBLISHED-TTL:PT1H
BEGIN:VTIMEZONE
TZID:America/Los_Angeles
BEGIN:DAYLIGHT
TZOFFSETFROM:-0800
TZOFFSETTO:-0700
TZNAME:PDT
DTSTART:20260308T100000
END:DAYLIGHT
BEGIN:STANDARD
TZOFFSETFROM:-0700
TZOFFSETTO:-0800
TZNAME:PST
DTSTART:20261101T090000
END:STANDARD
BEGIN:DAYLIGHT
TZOFFSETFROM:-0800
TZOFFSETTO:-0700
TZNAME:PDT
DTSTART:20270314T100000
END:DAYLIGHT
BEGIN:STANDARD
TZOFFSETFROM:-0700
TZOFFSETTO:-0800
TZNAME:PST
DTSTART:20271107T090000
END:STANDARD
BEGIN:DAYLIGHT
TZOFFSETFROM:-0800
TZOFFSETTO:-0700
TZNAME:PDT
DTSTART:20280312T100000
END:DAYLIGHT
BEGIN:STANDARD
TZOFFSETFROM:-0700
TZOFFSETTO:-0800
TZNAME:PST
DTSTART:20281105T090000
END:STANDARD
BEGIN:DAYLIGHT
TZOFFSETFROM:-0800
TZOFFSETTO:-0700
TZNAME:PDT
DTSTART:20290311T100000
END:DAYLIGHT
BEGIN:STANDARD
TZOFFSETFROM:-0700
TZOFFSETTO:-0800
TZNAME:PST
DTSTART:20291104T090000
END:STANDARD
END:VTIMEZONE
BEGIN:VEVENT
DTSTART;TZID=America/Los_Angeles:20270921T190000
DTEND;TZID=America/Los_Angeles:20270921T210000
DTSTAMP:20260423T140540
CREATED:20230729T014437Z
LAST-MODIFIED:20230729T014437Z
UID:10000370-1821553200-1821560400@norcalsistercities.org
SUMMARY:Oakland-Fukuoka Sister City Association general meeting
DESCRIPTION:General meetings are typically held on the third Tuesday of the month. All are welcome to attend! \nTo receive the Zoom meeting link\, email ofsca1962@gmail.com. \nThis is an open meeting using the free Zoom video/audio meeting platform. No subscription is required\, and Zoom is free to download for your desktop or mobile device\, can be used with your device’s built-in microphone/camera\, or can be joined via telephone call (audio only). \nZoom
URL:https://norcalsistercities.org/events/oakland-fukuoka-sister-city-association-general-meeting/2027-09-21/
LOCATION:Zoom
CATEGORIES:Meetings
ATTACH;FMTTYPE=image/jpeg:https://norcalsistercities.org/wp-content/uploads/2023/07/Oakland-Fukuoka-Sister-City-Association-logo.jpg
ORGANIZER;CN="Oakland-Fukuoka Sister City Association":MAILTO:ofsca1962@gmail.com
END:VEVENT
BEGIN:VEVENT
DTSTART;TZID=America/Los_Angeles:20271019T190000
DTEND;TZID=America/Los_Angeles:20271019T210000
DTSTAMP:20260423T140540
CREATED:20230729T014437Z
LAST-MODIFIED:20230729T014437Z
UID:10000371-1823972400-1823979600@norcalsistercities.org
SUMMARY:Oakland-Fukuoka Sister City Association general meeting
DESCRIPTION:General meetings are typically held on the third Tuesday of the month. All are welcome to attend! \nTo receive the Zoom meeting link\, email ofsca1962@gmail.com. \nThis is an open meeting using the free Zoom video/audio meeting platform. No subscription is required\, and Zoom is free to download for your desktop or mobile device\, can be used with your device’s built-in microphone/camera\, or can be joined via telephone call (audio only). \nZoom
URL:https://norcalsistercities.org/events/oakland-fukuoka-sister-city-association-general-meeting/2027-10-19/
LOCATION:Zoom
CATEGORIES:Meetings
ATTACH;FMTTYPE=image/jpeg:https://norcalsistercities.org/wp-content/uploads/2023/07/Oakland-Fukuoka-Sister-City-Association-logo.jpg
ORGANIZER;CN="Oakland-Fukuoka Sister City Association":MAILTO:ofsca1962@gmail.com
END:VEVENT
BEGIN:VEVENT
DTSTART;TZID=America/Los_Angeles:20271116T190000
DTEND;TZID=America/Los_Angeles:20271116T210000
DTSTAMP:20260423T140540
CREATED:20230729T014437Z
LAST-MODIFIED:20230729T014437Z
UID:10000372-1826391600-1826398800@norcalsistercities.org
SUMMARY:Oakland-Fukuoka Sister City Association general meeting
DESCRIPTION:General meetings are typically held on the third Tuesday of the month. All are welcome to attend! \nTo receive the Zoom meeting link\, email ofsca1962@gmail.com. \nThis is an open meeting using the free Zoom video/audio meeting platform. No subscription is required\, and Zoom is free to download for your desktop or mobile device\, can be used with your device’s built-in microphone/camera\, or can be joined via telephone call (audio only). \nZoom
URL:https://norcalsistercities.org/events/oakland-fukuoka-sister-city-association-general-meeting/2027-11-16/
LOCATION:Zoom
CATEGORIES:Meetings
ATTACH;FMTTYPE=image/jpeg:https://norcalsistercities.org/wp-content/uploads/2023/07/Oakland-Fukuoka-Sister-City-Association-logo.jpg
ORGANIZER;CN="Oakland-Fukuoka Sister City Association":MAILTO:ofsca1962@gmail.com
END:VEVENT
BEGIN:VEVENT
DTSTART;TZID=America/Los_Angeles:20271221T190000
DTEND;TZID=America/Los_Angeles:20271221T210000
DTSTAMP:20260423T140540
CREATED:20230729T014437Z
LAST-MODIFIED:20230729T014437Z
UID:10000373-1829415600-1829422800@norcalsistercities.org
SUMMARY:Oakland-Fukuoka Sister City Association general meeting
DESCRIPTION:General meetings are typically held on the third Tuesday of the month. All are welcome to attend! \nTo receive the Zoom meeting link\, email ofsca1962@gmail.com. \nThis is an open meeting using the free Zoom video/audio meeting platform. No subscription is required\, and Zoom is free to download for your desktop or mobile device\, can be used with your device’s built-in microphone/camera\, or can be joined via telephone call (audio only). \nZoom
URL:https://norcalsistercities.org/events/oakland-fukuoka-sister-city-association-general-meeting/2027-12-21/
LOCATION:Zoom
CATEGORIES:Meetings
ATTACH;FMTTYPE=image/jpeg:https://norcalsistercities.org/wp-content/uploads/2023/07/Oakland-Fukuoka-Sister-City-Association-logo.jpg
ORGANIZER;CN="Oakland-Fukuoka Sister City Association":MAILTO:ofsca1962@gmail.com
END:VEVENT
BEGIN:VEVENT
DTSTART;TZID=America/Los_Angeles:20280118T190000
DTEND;TZID=America/Los_Angeles:20280118T210000
DTSTAMP:20260423T140540
CREATED:20230729T014437Z
LAST-MODIFIED:20230729T014437Z
UID:10000374-1831834800-1831842000@norcalsistercities.org
SUMMARY:Oakland-Fukuoka Sister City Association general meeting
DESCRIPTION:General meetings are typically held on the third Tuesday of the month. All are welcome to attend! \nTo receive the Zoom meeting link\, email ofsca1962@gmail.com. \nThis is an open meeting using the free Zoom video/audio meeting platform. No subscription is required\, and Zoom is free to download for your desktop or mobile device\, can be used with your device’s built-in microphone/camera\, or can be joined via telephone call (audio only). \nZoom
URL:https://norcalsistercities.org/events/oakland-fukuoka-sister-city-association-general-meeting/2028-01-18/
LOCATION:Zoom
CATEGORIES:Meetings
ATTACH;FMTTYPE=image/jpeg:https://norcalsistercities.org/wp-content/uploads/2023/07/Oakland-Fukuoka-Sister-City-Association-logo.jpg
ORGANIZER;CN="Oakland-Fukuoka Sister City Association":MAILTO:ofsca1962@gmail.com
END:VEVENT
BEGIN:VEVENT
DTSTART;TZID=America/Los_Angeles:20280215T190000
DTEND;TZID=America/Los_Angeles:20280215T210000
DTSTAMP:20260423T140540
CREATED:20230729T014437Z
LAST-MODIFIED:20230729T014437Z
UID:10000375-1834254000-1834261200@norcalsistercities.org
SUMMARY:Oakland-Fukuoka Sister City Association general meeting
DESCRIPTION:General meetings are typically held on the third Tuesday of the month. All are welcome to attend! \nTo receive the Zoom meeting link\, email ofsca1962@gmail.com. \nThis is an open meeting using the free Zoom video/audio meeting platform. No subscription is required\, and Zoom is free to download for your desktop or mobile device\, can be used with your device’s built-in microphone/camera\, or can be joined via telephone call (audio only). \nZoom
URL:https://norcalsistercities.org/events/oakland-fukuoka-sister-city-association-general-meeting/2028-02-15/
LOCATION:Zoom
CATEGORIES:Meetings
ATTACH;FMTTYPE=image/jpeg:https://norcalsistercities.org/wp-content/uploads/2023/07/Oakland-Fukuoka-Sister-City-Association-logo.jpg
ORGANIZER;CN="Oakland-Fukuoka Sister City Association":MAILTO:ofsca1962@gmail.com
END:VEVENT
BEGIN:VEVENT
DTSTART;TZID=America/Los_Angeles:20280321T190000
DTEND;TZID=America/Los_Angeles:20280321T210000
DTSTAMP:20260423T140540
CREATED:20230729T014437Z
LAST-MODIFIED:20230729T014437Z
UID:10000376-1837278000-1837285200@norcalsistercities.org
SUMMARY:Oakland-Fukuoka Sister City Association general meeting
DESCRIPTION:General meetings are typically held on the third Tuesday of the month. All are welcome to attend! \nTo receive the Zoom meeting link\, email ofsca1962@gmail.com. \nThis is an open meeting using the free Zoom video/audio meeting platform. No subscription is required\, and Zoom is free to download for your desktop or mobile device\, can be used with your device’s built-in microphone/camera\, or can be joined via telephone call (audio only). \nZoom
URL:https://norcalsistercities.org/events/oakland-fukuoka-sister-city-association-general-meeting/2028-03-21/
LOCATION:Zoom
CATEGORIES:Meetings
ATTACH;FMTTYPE=image/jpeg:https://norcalsistercities.org/wp-content/uploads/2023/07/Oakland-Fukuoka-Sister-City-Association-logo.jpg
ORGANIZER;CN="Oakland-Fukuoka Sister City Association":MAILTO:ofsca1962@gmail.com
END:VEVENT
BEGIN:VEVENT
DTSTART;TZID=America/Los_Angeles:20280418T190000
DTEND;TZID=America/Los_Angeles:20280418T210000
DTSTAMP:20260423T140540
CREATED:20230729T014437Z
LAST-MODIFIED:20230729T014437Z
UID:10000377-1839697200-1839704400@norcalsistercities.org
SUMMARY:Oakland-Fukuoka Sister City Association general meeting
DESCRIPTION:General meetings are typically held on the third Tuesday of the month. All are welcome to attend! \nTo receive the Zoom meeting link\, email ofsca1962@gmail.com. \nThis is an open meeting using the free Zoom video/audio meeting platform. No subscription is required\, and Zoom is free to download for your desktop or mobile device\, can be used with your device’s built-in microphone/camera\, or can be joined via telephone call (audio only). \nZoom
URL:https://norcalsistercities.org/events/oakland-fukuoka-sister-city-association-general-meeting/2028-04-18/
LOCATION:Zoom
CATEGORIES:Meetings
ATTACH;FMTTYPE=image/jpeg:https://norcalsistercities.org/wp-content/uploads/2023/07/Oakland-Fukuoka-Sister-City-Association-logo.jpg
ORGANIZER;CN="Oakland-Fukuoka Sister City Association":MAILTO:ofsca1962@gmail.com
END:VEVENT
BEGIN:VEVENT
DTSTART;TZID=America/Los_Angeles:20280516T190000
DTEND;TZID=America/Los_Angeles:20280516T210000
DTSTAMP:20260423T140540
CREATED:20230729T014437Z
LAST-MODIFIED:20230729T014437Z
UID:10000378-1842116400-1842123600@norcalsistercities.org
SUMMARY:Oakland-Fukuoka Sister City Association general meeting
DESCRIPTION:General meetings are typically held on the third Tuesday of the month. All are welcome to attend! \nTo receive the Zoom meeting link\, email ofsca1962@gmail.com. \nThis is an open meeting using the free Zoom video/audio meeting platform. No subscription is required\, and Zoom is free to download for your desktop or mobile device\, can be used with your device’s built-in microphone/camera\, or can be joined via telephone call (audio only). \nZoom
URL:https://norcalsistercities.org/events/oakland-fukuoka-sister-city-association-general-meeting/2028-05-16/
LOCATION:Zoom
CATEGORIES:Meetings
ATTACH;FMTTYPE=image/jpeg:https://norcalsistercities.org/wp-content/uploads/2023/07/Oakland-Fukuoka-Sister-City-Association-logo.jpg
ORGANIZER;CN="Oakland-Fukuoka Sister City Association":MAILTO:ofsca1962@gmail.com
END:VEVENT
BEGIN:VEVENT
DTSTART;TZID=America/Los_Angeles:20280620T190000
DTEND;TZID=America/Los_Angeles:20280620T210000
DTSTAMP:20260423T140540
CREATED:20230729T014437Z
LAST-MODIFIED:20230729T014437Z
UID:10000379-1845140400-1845147600@norcalsistercities.org
SUMMARY:Oakland-Fukuoka Sister City Association general meeting
DESCRIPTION:General meetings are typically held on the third Tuesday of the month. All are welcome to attend! \nTo receive the Zoom meeting link\, email ofsca1962@gmail.com. \nThis is an open meeting using the free Zoom video/audio meeting platform. No subscription is required\, and Zoom is free to download for your desktop or mobile device\, can be used with your device’s built-in microphone/camera\, or can be joined via telephone call (audio only). \nZoom
URL:https://norcalsistercities.org/events/oakland-fukuoka-sister-city-association-general-meeting/2028-06-20/
LOCATION:Zoom
CATEGORIES:Meetings
ATTACH;FMTTYPE=image/jpeg:https://norcalsistercities.org/wp-content/uploads/2023/07/Oakland-Fukuoka-Sister-City-Association-logo.jpg
ORGANIZER;CN="Oakland-Fukuoka Sister City Association":MAILTO:ofsca1962@gmail.com
END:VEVENT
BEGIN:VEVENT
DTSTART;TZID=America/Los_Angeles:20280718T190000
DTEND;TZID=America/Los_Angeles:20280718T210000
DTSTAMP:20260423T140540
CREATED:20230729T014437Z
LAST-MODIFIED:20230729T014437Z
UID:10000380-1847559600-1847566800@norcalsistercities.org
SUMMARY:Oakland-Fukuoka Sister City Association general meeting
DESCRIPTION:General meetings are typically held on the third Tuesday of the month. All are welcome to attend! \nTo receive the Zoom meeting link\, email ofsca1962@gmail.com. \nThis is an open meeting using the free Zoom video/audio meeting platform. No subscription is required\, and Zoom is free to download for your desktop or mobile device\, can be used with your device’s built-in microphone/camera\, or can be joined via telephone call (audio only). \nZoom
URL:https://norcalsistercities.org/events/oakland-fukuoka-sister-city-association-general-meeting/2028-07-18/
LOCATION:Zoom
CATEGORIES:Meetings
ATTACH;FMTTYPE=image/jpeg:https://norcalsistercities.org/wp-content/uploads/2023/07/Oakland-Fukuoka-Sister-City-Association-logo.jpg
ORGANIZER;CN="Oakland-Fukuoka Sister City Association":MAILTO:ofsca1962@gmail.com
END:VEVENT
END:VCALENDAR